
BEGIN:VCALENDAR
VERSION:2.0
PRODID:-//The Chesspedia - ECPv5.1.2.1//NONSGML v1.0//EN
CALSCALE:GREGORIAN
METHOD:PUBLISH
X-WR-CALNAME:The Chesspedia
X-ORIGINAL-URL:https://thechesspedia.net
X-WR-CALDESC:Events for The Chesspedia
BEGIN:VTIMEZONE
TZID:UTC
BEGIN:STANDARD
TZOFFSETFROM:+0000
TZOFFSETTO:+0000
TZNAME:UTC
DTSTART:20160101T000000
END:STANDARD
END:VTIMEZONE
BEGIN:VEVENT
DTSTART;VALUE=DATE:20160627
DTEND;VALUE=DATE:20160628
DTSTAMP:20260421T232335
CREATED:20170624T131136Z
LAST-MODIFIED:20170625T160624Z
UID:19990-1466985600-1467071999@thechesspedia.net
SUMMARY:June 27
DESCRIPTION:QUOTE OF THE DAY \n‘We may all be equal in the eyes of the Lord\, but in my eyes you are certainly not equal to me.’- Robert Fischer\nBIRTHS \nLarry Christiansen (1956)\, a U.S. Grandmaster who was the U.S. champion in 1980\, 1983\, and 2002.\nSabino Brunello (1989)\, an Italian Grandmaster and author who is a member of the Italian national team since 2006.\nOleiny Linares Napoles (1983)\, a Cuban Woman Grandmaster who was Cuban Women’s Champion in 2010 and 2016.\nDas Debashis (1993)\, an Indian Grandmaster.\nAxel Smith (1986)\, a Swedish Grandmaster. \nCHESS EVENTS \n1974 Fischer sent a telegram to President Euwe: “Since the FIDE Congress did not accept my proposals\, which were not negotiable\, FIDE thus declared itself against my participation in the World title match in 1975. Therefore\, I renounce the title of World Chess Champion of FIDE”. \nWORLD EVENTS \n1806 British forces take Buenos Aires during the first British invasions of the River Plate.\n1905 During the Russo-Japanese War\, sailors start a mutiny aboard the Russian battleship Potemkin.\n1973 The President of Uruguay Juan María Bordaberry dissolves Parliament and establishes a dictatorship.\n1977 France grants independence to Djibouti.\n2007 Tony Blair resigns as British Prime Minister\, a position he had held since 1997.\n2008 In a highly scrutinized the president of Zimbabwe Robert Mugabe is re-elected. \nGAME OF THE DAY \n\n\n \n\n\n	\n				[Event "Bad Saarow"]\n[Site "Bad Saarow"]\n[Date "1937.??.??"]\n[Round "8"]\n[White "Richter\, Kurt Paul"]\n[Black "Engels\, Ludwig"]\n[Result "1-0"]\n[ECO "B73"]\n[PlyCount "53"]\n[EventDate "1937.??.??"]\n[EventType "tourn"]\n[EventRounds "9"]\n[EventCountry "GER"]\n\n1. e4 c5 2. Nf3 d6 3. Be2 Nc6 4. d4 cxd4 5. Nxd4 Nf6 6. Nc3 g6 7. O-O Bg7 8.\nBe3 O-O 9. Qd2 Ng4 10. Bxg4 Bxg4 11. f4 Bd7 12. Rad1 Rc8 13. Qf2 Na5 14. f5 Nc4\n15. Nd5 Nxe3 16. Qxe3 Re8 17. Qf2 e6 18. Ne3 Kh8 19. f6 Bf8 20. e5 dxe5 21. Nf3\nQc7 22. Ng5 Kg8 23. Nxh7 Kxh7 24. Qh4+ Kg8 25. Rf3 Bg7 26. Rh3 Kf8 27. Qh8+ 1-0\n				\n			You must activate JavaScript to enhance chess game visualization.		\n	\n	\n	\n		jQuery(document).ready(function($) {\n						$.chessgame.navigationButtonClass  = 'rpbchessboard-jQuery-enableSmoothness';\n			$.chessgame.navigationFrameClass   = 'wp-dialog';\n			$.chessgame.navigationFrameOptions = {"squareSize":32\,"showCoordinates":true\,"colorset":"original"\,"pieceset":"cburnett"\,"animationSpeed":200\,"showMoveArrow":true};\n			var selector = '#' + "rpbchessboard-69e806f70b53f-1" + ' .rpbchessboard-chessgameAnchor';\n			$(selector).removeClass('rpbchessboard-chessgameAnchor').chessgame({"pgn":"[Event \"Bad Saarow\"]\r\n[Site \"Bad Saarow\"]\r\n[Date \"1937.??.??\"]\r\n[Round \"8\"]\r\n[White \"Richter\, Kurt Paul\"]\r\n[Black \"Engels\, Ludwig\"]\r\n[Result \"1-0\"]\r\n[ECO \"B73\"]\r\n[PlyCount \"53\"]\r\n[EventDate \"1937.??.??\"]\r\n[EventType \"tourn\"]\r\n[EventRounds \"9\"]\r\n[EventCountry \"GER\"]\r\n\r\n1. e4 c5 2. Nf3 d6 3. Be2 Nc6 4. d4 cxd4 5. Nxd4 Nf6 6. Nc3 g6 7. O-O Bg7 8.\r\nBe3 O-O 9. Qd2 Ng4 10. Bxg4 Bxg4 11. f4 Bd7 12. Rad1 Rc8 13. Qf2 Na5 14. f5 Nc4\r\n15. Nd5 Nxe3 16. Qxe3 Re8 17. Qf2 e6 18. Ne3 Kh8 19. f6 Bf8 20. e5 dxe5 21. Nf3\r\nQc7 22. Ng5 Kg8 23. Nxh7 Kxh7 24. Qh4+ Kg8 25. Rf3 Bg7 26. Rh3 Kf8 27. Qh8+ 1-0"\,"pieceSymbols":"native"\,"navigationBoard":"above"\,"showFlipButton":true\,"showDownloadButton":true\,"navigationBoardOptions":{"squareSize":32\,"showCoordinates":true\,"colorset":"original"\,"pieceset":"cburnett"\,"animationSpeed":200\,"showMoveArrow":true}\,"diagramOptions":{"squareSize":32\,"showCoordinates":true\,"colorset":"original"\,"pieceset":"cburnett"\,"animationSpeed":200\,"showMoveArrow":true}});\n		});\n	\n\n\n \n\n
URL:https://thechesspedia.net/day/june-27/
CATEGORIES:June
ATTACH;FMTTYPE=image/png:https://thechesspedia.net/wp-content/uploads/2016/07/june-27.png
END:VEVENT
END:VCALENDAR