
BEGIN:VCALENDAR
VERSION:2.0
PRODID:-//The Chesspedia - ECPv5.1.2.1//NONSGML v1.0//EN
CALSCALE:GREGORIAN
METHOD:PUBLISH
X-WR-CALNAME:The Chesspedia
X-ORIGINAL-URL:https://thechesspedia.net
X-WR-CALDESC:Events for The Chesspedia
BEGIN:VTIMEZONE
TZID:UTC
BEGIN:STANDARD
TZOFFSETFROM:+0000
TZOFFSETTO:+0000
TZNAME:UTC
DTSTART:20160101T000000
END:STANDARD
END:VTIMEZONE
BEGIN:VEVENT
DTSTART;VALUE=DATE:20160626
DTEND;VALUE=DATE:20160627
DTSTAMP:20260422T020942
CREATED:20170624T131044Z
LAST-MODIFIED:20170625T153833Z
UID:19989-1466899200-1466985599@thechesspedia.net
SUMMARY:June 26
DESCRIPTION:QUOTE OF THE DAY \nParapsychology? That’s a bunch of bananas. Korchnoi believes in that. He is still playing his game with the ghost of Geza Maroczy.- Nathan Divinsky\, 2004\nBIRTHS \nWolfgang Unzicker (21925 – 20.04.2006)\, one of the strongest German Grandmasters from 1945 to about 1970.\nVitali Golod (1971)\, Soviet–Israeli Grandmaster who was Israeli Champion in 2010.\nBeata Zawadzka (1986)\, a Polish Woman Grandmaster.\nZhao Zong-Yuan (1986)\, the best ranked Australian Grandmaster.\nEvgeny Levin (1990)\, a Russian Grandmaster.\nMathias Womacka (1966)\, a German Grandmaster. \nDEATH \n1944 The Women’s World Champion Vera Menchik-Stevenson\, her sister\, and her mother died in Kent from a V1-bombing raid. She was the Women’s World Champion 7 times with the magnificent score of +78-1=4. \nCHESS EVENT \n1962 Tigran Petrosian of USSR won the Candidates Tournament in Curacao \nWORLD EVENTS \n363 Roman Emperor Julian is killed during the retreat from the Sassanid Empire.\n1483 Duke of Gloucester appoints himself King Richard III of England\n1718 Tsarevich Alexei Petrovich of Russia\, Peter the Great’s son\, mysteriously dies after being sentenced to death by his father for plotting against him.\n1843 Hong Kong proclaimed a British Crown Colony\n1879 Ismael Pasha resigns as khedive of Egypt\n1894 Karl Benz of Germany receives US patent for gasoline-driven auto.\n1945 United Nations Charter signed by 50 nations in San Francisco.\n1953 Russian vice-premier/interior minister Lavrentiy Pavlovich Beria arrested.\n1963 US President John F. Kennedy gives his famous “Ich bin ein Berliner”.\n1977 Elvis Presley sings in Indianapolis\, the last performance of his career.\n1992 Denmark upsets German 2-0\, to win European Soccer championship.\n1995 Hamad bin Khalifa al-Thani deposes his father Khalifa bin Hamad al-Thani\, the Emir of Qatar\, in a bloodless coup.\n2016 Iceland’s presidential election is won by history professor Guðni Jóhannesson\n(Source: Onthis day) \nGAME OF THE DAY \n\n\n \n\n\n	\n				[Event "Barmen Masters-A"]\n[Site "Barmen"]\n[Date "1905.08.26"]\n[Round "12"]\n[White "Marshall\, Frank James"]\n[Black "Burn\, Amos"]\n[Result "1-0"]\n[ECO "D52"]\n[PlyCount "67"]\n[EventDate "1905.08.14"]\n[EventType "tourn"]\n[EventRounds "15"]\n[EventCountry "GER"]\n[SourceTitle "HCL"]\n[Source "ChessBase"]\n[SourceDate "1999.07.01"]\n\n1. d4 d5 2. c4 e6 3. Nc3 Nf6 4. Bg5 Nbd7 5. e3 c6 6. Nf3 Qa5 7. Qc2 Ne4 8. cxd5\nexd5 9. Bd3 f5 10. O-O Bd6 11. Rac1 O-O 12. Bh4 g6 13. Nd2 Nxd2 14. Qxd2 Nf6\n15. f3 Qb6 16. Kh1 Bd7 17. Bb1 Rae8 18. Bxf6 Rxf6 19. e4 Bb4 20. a3 Bxc3 21.\nbxc3 fxe4 22. fxe4 Ref8 23. Rxf6 Rxf6 24. h3 dxe4 25. Bxe4 Qa5 26. Rb1 Qxa3 27.\nRxb7 Rf1+ 28. Kh2 Qd6+ 29. g3 Qf6 30. Bg2 Rf2 31. Qe3 Be6 32. Qh6 Bc8 33. Qxh7+\nKf8 34. Rb8 1-0\n				\n			You must activate JavaScript to enhance chess game visualization.		\n	\n	\n	\n		jQuery(document).ready(function($) {\n						$.chessgame.navigationButtonClass  = 'rpbchessboard-jQuery-enableSmoothness';\n			$.chessgame.navigationFrameClass   = 'wp-dialog';\n			$.chessgame.navigationFrameOptions = {"squareSize":32\,"showCoordinates":true\,"colorset":"original"\,"pieceset":"cburnett"\,"animationSpeed":200\,"showMoveArrow":true};\n			var selector = '#' + "rpbchessboard-69e82de6f0079-1" + ' .rpbchessboard-chessgameAnchor';\n			$(selector).removeClass('rpbchessboard-chessgameAnchor').chessgame({"pgn":"[Event \"Barmen Masters-A\"]\r\n[Site \"Barmen\"]\r\n[Date \"1905.08.26\"]\r\n[Round \"12\"]\r\n[White \"Marshall\, Frank James\"]\r\n[Black \"Burn\, Amos\"]\r\n[Result \"1-0\"]\r\n[ECO \"D52\"]\r\n[PlyCount \"67\"]\r\n[EventDate \"1905.08.14\"]\r\n[EventType \"tourn\"]\r\n[EventRounds \"15\"]\r\n[EventCountry \"GER\"]\r\n[SourceTitle \"HCL\"]\r\n[Source \"ChessBase\"]\r\n[SourceDate \"1999.07.01\"]\r\n\r\n1. d4 d5 2. c4 e6 3. Nc3 Nf6 4. Bg5 Nbd7 5. e3 c6 6. Nf3 Qa5 7. Qc2 Ne4 8. cxd5\r\nexd5 9. Bd3 f5 10. O-O Bd6 11. Rac1 O-O 12. Bh4 g6 13. Nd2 Nxd2 14. Qxd2 Nf6\r\n15. f3 Qb6 16. Kh1 Bd7 17. Bb1 Rae8 18. Bxf6 Rxf6 19. e4 Bb4 20. a3 Bxc3 21.\r\nbxc3 fxe4 22. fxe4 Ref8 23. Rxf6 Rxf6 24. h3 dxe4 25. Bxe4 Qa5 26. Rb1 Qxa3 27.\r\nRxb7 Rf1+ 28. Kh2 Qd6+ 29. g3 Qf6 30. Bg2 Rf2 31. Qe3 Be6 32. Qh6 Bc8 33. Qxh7+\r\nKf8 34. Rb8 1-0"\,"pieceSymbols":"native"\,"navigationBoard":"above"\,"showFlipButton":true\,"showDownloadButton":true\,"navigationBoardOptions":{"squareSize":32\,"showCoordinates":true\,"colorset":"original"\,"pieceset":"cburnett"\,"animationSpeed":200\,"showMoveArrow":true}\,"diagramOptions":{"squareSize":32\,"showCoordinates":true\,"colorset":"original"\,"pieceset":"cburnett"\,"animationSpeed":200\,"showMoveArrow":true}});\n		});\n	\n\n\n \n\n
URL:https://thechesspedia.net/day/june-26/
CATEGORIES:June
ATTACH;FMTTYPE=image/png:https://thechesspedia.net/wp-content/uploads/2016/07/june-26.png
END:VEVENT
END:VCALENDAR