
BEGIN:VCALENDAR
VERSION:2.0
PRODID:-//The Chesspedia - ECPv5.1.2.1//NONSGML v1.0//EN
CALSCALE:GREGORIAN
METHOD:PUBLISH
X-WR-CALNAME:The Chesspedia
X-ORIGINAL-URL:https://thechesspedia.net
X-WR-CALDESC:Events for The Chesspedia
BEGIN:VTIMEZONE
TZID:UTC
BEGIN:STANDARD
TZOFFSETFROM:+0000
TZOFFSETTO:+0000
TZNAME:UTC
DTSTART:20160101T000000
END:STANDARD
END:VTIMEZONE
BEGIN:VEVENT
DTSTART;VALUE=DATE:20160625
DTEND;VALUE=DATE:20160626
DTSTAMP:20260422T003800
CREATED:20170623T130921Z
LAST-MODIFIED:20170624T195721Z
UID:19987-1466812800-1466899199@thechesspedia.net
SUMMARY:June 25
DESCRIPTION:QUOTE OF THE DAY \nWith the modern computer age\, there are some new ideas\, but the principles are basically the same… I try not to over-focus on preparation.- Magnus Carlsen\, 2012\nBIRTHS \nAlexander Zlochevskij (1963)\, an Italian Grandmaster and coach born in Russia.\nVladimir Kramnik (1975)\, the best Russian Grandmaster for more than a decade and World Champion in 2000.\nJan Gustafsson (1979)\, a German Grandmaster\, a coach and an author who is a co-founder of Chess24.com.\nAnton Korobov (1985)\, a Ukrainian Grandmaster (2003)\, two-time Ukrainian champion and the 2013 European Blitz Chess Champion.\nKamil Dragun (1995)\, a Polish Grandmaster who won European U14  Championship in 2009 and the U16 World Championship in 2010. \nCHESS EVENT \n1842. England. The first chess column appeared in the Illustrated London News. It will run until 1874. \nWORLD EVENTS \n1658 – Spanish forces fail to retake Jamaica at the Battle of Rio Nuevo during the Anglo-Spanish War.\n1741 – Maria Theresa of Austria is crowned Queen of Hungary. 1910 – Igor Stravinsky’s ballet The Firebird is premiered in Paris.\n1938 – Dr. Douglas Hyde is inaugurated as the first President of Ireland.\n1940 – World War II: France officially surrenders to Germany at 01:35.\n1948 – The Berlin airlift begins.\n1950 – The Korean War begins with the invasion of South Korea by North Korea.\n1975 – Mozambique achieves independence.\n1978 – The rainbow flag representing gay pride is flown for the first time during the San Francisco Gay Freedom Day Parade.\n1981 – Microsoft is restructured to become an incorporated business in its home state of Washington.\n1991 – Slovenia declare their independence by referendum from Yugoslavia.\n1993 – Kim Campbell is sworn in as the first female Prime Minister of Canada.\n(Source: Wikipedia) \nGAME OF THE DAY \n\n\n \n\n\n	\n				[Event "Ostend"]\n[Site "Ostend"]\n[Date "1906.06.25"]\n[Round "?"]\n[White "Janowski\, Dawid Markelowicz"]\n[Black "Salwe\, Georg"]\n[Result "1-0"]\n[ECO "E12"]\n[PlyCount "65"]\n[EventDate "1906.??.??"]\n[EventType "tourn"]\n[EventRounds "17"]\n[EventCountry "BEL"]\n1. d4 d5 2. Nf3 e6 3. c4 Nf6 4. Bg5 Be7 5. e3 O-O 6. Nc3 b6 7. Rc1 Bb7 8. Bd3\nNbd7 9. cxd5 exd5 10. O-O a6 11. Qe2 c5 12. Rfd1 c4 13. Bc2 b5 14. Ne5 Ne4 15.\nNxe4 dxe4 16. Bf4 Nf6 17. f3 Bd6 18. fxe4 Nxe4 19. b3 cxb3 20. Bxb3 Rc8 21.\nRxc8 Qxc8 22. Rf1 Bxe5 23. Bxe5 Qc6 24. d5 Qg6 25. Rf4 f5 26. Qc2 Ng5 27. Rf1\nh6 28. h4 Ne4 29. Qxe4 fxe4 30. d6+ Kh7 31. Rxf8 Qg4 32. Bg8+ Kg6 33. Bf7+ 1-0\n				\n			You must activate JavaScript to enhance chess game visualization.		\n	\n	\n	\n		jQuery(document).ready(function($) {\n						$.chessgame.navigationButtonClass  = 'rpbchessboard-jQuery-enableSmoothness';\n			$.chessgame.navigationFrameClass   = 'wp-dialog';\n			$.chessgame.navigationFrameOptions = {"squareSize":32\,"showCoordinates":true\,"colorset":"original"\,"pieceset":"cburnett"\,"animationSpeed":200\,"showMoveArrow":true};\n			var selector = '#' + "rpbchessboard-69e81868b9011-1" + ' .rpbchessboard-chessgameAnchor';\n			$(selector).removeClass('rpbchessboard-chessgameAnchor').chessgame({"pgn":"[Event \"Ostend\"]\r\n[Site \"Ostend\"]\r\n[Date \"1906.06.25\"]\r\n[Round \"?\"]\r\n[White \"Janowski\, Dawid Markelowicz\"]\r\n[Black \"Salwe\, Georg\"]\r\n[Result \"1-0\"]\r\n[ECO \"E12\"]\r\n[PlyCount \"65\"]\r\n[EventDate \"1906.??.??\"]\r\n[EventType \"tourn\"]\r\n[EventRounds \"17\"]\r\n[EventCountry \"BEL\"]\r\n1. d4 d5 2. Nf3 e6 3. c4 Nf6 4. Bg5 Be7 5. e3 O-O 6. Nc3 b6 7. Rc1 Bb7 8. Bd3\r\nNbd7 9. cxd5 exd5 10. O-O a6 11. Qe2 c5 12. Rfd1 c4 13. Bc2 b5 14. Ne5 Ne4 15.\r\nNxe4 dxe4 16. Bf4 Nf6 17. f3 Bd6 18. fxe4 Nxe4 19. b3 cxb3 20. Bxb3 Rc8 21.\r\nRxc8 Qxc8 22. Rf1 Bxe5 23. Bxe5 Qc6 24. d5 Qg6 25. Rf4 f5 26. Qc2 Ng5 27. Rf1\r\nh6 28. h4 Ne4 29. Qxe4 fxe4 30. d6+ Kh7 31. Rxf8 Qg4 32. Bg8+ Kg6 33. Bf7+ 1-0"\,"pieceSymbols":"native"\,"navigationBoard":"above"\,"showFlipButton":true\,"showDownloadButton":true\,"navigationBoardOptions":{"squareSize":32\,"showCoordinates":true\,"colorset":"original"\,"pieceset":"cburnett"\,"animationSpeed":200\,"showMoveArrow":true}\,"diagramOptions":{"squareSize":32\,"showCoordinates":true\,"colorset":"original"\,"pieceset":"cburnett"\,"animationSpeed":200\,"showMoveArrow":true}});\n		});\n	\n\n\n \n\n
URL:https://thechesspedia.net/day/june-25/
CATEGORIES:June
ATTACH;FMTTYPE=image/png:https://thechesspedia.net/wp-content/uploads/2016/07/june-25.png
END:VEVENT
END:VCALENDAR