
BEGIN:VCALENDAR
VERSION:2.0
PRODID:-//The Chesspedia - ECPv5.1.2.1//NONSGML v1.0//EN
CALSCALE:GREGORIAN
METHOD:PUBLISH
X-WR-CALNAME:The Chesspedia
X-ORIGINAL-URL:https://thechesspedia.net
X-WR-CALDESC:Events for The Chesspedia
BEGIN:VTIMEZONE
TZID:UTC
BEGIN:STANDARD
TZOFFSETFROM:+0000
TZOFFSETTO:+0000
TZNAME:UTC
DTSTART:20160101T000000
END:STANDARD
END:VTIMEZONE
BEGIN:VEVENT
DTSTART;VALUE=DATE:20160621
DTEND;VALUE=DATE:20160622
DTSTAMP:20260426T011226
CREATED:20170620T130429Z
LAST-MODIFIED:20170621T071337Z
UID:19983-1466467200-1466553599@thechesspedia.net
SUMMARY:June 21
DESCRIPTION:QUOTE OF THE DAY \nAccording to my experiences\, in key events\, normally the games’ quality is not as high as other major events. Most brilliant games are not found in championships at present.- Garry Kasparov\, 2014\nBIRTHS \nAdolf Karl Schliemann (1817-1872)\, a German Master.\nVladimir Simagin (1919-25.09.1968)\, a Soviet Grandmaster and coach of Smyslov.\nYuri Kruppa (1964)\, a Ukrainian Grandmaster who was Ukrainian champion in 1994.\nValeri Neverov (1964)\, a Ukrainian Grandmaster who was Ukrainian champion in 1983\, 1985\, 1988 and 1996.\nHerbert Grasemann\, (21.12.1917-1983)\, a German chess composer\, died in Berlin\, Germany.\nLukasz Cyborowski (1980)\, a Polish Grandmaster who was Polish Junior Champion in 1998.\nAlejandro Ramirez (1988)\, a U.S. Grandmaster and chess journalist born in Costa Rica.\nKristian Szabo (1989)\, a Hungarian Grandmaster and coach.\nYusnel Bacallao (1988)\, a Cuban Grandmaster. \nCHESS EVENTS \n1933 FIDE GA approved Scotland and Ireland as full members. \nWORLD EVENTS \n1377 Edward III (b.1312)\, King of England (1322-1377)\, died. Richard II\, who was still a child\, succeeded his father.\n1596 Mikhail Feodorovich Romanov (d.1645)\, 1st Romanov Tsar of Russia (1613-45)\, was born.\n1791 King Louis XVI and the French royal family were arrested in Varennes.\n1898 Guam became a US territory.\n1907 American newspaper publisher E.W. Scripps founded the United Press Associations\, a forerunner of United Press International.\n1908 Mulai Hafid again proclaimed himself the true sultan of Morocco.\n1932 Heavyweight Max Schmeling lost a title fight by decision to Jack Sharkey\n1945 Japanese forces on Okinawa surrendered to the Americans.\n1963 Cardinal Giovanni Battista Montini was chosen to succeed the late Pope John XXIII as head of the Roman Catholic Church. The new pope took the name Paul VI.\n1963 France announced it would withdraw from the NATO fleet in the North Atlantic.\n(Source: Wikipedia) \nGAME OF THE DAY \n\n\n \n\n\n	\n				[Event "Ostend"]\n[Site "Ostend"]\n[Date "1906.06.21"]\n[Round "?"]\n[White "Duras\, Oldrich"]\n[Black "Teichmann\, Richard"]\n[Result "1-0"]\n[ECO "C87"]\n[PlyCount "127"]\n[EventDate "1906.??.??"]\n[EventType "tourn"]\n[EventRounds "17"]\n[EventCountry "BEL"]\n[SourceTitle "EXT 2000"]\n[Source "ChessBase"]\n[SourceDate "1999.11.16"]\n\n1. e4 e5 2. Nf3 Nc6 3. Bb5 a6 4. Ba4 Nf6 5. O-O Be7 6. Re1 d6 7. c3 O-O 8. h3\nh6 9. d4 Bd7 10. Nbd2 Re8 11. Nf1 Bf8 12. Ng3 g6 13. Bb3 Qe7 14. Be3 Bg7 15. d5\nNd8 16. c4 b6 17. Bc2 a5 18. Nh2 Kh7 19. Rb1 Ng8 20. f4 exf4 21. Bxf4 Be5 22.\nBxe5 Qxe5 23. Ne2 Qg7 24. Nf3 Nb7 25. Ng3 Nc5 26. Qd2 Re7 27. Qf2 Rae8 28. Re2\nKh8 29. b3 Nf6 30. Rbe1 Nh7 31. Bb1 Ng5 32. Nxg5 hxg5 33. Qf3 Qd4+ 34. Kh2 Kg7\n35. Rf2 Qe5 36. Ref1 Rh8 37. Kg1 Rh4 38. Qe3 Rh6 39. a3 g4 40. hxg4 Bxg4 41.\nRf4 Bd7 42. Qf2 Be8 43. Rf5 Qc3 44. e5 dxe5 45. Rg5 Kh7 46. Nf5 gxf5 47. Qxf5+\nRg6 48. Qf6 Qd4+ 49. Rf2 Qd1+ 50. Kh2 e4 51. Qxe7 Rh6+ 52. Kg3 Qe1 53. Qxe8\nQe3+ 54. Kg4 f5+ 55. Rgxf5 Rg6+ 56. Qxg6+ Kxg6 57. Rf6+ Kg7 58. Rf7+ Kg8 59.\nRf8+ Kg7 60. R2f7+ Kg6 61. Rf6+ Kg7 62. R8f7+ Kg8 63. Kh5 Qe2+ 64. g4 1-0\n				\n			You must activate JavaScript to enhance chess game visualization.		\n	\n	\n	\n		jQuery(document).ready(function($) {\n						$.chessgame.navigationButtonClass  = 'rpbchessboard-jQuery-enableSmoothness';\n			$.chessgame.navigationFrameClass   = 'wp-dialog';\n			$.chessgame.navigationFrameOptions = {"squareSize":32\,"showCoordinates":true\,"colorset":"original"\,"pieceset":"cburnett"\,"animationSpeed":200\,"showMoveArrow":true};\n			var selector = '#' + "rpbchessboard-69ed667ae42e6-1" + ' .rpbchessboard-chessgameAnchor';\n			$(selector).removeClass('rpbchessboard-chessgameAnchor').chessgame({"pgn":"[Event \"Ostend\"]\r\n[Site \"Ostend\"]\r\n[Date \"1906.06.21\"]\r\n[Round \"?\"]\r\n[White \"Duras\, Oldrich\"]\r\n[Black \"Teichmann\, Richard\"]\r\n[Result \"1-0\"]\r\n[ECO \"C87\"]\r\n[PlyCount \"127\"]\r\n[EventDate \"1906.??.??\"]\r\n[EventType \"tourn\"]\r\n[EventRounds \"17\"]\r\n[EventCountry \"BEL\"]\r\n[SourceTitle \"EXT 2000\"]\r\n[Source \"ChessBase\"]\r\n[SourceDate \"1999.11.16\"]\r\n\r\n1. e4 e5 2. Nf3 Nc6 3. Bb5 a6 4. Ba4 Nf6 5. O-O Be7 6. Re1 d6 7. c3 O-O 8. h3\r\nh6 9. d4 Bd7 10. Nbd2 Re8 11. Nf1 Bf8 12. Ng3 g6 13. Bb3 Qe7 14. Be3 Bg7 15. d5\r\nNd8 16. c4 b6 17. Bc2 a5 18. Nh2 Kh7 19. Rb1 Ng8 20. f4 exf4 21. Bxf4 Be5 22.\r\nBxe5 Qxe5 23. Ne2 Qg7 24. Nf3 Nb7 25. Ng3 Nc5 26. Qd2 Re7 27. Qf2 Rae8 28. Re2\r\nKh8 29. b3 Nf6 30. Rbe1 Nh7 31. Bb1 Ng5 32. Nxg5 hxg5 33. Qf3 Qd4+ 34. Kh2 Kg7\r\n35. Rf2 Qe5 36. Ref1 Rh8 37. Kg1 Rh4 38. Qe3 Rh6 39. a3 g4 40. hxg4 Bxg4 41.\r\nRf4 Bd7 42. Qf2 Be8 43. Rf5 Qc3 44. e5 dxe5 45. Rg5 Kh7 46. Nf5 gxf5 47. Qxf5+\r\nRg6 48. Qf6 Qd4+ 49. Rf2 Qd1+ 50. Kh2 e4 51. Qxe7 Rh6+ 52. Kg3 Qe1 53. Qxe8\r\nQe3+ 54. Kg4 f5+ 55. Rgxf5 Rg6+ 56. Qxg6+ Kxg6 57. Rf6+ Kg7 58. Rf7+ Kg8 59.\r\nRf8+ Kg7 60. R2f7+ Kg6 61. Rf6+ Kg7 62. R8f7+ Kg8 63. Kh5 Qe2+ 64. g4 1-0"\,"pieceSymbols":"native"\,"navigationBoard":"above"\,"showFlipButton":true\,"showDownloadButton":true\,"navigationBoardOptions":{"squareSize":32\,"showCoordinates":true\,"colorset":"original"\,"pieceset":"cburnett"\,"animationSpeed":200\,"showMoveArrow":true}\,"diagramOptions":{"squareSize":32\,"showCoordinates":true\,"colorset":"original"\,"pieceset":"cburnett"\,"animationSpeed":200\,"showMoveArrow":true}});\n		});\n	\n\n\n \n\n
URL:https://thechesspedia.net/day/june-21/
CATEGORIES:June
ATTACH;FMTTYPE=image/png:https://thechesspedia.net/wp-content/uploads/2016/07/june-21.png
END:VEVENT
END:VCALENDAR