
BEGIN:VCALENDAR
VERSION:2.0
PRODID:-//The Chesspedia - ECPv5.1.2.1//NONSGML v1.0//EN
CALSCALE:GREGORIAN
METHOD:PUBLISH
X-WR-CALNAME:The Chesspedia
X-ORIGINAL-URL:https://thechesspedia.net
X-WR-CALDESC:Events for The Chesspedia
BEGIN:VTIMEZONE
TZID:UTC
BEGIN:STANDARD
TZOFFSETFROM:+0000
TZOFFSETTO:+0000
TZNAME:UTC
DTSTART:20160101T000000
END:STANDARD
END:VTIMEZONE
BEGIN:VEVENT
DTSTART;VALUE=DATE:20160615
DTEND;VALUE=DATE:20160616
DTSTAMP:20260422T003734
CREATED:20160712T125642Z
LAST-MODIFIED:20161028T084021Z
UID:19976-1465948800-1466035199@thechesspedia.net
SUMMARY:June 15
DESCRIPTION:QUOTE OF THE DAY \nOne of the most important things in chess is pattern recognition: the ability to recognise typical themes and images on the board\, characteristics of a position and their consequences.- Magnus Carlsen\, 2010\n
URL:https://thechesspedia.net/day/june-15/
CATEGORIES:June
ATTACH;FMTTYPE=image/png:https://thechesspedia.net/wp-content/uploads/2016/07/june-15.png
END:VEVENT
END:VCALENDAR