
BEGIN:VCALENDAR
VERSION:2.0
PRODID:-//The Chesspedia - ECPv5.1.2.1//NONSGML v1.0//EN
CALSCALE:GREGORIAN
METHOD:PUBLISH
X-WR-CALNAME:The Chesspedia
X-ORIGINAL-URL:https://thechesspedia.net
X-WR-CALDESC:Events for The Chesspedia
BEGIN:VTIMEZONE
TZID:UTC
BEGIN:STANDARD
TZOFFSETFROM:+0000
TZOFFSETTO:+0000
TZNAME:UTC
DTSTART:20160101T000000
END:STANDARD
END:VTIMEZONE
BEGIN:VEVENT
DTSTART;VALUE=DATE:20160614
DTEND;VALUE=DATE:20160615
DTSTAMP:20260422T022450
CREATED:20160712T125446Z
LAST-MODIFIED:20161028T083949Z
UID:19975-1465862400-1465948799@thechesspedia.net
SUMMARY:June 14
DESCRIPTION:QUOTE OF THE DAY \nIn the 70s Karpov was a darling of the Politburo or the political elite. So Kramnik is now. Just like the old days. But at least Karpov\, unlike him\, played in and won qualifying matches.- Veselin Topalov\n
URL:https://thechesspedia.net/day/june-14/
CATEGORIES:June
ATTACH;FMTTYPE=image/png:https://thechesspedia.net/wp-content/uploads/2016/07/june-14.png
END:VEVENT
END:VCALENDAR