
BEGIN:VCALENDAR
VERSION:2.0
PRODID:-//The Chesspedia - ECPv5.1.2.1//NONSGML v1.0//EN
CALSCALE:GREGORIAN
METHOD:PUBLISH
X-WR-CALNAME:The Chesspedia
X-ORIGINAL-URL:https://thechesspedia.net
X-WR-CALDESC:Events for The Chesspedia
BEGIN:VTIMEZONE
TZID:UTC
BEGIN:STANDARD
TZOFFSETFROM:+0000
TZOFFSETTO:+0000
TZNAME:UTC
DTSTART:20160101T000000
END:STANDARD
END:VTIMEZONE
BEGIN:VEVENT
DTSTART;VALUE=DATE:20160613
DTEND;VALUE=DATE:20160614
DTSTAMP:20260421T231556
CREATED:20170611T125304Z
LAST-MODIFIED:20170612T133646Z
UID:19974-1465776000-1465862399@thechesspedia.net
SUMMARY:June 13
DESCRIPTION:QUOTE OF THE DAY \nSome people think that if their opponent plays a beautiful game\, it’s okay to lose. I don’t. You have to be merciless.- Magnus Carlsen\nBIRTHS \nAlberto Mari\, (1892-26.08.1953)\, an Italian composer and the editor of L’Alfiere di Re and of L’Italia Scacchistica.\nLevente Lengyel ( 1933-18.08. 2014)\, a Hungarian Grandmaster who was a member of the national team between 1960 and 1970.\nPaul Motwani (1962)\, the  Scotland’s first Grandmaster and author who became World Cadet (Under 17) Champion in 1978.\nVadim Ruban (1964)\, a Russian Grandmaster.\nIvan Sokolov (1968)\, a Dutch Grandmaster born in Bosnia who won the 1988 Yugoslav Championship and in 1995 and 1998 the Dutch Championship.\nKarolina Smokina (1977)\, a Woman Moldavian Grandmaster.\nMaxim Pavlov (1979)\, a Ukrainian Grandmaster.\nNino Maisuradze (1982)\, a French Woman Grandmaster born in Georgia who was French Women’s Champion in 2013 and 2014. \nWORLD EVENTS \n1774 Rhode Island becomes the first of Britain’s North American colonies to ban the importation of slaves.\n1828 Simon Bolívar proclaimed dictator\n1927 Aviator Charles Lindbergh receives a ticker tape parade down 5th Avenue in New York City.\n1944 World War II: Germany launches a V1 Flying Bomb attack on England. Only four of the eleven bombs strike their targets.\n1944 Ban Ki-moon\, South Korean politician\, and diplomat\, 8th Secretary-General of the United Nations.\n1946 King Umberto II of Italy abdicates.\n1956 1st European Cup: Real Madrid beats Stade Reims 4-3 at Paris.\n1960 Prince Norodom Sihanouk becomes head of Cambodia.\n1977 Convicted Martin Luther King Jr. assassin James Earl Ray is recaptured after escaping from prison three days before.\n(Source: WIkipedia-Onthisday) \nGAME OF THE DAY \n\n\n \n\n\n	\n				[Event "Cafe de la Regence UAAR Ch"]\n[Site "Paris"]\n[Date "1909.??.??"]\n[Round "?"]\n[White "Lazard\, Frederic"]\n[Black "Gibaud\, Amedee"]\n[Result "1-0"]\n[ECO "C54"]\n[PlyCount "49"]\n[EventDate "1909.06.??"]\n[EventType "tourn"]\n[EventCountry "FRA"]\n[SourceTitle "EXT 2016"]\n[Source "ChessBase"]\n[SourceDate "2015.10.08"]\n\n1. e4 e5 2. d4 exd4 3. Nf3 Nc6 4. Bc4 Bc5 5. c3 Nf6 6. cxd4 Bb4+ 7. Nc3 Nxe4 8.\nO-O Bxc3 9. d5 Bf6 10. Re1 Ne7 11. Rxe4 d6 12. g4 h6 13. h4 Kf8 14. h5 g5 15.\nNd4 c6 16. Qf3 Nxd5 17. Bd2 Nc7 18. Rae1 d5 19. Bb4+ Kg7 20. Re7 dxc4 21. Nxc6\nQd3 22. Rxf7+ Kxf7 23. Re7+ Kg8 24. Qxf6 Rh7 25. Re8+ 1-0\n				\n			You must activate JavaScript to enhance chess game visualization.		\n	\n	\n	\n		jQuery(document).ready(function($) {\n						$.chessgame.navigationButtonClass  = 'rpbchessboard-jQuery-enableSmoothness';\n			$.chessgame.navigationFrameClass   = 'wp-dialog';\n			$.chessgame.navigationFrameOptions = {"squareSize":32\,"showCoordinates":true\,"colorset":"original"\,"pieceset":"cburnett"\,"animationSpeed":200\,"showMoveArrow":true};\n			var selector = '#' + "rpbchessboard-69e8052c7839c-1" + ' .rpbchessboard-chessgameAnchor';\n			$(selector).removeClass('rpbchessboard-chessgameAnchor').chessgame({"pgn":"[Event \"Cafe de la Regence UAAR Ch\"]\r\n[Site \"Paris\"]\r\n[Date \"1909.??.??\"]\r\n[Round \"?\"]\r\n[White \"Lazard\, Frederic\"]\r\n[Black \"Gibaud\, Amedee\"]\r\n[Result \"1-0\"]\r\n[ECO \"C54\"]\r\n[PlyCount \"49\"]\r\n[EventDate \"1909.06.??\"]\r\n[EventType \"tourn\"]\r\n[EventCountry \"FRA\"]\r\n[SourceTitle \"EXT 2016\"]\r\n[Source \"ChessBase\"]\r\n[SourceDate \"2015.10.08\"]\r\n\r\n1. e4 e5 2. d4 exd4 3. Nf3 Nc6 4. Bc4 Bc5 5. c3 Nf6 6. cxd4 Bb4+ 7. Nc3 Nxe4 8.\r\nO-O Bxc3 9. d5 Bf6 10. Re1 Ne7 11. Rxe4 d6 12. g4 h6 13. h4 Kf8 14. h5 g5 15.\r\nNd4 c6 16. Qf3 Nxd5 17. Bd2 Nc7 18. Rae1 d5 19. Bb4+ Kg7 20. Re7 dxc4 21. Nxc6\r\nQd3 22. Rxf7+ Kxf7 23. Re7+ Kg8 24. Qxf6 Rh7 25. Re8+ 1-0"\,"pieceSymbols":"native"\,"navigationBoard":"above"\,"showFlipButton":true\,"showDownloadButton":true\,"navigationBoardOptions":{"squareSize":32\,"showCoordinates":true\,"colorset":"original"\,"pieceset":"cburnett"\,"animationSpeed":200\,"showMoveArrow":true}\,"diagramOptions":{"squareSize":32\,"showCoordinates":true\,"colorset":"original"\,"pieceset":"cburnett"\,"animationSpeed":200\,"showMoveArrow":true}});\n		});\n	\n\n\n \n\n\n\n \n\n\n	\n				[Event "Cafe de la Regence UAAR Ch"]\n[Site "Paris"]\n[Date "1909.??.??"]\n[Round "?"]\n[White "Lazard\, Frederic"]\n[Black "Gibaud\, Amedee"]\n[Result "1-0"]\n[ECO "C54"]\n[PlyCount "49"]\n[EventDate "1909.06.??"]\n[EventType "tourn"]\n[EventCountry "FRA"]\n[SourceTitle "EXT 2016"]\n\n1. e4 e5 2. d4 exd4 3. Nf3 Nc6 4. Bc4 Bc5 5. c3 Nf6 6. cxd4 Bb4+ 7. Nc3 Nxe4 8.\nO-O Bxc3 9. d5 Bf6 10. Re1 Ne7 11. Rxe4 d6 12. g4 h6 13. h4 Kf8 14. h5 g5 15.\nNd4 c6 16. Qf3 Nxd5 17. Bd2 Nc7 18. Rae1 d5 19. Bb4+ Kg7 20. Re7 dxc4 21. Nxc6\nQd3 22. Rxf7+ Kxf7 23. Re7+ Kg8 24. Qxf6 Rh7 25. Re8+ 1-0\n				\n			You must activate JavaScript to enhance chess game visualization.		\n	\n	\n	\n		jQuery(document).ready(function($) {\n						$.chessgame.navigationButtonClass  = 'rpbchessboard-jQuery-enableSmoothness';\n			$.chessgame.navigationFrameClass   = 'wp-dialog';\n			$.chessgame.navigationFrameOptions = {"squareSize":32\,"showCoordinates":true\,"colorset":"original"\,"pieceset":"cburnett"\,"animationSpeed":200\,"showMoveArrow":true};\n			var selector = '#' + "rpbchessboard-69e8052c7839c-2" + ' .rpbchessboard-chessgameAnchor';\n			$(selector).removeClass('rpbchessboard-chessgameAnchor').chessgame({"pgn":"[Event \"Cafe de la Regence UAAR Ch\"]\r\n[Site \"Paris\"]\r\n[Date \"1909.??.??\"]\r\n[Round \"?\"]\r\n[White \"Lazard\, Frederic\"]\r\n[Black \"Gibaud\, Amedee\"]\r\n[Result \"1-0\"]\r\n[ECO \"C54\"]\r\n[PlyCount \"49\"]\r\n[EventDate \"1909.06.??\"]\r\n[EventType \"tourn\"]\r\n[EventCountry \"FRA\"]\r\n[SourceTitle \"EXT 2016\"]\r\n\r\n1. e4 e5 2. d4 exd4 3. Nf3 Nc6 4. Bc4 Bc5 5. c3 Nf6 6. cxd4 Bb4+ 7. Nc3 Nxe4 8.\r\nO-O Bxc3 9. d5 Bf6 10. Re1 Ne7 11. Rxe4 d6 12. g4 h6 13. h4 Kf8 14. h5 g5 15.\r\nNd4 c6 16. Qf3 Nxd5 17. Bd2 Nc7 18. Rae1 d5 19. Bb4+ Kg7 20. Re7 dxc4 21. Nxc6\r\nQd3 22. Rxf7+ Kxf7 23. Re7+ Kg8 24. Qxf6 Rh7 25. Re8+ 1-0"\,"pieceSymbols":"native"\,"navigationBoard":"above"\,"showFlipButton":true\,"showDownloadButton":true\,"navigationBoardOptions":{"squareSize":32\,"showCoordinates":true\,"colorset":"original"\,"pieceset":"cburnett"\,"animationSpeed":200\,"showMoveArrow":true}\,"diagramOptions":{"squareSize":32\,"showCoordinates":true\,"colorset":"original"\,"pieceset":"cburnett"\,"animationSpeed":200\,"showMoveArrow":true}});\n		});\n	\n\n\n \n\n  \n
URL:https://thechesspedia.net/day/june-13/
CATEGORIES:June
ATTACH;FMTTYPE=image/png:https://thechesspedia.net/wp-content/uploads/2016/07/june-13.png
END:VEVENT
END:VCALENDAR