
BEGIN:VCALENDAR
VERSION:2.0
PRODID:-//The Chesspedia - ECPv5.1.2.1//NONSGML v1.0//EN
CALSCALE:GREGORIAN
METHOD:PUBLISH
X-WR-CALNAME:The Chesspedia
X-ORIGINAL-URL:https://thechesspedia.net
X-WR-CALDESC:Events for The Chesspedia
BEGIN:VTIMEZONE
TZID:UTC
BEGIN:STANDARD
TZOFFSETFROM:+0000
TZOFFSETTO:+0000
TZNAME:UTC
DTSTART:20160101T000000
END:STANDARD
END:VTIMEZONE
BEGIN:VEVENT
DTSTART;VALUE=DATE:20160611
DTEND;VALUE=DATE:20160612
DTSTAMP:20260422T020944
CREATED:20170611T124915Z
LAST-MODIFIED:20170610T194617Z
UID:19972-1465603200-1465689599@thechesspedia.net
SUMMARY:June 11
DESCRIPTION:QUOTE OF THE DAY \nCarlsen simply plays chess well. It seems to me that in such cases people are inclined to look for some supernatural explanation\, although the simplest explanation is also the most appropriate: the guy simply plays chess well.- Alexander Grischuk\, 2014\nBIRTHS \nTheodor von Scheve (11851 – 19.04.1922)\, a German Master and writer.\nAlois Wotawa (1896 -12.04.12 April 1970)\, an Austrian composer of chess problems and endgame studies.\nKonstantin Chernyshov (1967)\, a Russian Grandmaster\nArtem Chernobay (1989)\, a Russian Grandmaster \nDEATHS \nFolke Rogard (06.07.1899-1973)\, a Swedish diplomat and lawyer who was the second FIDE President (1949-1970). \nWORLD EVENTS \n1915 British troops took Cameroon in Africa.\n1940 The German invasion of France was under way and the British had been forced to abandon their defense of northwestern France and Belgium at Dunkirk.\n1942  The United States and the Soviet Union signed a lend-lease agreement to aid the Soviet war effort in World War II.\n1987 Margaret Thatcher became the first British prime minister in 160 years to win a third consecutive term of office as her Conservatives held onto a reduced majority in Parliament.\n1993  The Steven Spielberg movie “Jurassic Park” opened.\n2004 President Reagan’s formal funeral was held in Simi\, Ca. \nGAME OF THE DAY \n\n\n \n\n\n	\n				[Event "London"]\n[Site "London"]\n[Date "1883.06.11"]\n[Round "?"]\n[White "Steinitz\, William"]\n[Black "Rosenthal\, Samuel"]\n[Result "0-1"]\n[ECO "C65"]\n[PlyCount "74"]\n[EventDate "1883.??.??"]\n[EventType "tourn"]\n[EventRounds "26"]\n[EventCountry "ENG"]\n1. e4 e5 2. Nf3 Nc6 3. Bb5 Nf6 4. d3 Bc5 5. c3 Qe7 6. O-O O-O 7. d4 Bb6 8. Bxc6\nbxc6 9. Nxe5 d6 10. Nxc6 Qxe4 11. Nb4 c5 12. Nc2 Ba6 13. Re1 Qh4 14. f3 d5 15.\nRe5 cxd4 16. cxd4 Nd7 17. g3 Qh3 18. Re1 Rae8 19. Be3 Re6 20. Nc3 Nf6 21. Nb4\nRfe8 22. Qd2 Bc4 23. b3 Ba5 24. Nc2 Ba6 25. b4 Bc7 26. b5 Bb7 27. Na4 Nh5 28.\nNc5 Nxg3 29. Nxe6 Rxe6 30. Bf4 Ne4 31. Rxe4 dxe4 32. Bxc7 exf3 33. Re1 Rg6+ 34.\nBg3 Rxg3+ 35. hxg3 f2+ 36. Kxf2 Qg2+ 37. Ke3 Qf3# 0-1\n				\n			You must activate JavaScript to enhance chess game visualization.		\n	\n	\n	\n		jQuery(document).ready(function($) {\n						$.chessgame.navigationButtonClass  = 'rpbchessboard-jQuery-enableSmoothness';\n			$.chessgame.navigationFrameClass   = 'wp-dialog';\n			$.chessgame.navigationFrameOptions = {"squareSize":32\,"showCoordinates":true\,"colorset":"original"\,"pieceset":"cburnett"\,"animationSpeed":200\,"showMoveArrow":true};\n			var selector = '#' + "rpbchessboard-69e82de84db4a-1" + ' .rpbchessboard-chessgameAnchor';\n			$(selector).removeClass('rpbchessboard-chessgameAnchor').chessgame({"pgn":"[Event \"London\"]\r\n[Site \"London\"]\r\n[Date \"1883.06.11\"]\r\n[Round \"?\"]\r\n[White \"Steinitz\, William\"]\r\n[Black \"Rosenthal\, Samuel\"]\r\n[Result \"0-1\"]\r\n[ECO \"C65\"]\r\n[PlyCount \"74\"]\r\n[EventDate \"1883.??.??\"]\r\n[EventType \"tourn\"]\r\n[EventRounds \"26\"]\r\n[EventCountry \"ENG\"]\r\n1. e4 e5 2. Nf3 Nc6 3. Bb5 Nf6 4. d3 Bc5 5. c3 Qe7 6. O-O O-O 7. d4 Bb6 8. Bxc6\r\nbxc6 9. Nxe5 d6 10. Nxc6 Qxe4 11. Nb4 c5 12. Nc2 Ba6 13. Re1 Qh4 14. f3 d5 15.\r\nRe5 cxd4 16. cxd4 Nd7 17. g3 Qh3 18. Re1 Rae8 19. Be3 Re6 20. Nc3 Nf6 21. Nb4\r\nRfe8 22. Qd2 Bc4 23. b3 Ba5 24. Nc2 Ba6 25. b4 Bc7 26. b5 Bb7 27. Na4 Nh5 28.\r\nNc5 Nxg3 29. Nxe6 Rxe6 30. Bf4 Ne4 31. Rxe4 dxe4 32. Bxc7 exf3 33. Re1 Rg6+ 34.\r\nBg3 Rxg3+ 35. hxg3 f2+ 36. Kxf2 Qg2+ 37. Ke3 Qf3# 0-1"\,"pieceSymbols":"native"\,"navigationBoard":"above"\,"showFlipButton":true\,"showDownloadButton":true\,"navigationBoardOptions":{"squareSize":32\,"showCoordinates":true\,"colorset":"original"\,"pieceset":"cburnett"\,"animationSpeed":200\,"showMoveArrow":true}\,"diagramOptions":{"squareSize":32\,"showCoordinates":true\,"colorset":"original"\,"pieceset":"cburnett"\,"animationSpeed":200\,"showMoveArrow":true}});\n		});\n	\n\n\n \n\n
URL:https://thechesspedia.net/day/june-11/
CATEGORIES:June
ATTACH;FMTTYPE=image/png:https://thechesspedia.net/wp-content/uploads/2016/07/june-11.png
END:VEVENT
END:VCALENDAR