
BEGIN:VCALENDAR
VERSION:2.0
PRODID:-//The Chesspedia - ECPv5.1.2.1//NONSGML v1.0//EN
CALSCALE:GREGORIAN
METHOD:PUBLISH
X-WR-CALNAME:The Chesspedia
X-ORIGINAL-URL:https://thechesspedia.net
X-WR-CALDESC:Events for The Chesspedia
BEGIN:VTIMEZONE
TZID:UTC
BEGIN:STANDARD
TZOFFSETFROM:+0000
TZOFFSETTO:+0000
TZNAME:UTC
DTSTART:20160101T000000
END:STANDARD
END:VTIMEZONE
BEGIN:VEVENT
DTSTART;VALUE=DATE:20160709
DTEND;VALUE=DATE:20160710
DTSTAMP:20260422T020224
CREATED:20160712T112413Z
LAST-MODIFIED:20170709T102228Z
UID:19872-1468022400-1468108799@thechesspedia.net
SUMMARY:July 9
DESCRIPTION:QUOTE OF THE DAY \nWhen Korchnoi was living in the USSR I called him ‘hero of socialist labour’; when he moved to the West I renamed him ‘hero of capitalist labour’!- Boris Spassky\nBIRTHS \nJozsef Szen( 1805-13.01.1857)\, a Hungarian Master who was the in the top 10 world best players of his time.\nBerthold Englisch (1851-19.10.1897)\,  a leading Austrian chess master.\nPeter Lukacs (1950)\, a Hungarian Grandmaster\, author and coach who was Hungarian Champion in 1980.\nFernando Braga (1958)\, an Italian Master born in Argentina who won two Italian national titles.\nAloyzas Kveinys (1962)\, a Lithuanian Grandmaster who won the Lithuanian championship 5 times.\nLewan Aroshidze (1985)\, a Spanish Grandmaster born in Georgia who won a silver medal at the World U10 Youth Championship. \nCHESS EVENTS \n1814 The first regular chess column appears in the Liverpool Mercury. It was edited by Egerton Smith. \nWORLD EVENTS \n455 – The military commander Avitus is proclaimed Emperor of the Western Roman Empire.\n1386 – The Old Swiss Confederacy makes great strides in establishing control over its territory by soundly defeating the Archduchy of Austria in the Battle of Sempach.\n1810 – Napoleon annexes the Kingdom of Holland as part of the First French Empire.\n1816 – Argentina declares independence from Spain.\n1877 – The inaugural Wimbledon Championships begins.\n1922 – Johnny Weissmuller swims the 100 meters freestyle in 58.6 seconds breaking the world swimming record and the ‘minute barrier’.\n1943 – The Allied invasion of Sicily soon causes the downfall of Mussolini.\n2011 – South Sudan gains independence and secedes from Sudan.\n(Source: Wikipedia) \nGAME OF DAY \n\n\n \n\n\n	\n				[Event "Tromso ol (Men) 41st"]\n[Site "Tromso"]\n[Date "2014.08.09"]\n[Round "7.1"]\n[White "Carlsen\, Magnus"]\n[Black "Naiditsch\, Arkadij"]\n[Result "0-1"]\n[ECO "E20"]\n[WhiteElo "2877"]\n[BlackElo "2709"]\n[PlyCount "124"]\n[EventDate "2014.08.02"]\n[EventType "team-swiss"]\n[EventRounds "11"]\n[EventCountry "NOR"]\n[SourceTitle "CBM 162"]\n[Source "ChessBase"]\n[SourceDate "2014.09.17"]\n[WhiteTeam "Norway"]\n[BlackTeam "Germany"]\n[WhiteTeamCountry "NOR"]\n[BlackTeamCountry "GER"]\n\n1. d4 Nf6 2. c4 e6 3. Nc3 Bb4 4. Nf3 c5 5. g3 O-O 6. Bg2 cxd4 7. Nxd4 d5 8.\ncxd5 Nxd5 9. Qb3 Nc6 10. Nxc6 bxc6 11. O-O Qa5 12. Ne4 Ba6 13. Qc2 h6 14. a3\nBe7 15. b4 Qb5 16. Re1 Qc4 17. Qb2 c5 18. Nxc5 Bf6 19. Qa2 Rac8 20. e4 Nc3 21.\nQxc4 Bxc4 22. e5 Be7 23. Bd2 Ne2+ 24. Kh1 Nd4 25. Rac1 Bd5 26. Bxd5 exd5 27.\nNd7 Rxc1 28. Rxc1 Rd8 29. Nc5 Bxc5 30. Rxc5 Nf3 31. Bc3 g5 32. h3 h5 33. Kg2 g4\n34. b5 Rd7 35. Rc8+ Kh7 36. Ba5 d4 37. hxg4 hxg4 38. e6 fxe6 39. Rc7 Rxc7 40.\nBxc7 d3 41. Kf1 Nd4 42. Ke1 Nxb5 43. Bb8 Nxa3 44. Kd2 a5 45. Kxd3 Kg6 46. Ke4\na4 47. Be5 Nc4 48. Bc3 a3 49. Kf4 Kh5 50. f3 e5+ 51. Ke4 Nd6+ 52. Ke3 Kg5 53.\nfxg4 e4 54. Kd2 Nb5 55. Be5 Kxg4 56. Ke3 Kf5 57. Ba1 Nd6 58. Kd2 Kg4 59. Ke3 a2\n60. Bc3 Kxg3 61. Ba1 Kg4 62. Kd2 Kf3 0-1\n				\n			You must activate JavaScript to enhance chess game visualization.		\n	\n	\n	\n		jQuery(document).ready(function($) {\n						$.chessgame.navigationButtonClass  = 'rpbchessboard-jQuery-enableSmoothness';\n			$.chessgame.navigationFrameClass   = 'wp-dialog';\n			$.chessgame.navigationFrameOptions = {"squareSize":32\,"showCoordinates":true\,"colorset":"original"\,"pieceset":"cburnett"\,"animationSpeed":200\,"showMoveArrow":true};\n			var selector = '#' + "rpbchessboard-69e82c307a395-1" + ' .rpbchessboard-chessgameAnchor';\n			$(selector).removeClass('rpbchessboard-chessgameAnchor').chessgame({"pgn":"[Event \"Tromso ol (Men) 41st\"]\r\n[Site \"Tromso\"]\r\n[Date \"2014.08.09\"]\r\n[Round \"7.1\"]\r\n[White \"Carlsen\, Magnus\"]\r\n[Black \"Naiditsch\, Arkadij\"]\r\n[Result \"0-1\"]\r\n[ECO \"E20\"]\r\n[WhiteElo \"2877\"]\r\n[BlackElo \"2709\"]\r\n[PlyCount \"124\"]\r\n[EventDate \"2014.08.02\"]\r\n[EventType \"team-swiss\"]\r\n[EventRounds \"11\"]\r\n[EventCountry \"NOR\"]\r\n[SourceTitle \"CBM 162\"]\r\n[Source \"ChessBase\"]\r\n[SourceDate \"2014.09.17\"]\r\n[WhiteTeam \"Norway\"]\r\n[BlackTeam \"Germany\"]\r\n[WhiteTeamCountry \"NOR\"]\r\n[BlackTeamCountry \"GER\"]\r\n\r\n1. d4 Nf6 2. c4 e6 3. Nc3 Bb4 4. Nf3 c5 5. g3 O-O 6. Bg2 cxd4 7. Nxd4 d5 8.\r\ncxd5 Nxd5 9. Qb3 Nc6 10. Nxc6 bxc6 11. O-O Qa5 12. Ne4 Ba6 13. Qc2 h6 14. a3\r\nBe7 15. b4 Qb5 16. Re1 Qc4 17. Qb2 c5 18. Nxc5 Bf6 19. Qa2 Rac8 20. e4 Nc3 21.\r\nQxc4 Bxc4 22. e5 Be7 23. Bd2 Ne2+ 24. Kh1 Nd4 25. Rac1 Bd5 26. Bxd5 exd5 27.\r\nNd7 Rxc1 28. Rxc1 Rd8 29. Nc5 Bxc5 30. Rxc5 Nf3 31. Bc3 g5 32. h3 h5 33. Kg2 g4\r\n34. b5 Rd7 35. Rc8+ Kh7 36. Ba5 d4 37. hxg4 hxg4 38. e6 fxe6 39. Rc7 Rxc7 40.\r\nBxc7 d3 41. Kf1 Nd4 42. Ke1 Nxb5 43. Bb8 Nxa3 44. Kd2 a5 45. Kxd3 Kg6 46. Ke4\r\na4 47. Be5 Nc4 48. Bc3 a3 49. Kf4 Kh5 50. f3 e5+ 51. Ke4 Nd6+ 52. Ke3 Kg5 53.\r\nfxg4 e4 54. Kd2 Nb5 55. Be5 Kxg4 56. Ke3 Kf5 57. Ba1 Nd6 58. Kd2 Kg4 59. Ke3 a2\r\n60. Bc3 Kxg3 61. Ba1 Kg4 62. Kd2 Kf3 0-1"\,"pieceSymbols":"native"\,"navigationBoard":"above"\,"showFlipButton":true\,"showDownloadButton":true\,"navigationBoardOptions":{"squareSize":32\,"showCoordinates":true\,"colorset":"original"\,"pieceset":"cburnett"\,"animationSpeed":200\,"showMoveArrow":true}\,"diagramOptions":{"squareSize":32\,"showCoordinates":true\,"colorset":"original"\,"pieceset":"cburnett"\,"animationSpeed":200\,"showMoveArrow":true}});\n		});\n	\n\n\n \n\n  \n  \n  \n
URL:https://thechesspedia.net/day/july-9/
CATEGORIES:July
ATTACH;FMTTYPE=image/png:https://thechesspedia.net/wp-content/uploads/2016/07/july-9.png
END:VEVENT
END:VCALENDAR