
BEGIN:VCALENDAR
VERSION:2.0
PRODID:-//The Chesspedia - ECPv5.1.2.1//NONSGML v1.0//EN
CALSCALE:GREGORIAN
METHOD:PUBLISH
X-WR-CALNAME:The Chesspedia
X-ORIGINAL-URL:https://thechesspedia.net
X-WR-CALDESC:Events for The Chesspedia
BEGIN:VTIMEZONE
TZID:UTC
BEGIN:STANDARD
TZOFFSETFROM:+0000
TZOFFSETTO:+0000
TZNAME:UTC
DTSTART:20160101T000000
END:STANDARD
END:VTIMEZONE
BEGIN:VEVENT
DTSTART;VALUE=DATE:20160707
DTEND;VALUE=DATE:20160708
DTSTAMP:20260422T010454
CREATED:20170706T112004Z
LAST-MODIFIED:20170707T063021Z
UID:19866-1467849600-1467935999@thechesspedia.net
SUMMARY:July 7
DESCRIPTION:QUOTE OF THE DAY \nCarlsen is paying far less attention to opening theory than his rivals\, he is happy to go down paths that may offer no advantage yet have the benefit of dragging opponents out of their “openings book”. Once beyond the reaches of computer-aided openings\, Carlsen starts to turn the screw.- Judith Polgar\, FT\, 2014\nBIRTHS \nOswaldo Zambrana (1981)\, a Bolivian Grandmaster who won the Bolivian Championship five times.\nWen Yang (1988)\, a Chinese Grandmaster.\nFidel Corrales Jimenez (1987)\, a US Grandmaster who was born in Cuba. \nWORLD EVENTS \n1307 Edward I (b.1239)\, King (Longshanks) of England (1272-1307)\, died.\n1607 “God Save the King” was 1st sung.\n1815 After defeating Napoleon at Waterloo\, the victorious Allies marched into Paris.\n1898 The United States annexed Hawaii.\n1922 Pierre Cardin\, fashion designer\, was born in Paris\, France.\n1954 Elvis Presley made his radio debut as Memphis\, Tennessee\, station WHBQ played his first recording for Sun Records\, “That’s All Right (Mama).”\n1958 President Dwight D. Eisenhower signed the Alaska statehood bill. Alaska became the 49th state in January 1959.\n1967 Beatles’ “All You Need is Love” was released.\n1972  Athenagoras (b.1886)\, 268th Patriarch of Constantinople\, died.\n1990 Martina Navratilova captured a record-breaking ninth women’s title at Wimbledon\,\n1996 In Ecuador lawyer Abdala Bucaram\, aka El Loco\, was elected president with 54% of the vote.\n1998 In Italy Silvio Berlusconi\, media tycoon and former prime minister\, was sentenced to 2 years and 9 months in prison for bribing tax officials. \nGAME OF THE DAY \n\n\n \n\n\n	\n				[Event "Andorra op 22nd"]\n[Site "Andorra"]\n[Date "2004.07.08"]\n[Round "6"]\n[White "Fressinet\, Laurent"]\n[Black "Marin\, Mihail"]\n[Result "1-0"]\n[ECO "B07"]\n[WhiteElo "2637"]\n[BlackElo "2511"]\n[PlyCount "39"]\n[EventDate "2004.07.03"]\n[EventType "swiss"]\n[EventRounds "9"]\n[EventCountry "AND"]\n\n1. e4 d6 2. d4 Nf6 3. Nc3 g6 4. Be3 c6 5. h3 Nbd7 6. f4 b5 7. a3 e5 8. Nf3 Qe7\n9. fxe5 dxe5 10. d5 b4 11. axb4 cxd5 12. Bg5 d4 13. Nd5 Qd6 14. Bxf6 Nxf6 15.\nNxf6+ Qxf6 16. Bb5+ Ke7 17. O-O Bh6 18. Bc4 Rd8 19. Ra5 Bf4 20. Nxe5 1-0\n				\n			You must activate JavaScript to enhance chess game visualization.		\n	\n	\n	\n		jQuery(document).ready(function($) {\n						$.chessgame.navigationButtonClass  = 'rpbchessboard-jQuery-enableSmoothness';\n			$.chessgame.navigationFrameClass   = 'wp-dialog';\n			$.chessgame.navigationFrameOptions = {"squareSize":32\,"showCoordinates":true\,"colorset":"original"\,"pieceset":"cburnett"\,"animationSpeed":200\,"showMoveArrow":true};\n			var selector = '#' + "rpbchessboard-69e81eb66be87-1" + ' .rpbchessboard-chessgameAnchor';\n			$(selector).removeClass('rpbchessboard-chessgameAnchor').chessgame({"pgn":"[Event \"Andorra op 22nd\"]\r\n[Site \"Andorra\"]\r\n[Date \"2004.07.08\"]\r\n[Round \"6\"]\r\n[White \"Fressinet\, Laurent\"]\r\n[Black \"Marin\, Mihail\"]\r\n[Result \"1-0\"]\r\n[ECO \"B07\"]\r\n[WhiteElo \"2637\"]\r\n[BlackElo \"2511\"]\r\n[PlyCount \"39\"]\r\n[EventDate \"2004.07.03\"]\r\n[EventType \"swiss\"]\r\n[EventRounds \"9\"]\r\n[EventCountry \"AND\"]\r\n\r\n1. e4 d6 2. d4 Nf6 3. Nc3 g6 4. Be3 c6 5. h3 Nbd7 6. f4 b5 7. a3 e5 8. Nf3 Qe7\r\n9. fxe5 dxe5 10. d5 b4 11. axb4 cxd5 12. Bg5 d4 13. Nd5 Qd6 14. Bxf6 Nxf6 15.\r\nNxf6+ Qxf6 16. Bb5+ Ke7 17. O-O Bh6 18. Bc4 Rd8 19. Ra5 Bf4 20. Nxe5 1-0"\,"pieceSymbols":"native"\,"navigationBoard":"above"\,"showFlipButton":true\,"showDownloadButton":true\,"navigationBoardOptions":{"squareSize":32\,"showCoordinates":true\,"colorset":"original"\,"pieceset":"cburnett"\,"animationSpeed":200\,"showMoveArrow":true}\,"diagramOptions":{"squareSize":32\,"showCoordinates":true\,"colorset":"original"\,"pieceset":"cburnett"\,"animationSpeed":200\,"showMoveArrow":true}});\n		});\n	\n\n\n \n\n  \n
URL:https://thechesspedia.net/day/july-7/
CATEGORIES:July
ATTACH;FMTTYPE=image/png:https://thechesspedia.net/wp-content/uploads/2016/07/july-7.png
END:VEVENT
END:VCALENDAR