
BEGIN:VCALENDAR
VERSION:2.0
PRODID:-//The Chesspedia - ECPv5.1.2.1//NONSGML v1.0//EN
CALSCALE:GREGORIAN
METHOD:PUBLISH
X-WR-CALNAME:The Chesspedia
X-ORIGINAL-URL:https://thechesspedia.net
X-WR-CALDESC:Events for The Chesspedia
BEGIN:VTIMEZONE
TZID:UTC
BEGIN:STANDARD
TZOFFSETFROM:+0000
TZOFFSETTO:+0000
TZNAME:UTC
DTSTART:20160101T000000
END:STANDARD
END:VTIMEZONE
BEGIN:VEVENT
DTSTART;VALUE=DATE:20160705
DTEND;VALUE=DATE:20160706
DTSTAMP:20260422T021037
CREATED:20160704T111639Z
LAST-MODIFIED:20170704T181243Z
UID:19858-1467676800-1467763199@thechesspedia.net
SUMMARY:July 5
DESCRIPTION:QUOTE OF THE DAY \nThe Golden Age\, when machines were weak and my hair was strong!- Garry Kasparov\, 2017\nBIRTHS \nHoratio Caro (1862-20.12.1920)\, an English Grandmaster who analyzed along with Marcus Kann the Caro-Kann opening in 1886.\nPeter Dely (1934-29.12.2012)\, a Hungarian Grandmaster who was Hungarian Champion in 1969.\nHenry Urday Caceras (1967) was born in Lima\, Peru. a Peruvian Grandmaster who was Peruvian Champion in 187 and 1999.\nJulen Luis Arizmendi Martinez (1976)\, a Spanish Grandmaster born in USA who was Spanish Champion in 2012. \nDEATHS \nHenri Grob (04.06.1904-1974)\, a Swiss International Master who often play as his first move: 1. g4\nPredrag Ostojic (22.02..1938-1996)\, a Yugoslav Grandmaster who was twice champion of Yugoslavia.  Germany. \nWORLD EVENTS \n1687 – Isaac Newton publishes Philosophiæ Naturalis Principia Mathematica.\n1811 – Venezuela declares independence from Spain.\n1841 – Thomas Cook organizes the first package excursion\, from Leicester to Loughborough\n1884 – Germany takes possession of Cameroon.\n1941 – World War II: Operation Barbarossa: German troops reach the Dnieper river.\n1946 – The bikini goes on sale after debuting during an outdoor fashion show at the Molitor Pool in Paris\, France.\n1950 – Zionism: The Knesset passes the Law of Return which grants all Jews the right to immigrate to Israel.\n1962 – Algeria becomes independent from France.\n1977 – Military coup in Pakistan: Zulfikar Ali Bhutto\, the first elected Prime Minister of Pakistan\, is overthrown.\n2004 – The first Indonesian presidential election is held.\n(Source: Wikipedia) \nGAME OF THE DAY \n\n\n \n\n\n	\n				[Event "SWE-ch"]\n[Site "Gothenburg"]\n[Date "2006.07.03"]\n[Round "3"]\n[White "Berg\, Emanuel"]\n[Black "Brynell\, Stellan"]\n[Result "1-0"]\n[ECO "B47"]\n[WhiteElo "2589"]\n[BlackElo "2497"]\n[PlyCount "45"]\n[EventDate "2006.07.01"]\n[EventType "tourn"]\n[EventRounds "13"]\n[EventCountry "SWE"]\n[EventCategory "10"]\n\n1. e4 c5 2. Nf3 e6 3. d4 cxd4 4. Nxd4 Nc6 5. Nc3 Qc7 6. Be2 a6 7. O-O Nf6 8.\nKh1 Nxd4 9. Qxd4 Bc5 10. Qd3 b5 11. Bg5 Bb7 12. f4 b4 13. e5 Nd5 14. Nxd5 Bxd5\n15. Bf3 Bxf3 16. Rxf3 d6 17. Raf1 h6 18. Bh4 O-O 19. Rg3 Rfc8 20. Bf6 g6 21. f5\nexf5 22. Qxf5 Kf8 23. Rxg6 1-0\n				\n			You must activate JavaScript to enhance chess game visualization.		\n	\n	\n	\n		jQuery(document).ready(function($) {\n						$.chessgame.navigationButtonClass  = 'rpbchessboard-jQuery-enableSmoothness';\n			$.chessgame.navigationFrameClass   = 'wp-dialog';\n			$.chessgame.navigationFrameOptions = {"squareSize":32\,"showCoordinates":true\,"colorset":"original"\,"pieceset":"cburnett"\,"animationSpeed":200\,"showMoveArrow":true};\n			var selector = '#' + "rpbchessboard-69e82e1d6bedd-1" + ' .rpbchessboard-chessgameAnchor';\n			$(selector).removeClass('rpbchessboard-chessgameAnchor').chessgame({"pgn":"[Event \"SWE-ch\"]\r\n[Site \"Gothenburg\"]\r\n[Date \"2006.07.03\"]\r\n[Round \"3\"]\r\n[White \"Berg\, Emanuel\"]\r\n[Black \"Brynell\, Stellan\"]\r\n[Result \"1-0\"]\r\n[ECO \"B47\"]\r\n[WhiteElo \"2589\"]\r\n[BlackElo \"2497\"]\r\n[PlyCount \"45\"]\r\n[EventDate \"2006.07.01\"]\r\n[EventType \"tourn\"]\r\n[EventRounds \"13\"]\r\n[EventCountry \"SWE\"]\r\n[EventCategory \"10\"]\r\n\r\n1. e4 c5 2. Nf3 e6 3. d4 cxd4 4. Nxd4 Nc6 5. Nc3 Qc7 6. Be2 a6 7. O-O Nf6 8.\r\nKh1 Nxd4 9. Qxd4 Bc5 10. Qd3 b5 11. Bg5 Bb7 12. f4 b4 13. e5 Nd5 14. Nxd5 Bxd5\r\n15. Bf3 Bxf3 16. Rxf3 d6 17. Raf1 h6 18. Bh4 O-O 19. Rg3 Rfc8 20. Bf6 g6 21. f5\r\nexf5 22. Qxf5 Kf8 23. Rxg6 1-0"\,"pieceSymbols":"native"\,"navigationBoard":"above"\,"showFlipButton":true\,"showDownloadButton":true\,"navigationBoardOptions":{"squareSize":32\,"showCoordinates":true\,"colorset":"original"\,"pieceset":"cburnett"\,"animationSpeed":200\,"showMoveArrow":true}\,"diagramOptions":{"squareSize":32\,"showCoordinates":true\,"colorset":"original"\,"pieceset":"cburnett"\,"animationSpeed":200\,"showMoveArrow":true}});\n		});\n	\n\n\n \n\n
URL:https://thechesspedia.net/day/july-5/
CATEGORIES:July
ATTACH;FMTTYPE=image/png:https://thechesspedia.net/wp-content/uploads/2016/07/july-5.png
END:VEVENT
END:VCALENDAR