
BEGIN:VCALENDAR
VERSION:2.0
PRODID:-//The Chesspedia - ECPv5.1.2.1//NONSGML v1.0//EN
CALSCALE:GREGORIAN
METHOD:PUBLISH
X-WR-CALNAME:The Chesspedia
X-ORIGINAL-URL:https://thechesspedia.net
X-WR-CALDESC:Events for The Chesspedia
BEGIN:VTIMEZONE
TZID:UTC
BEGIN:STANDARD
TZOFFSETFROM:+0000
TZOFFSETTO:+0000
TZNAME:UTC
DTSTART:20160101T000000
END:STANDARD
END:VTIMEZONE
BEGIN:VEVENT
DTSTART;VALUE=DATE:20160704
DTEND;VALUE=DATE:20160705
DTSTAMP:20260422T020930
CREATED:20170702T111451Z
LAST-MODIFIED:20170703T184220Z
UID:19856-1467590400-1467676799@thechesspedia.net
SUMMARY:July 4
DESCRIPTION:QUOTE OF THE DAY \nEverything is very concrete nowadays. The computer often gives unnatural moves which are correct\, but sometimes hard to remember. You know a line is correct\, but then your forget something and lose terribly.- Daniel Stellwagen\, 2010\nBIRTHS \nSamuel Lipschutz (1863-30.11.1905)\, an Hungarian-America Master and author. He was chess champion of the United States from 1889 to 1890 and again from 1891 to 1894.\nAlvise Zichichi  (1938-21.06.2003)\, an Italian International Master and former president of the Italian CF.\nOrestes Rodriguez Vargas (1943)\, was born in Lima\, Peru. a Peruvian Grandmaster who was Peruvian national champion five times.\nSilvino Garcia Martinez was born in Havana\, Cuba (1944)\, the first Cuban Grandmaster who was Cuban national champion four times.David Marciano (1969)\, a Monegasque-French Grandmaster.\nSvetlana Matveeva (1969) was born\, Russia. a Russian International Master and Woman Grandmaster.\nAlexey Shirov was born in Riga\, Latvia\, USSR. a Latvian -Spanish Grandmaster\,  one of the world leading player between 1995 and 2005. \nDEATHS \nLeonid Stein (12.11.1934-1973)\, Soviet Grandmaster chess player born in Ukraine who won three USSR Chess Championships in 1963\, 1965\, and 1966)\, and was among the world’s top ten players during that era.\nMiguel Najdorf (15.04.1910-1997)\, an Argentine Polish-born Grandmaster and author who was the best South American player for few decades. \nWORLD EVENTS \n1187 – The Crusades: Battle of Hattin: Saladin defeats Guy of Lusignan\, King of Jerusalem.\n1534 – Christian III is elected King of Denmark and Norway in the town of Rye.\n1634 – The city of Trois-Rivières is founded in New France (now Quebec\, Canada).\n1776 – American Revolution: The United States Declaration of Independence is adopted by the Second Continental Congress.\n1803 – The Louisiana Purchase is announced to the American people.\n1826 – Thomas Jefferson\, third president of the United States\, dies the same day as John Adams\, second president of the United State.\n1886 – The people of France offer the Statue of Liberty to the people of the United States.\n1918 – Ottoman sultan Mehmed VI ascends to the throne.\n1918 – Bolsheviks kill Tsar Nicholas II of Russia and his family (Julian calendar date).\n1946 – After 381 years of near-continuous colonial rule by various powers\, the Philippines attains full independence from the United States.\n1994 – Rwandan Genocide: Kigali\, the Rwandan capital\, is captured by the Rwandan Patriotic Front\, ending the genocide in the city.\n(Source: Wikipedia) \nGAME OF THE DAY \n\n\n \n\n\n	\n				[Event "World op 38th"]\n[Site "Philadelphia"]\n[Date "2010.07.04"]\n[Round "6"]\n[White "Perelshteyn\, Eugene"]\n[Black "Onischuk\, Alexander"]\n[Result "1-0"]\n[ECO "A85"]\n[WhiteElo "2534"]\n[BlackElo "2699"]\n[PlyCount "47"]\n[EventDate "2010.06.29"]\n[EventType "swiss"]\n[EventRounds "9"]\n[EventCountry "USA"]\n\n1. d4 f5 2. c4 Nf6 3. Nc3 d6 4. Bg5 Nbd7 5. Qc2 g6 6. O-O-O Bg7 7. Nh3 e5 8.\ndxe5 Nxe5 9. Nf4 c6 10. e3 Nf7 11. h4 Nxg5 12. hxg5 Ng4 13. c5 d5 14. Ncxd5\ncxd5 15. Bb5+ Kf8 16. Rxd5 Qxg5 17. Qd2 Bf6 18. Bd7 Bxd7 19. Rxd7 Re8 20. Qd6+\nBe7 21. Ne6+ Kg8 22. Nxg5 Bxd6 23. cxd6 h6 24. Rc7 1-0\n				\n			You must activate JavaScript to enhance chess game visualization.		\n	\n	\n	\n		jQuery(document).ready(function($) {\n						$.chessgame.navigationButtonClass  = 'rpbchessboard-jQuery-enableSmoothness';\n			$.chessgame.navigationFrameClass   = 'wp-dialog';\n			$.chessgame.navigationFrameOptions = {"squareSize":32\,"showCoordinates":true\,"colorset":"original"\,"pieceset":"cburnett"\,"animationSpeed":200\,"showMoveArrow":true};\n			var selector = '#' + "rpbchessboard-69e82ddad6f89-1" + ' .rpbchessboard-chessgameAnchor';\n			$(selector).removeClass('rpbchessboard-chessgameAnchor').chessgame({"pgn":"[Event \"World op 38th\"]\r\n[Site \"Philadelphia\"]\r\n[Date \"2010.07.04\"]\r\n[Round \"6\"]\r\n[White \"Perelshteyn\, Eugene\"]\r\n[Black \"Onischuk\, Alexander\"]\r\n[Result \"1-0\"]\r\n[ECO \"A85\"]\r\n[WhiteElo \"2534\"]\r\n[BlackElo \"2699\"]\r\n[PlyCount \"47\"]\r\n[EventDate \"2010.06.29\"]\r\n[EventType \"swiss\"]\r\n[EventRounds \"9\"]\r\n[EventCountry \"USA\"]\r\n\r\n1. d4 f5 2. c4 Nf6 3. Nc3 d6 4. Bg5 Nbd7 5. Qc2 g6 6. O-O-O Bg7 7. Nh3 e5 8.\r\ndxe5 Nxe5 9. Nf4 c6 10. e3 Nf7 11. h4 Nxg5 12. hxg5 Ng4 13. c5 d5 14. Ncxd5\r\ncxd5 15. Bb5+ Kf8 16. Rxd5 Qxg5 17. Qd2 Bf6 18. Bd7 Bxd7 19. Rxd7 Re8 20. Qd6+\r\nBe7 21. Ne6+ Kg8 22. Nxg5 Bxd6 23. cxd6 h6 24. Rc7 1-0"\,"pieceSymbols":"native"\,"navigationBoard":"above"\,"showFlipButton":true\,"showDownloadButton":true\,"navigationBoardOptions":{"squareSize":32\,"showCoordinates":true\,"colorset":"original"\,"pieceset":"cburnett"\,"animationSpeed":200\,"showMoveArrow":true}\,"diagramOptions":{"squareSize":32\,"showCoordinates":true\,"colorset":"original"\,"pieceset":"cburnett"\,"animationSpeed":200\,"showMoveArrow":true}});\n		});\n	\n\n\n \n\n
URL:https://thechesspedia.net/day/july-4/
CATEGORIES:July
ATTACH;FMTTYPE=image/png:https://thechesspedia.net/wp-content/uploads/2016/07/july-4.png
END:VEVENT
END:VCALENDAR