
BEGIN:VCALENDAR
VERSION:2.0
PRODID:-//The Chesspedia - ECPv5.1.2.1//NONSGML v1.0//EN
CALSCALE:GREGORIAN
METHOD:PUBLISH
X-WR-CALNAME:The Chesspedia
X-ORIGINAL-URL:https://thechesspedia.net
X-WR-CALDESC:Events for The Chesspedia
BEGIN:VTIMEZONE
TZID:UTC
BEGIN:STANDARD
TZOFFSETFROM:+0000
TZOFFSETTO:+0000
TZNAME:UTC
DTSTART:20160101T000000
END:STANDARD
END:VTIMEZONE
BEGIN:VEVENT
DTSTART;VALUE=DATE:20160725
DTEND;VALUE=DATE:20160726
DTSTAMP:20260422T021122
CREATED:20160725T120238Z
LAST-MODIFIED:20161028T103129Z
UID:19933-1469404800-1469491199@thechesspedia.net
SUMMARY:July 25
DESCRIPTION:QUOTE OF THE DAY \nWhat’s been bothering me is not that I haven’t won tournaments\, but that I haven’t played very well.- Magnus Carlsen\, 2017\nBIRTHS \nHans Kmoch (1894 – 13.02.1973)\, Austrian-Dutch-American chess International Master (1950)\, International Arbiter (1951)\, and a coach\, chess journalist and author.\nAndré Muffang (1897-01.03.1989) French International Master and an engineer who was French Champion in 1931.\nArthur Roycrowth (1929)\, English chess composer.\nSlobodan Martinovic (1945-10.01.1915) Serbian Grandmaster.\nJulio Kaplan (1950)\, is a Puerto Rican International Master who was World Junior Champion in 1967 and a software developer.\nJulian Hodgson (1963)\, English Grandmaster who won four British Champion titles. Since 2003\, he has not played competitive chess\, instead teaching chess in schools.\nOleg Korneev (1969) Russian grandmaster who moved to Spain in 2012.\nReefat Bin – Sattar (1974) Bangladeshi Grandmaster.\nDmitry Svetushkin (1980)\, Moldovian Grandmaster who was the national champion in 2000. \nDEATHS \nGosta Stoltz (09.05.1904-1963)\, Swedish grandmaster who played in 9 Olympiads and won three national championships. \nCHESS EVENTS \n1936 The FIDE GA accepted Bulgaria as a full member. Mexico\, Uruguay\, and Brazil were temporarily excluded due to unpaid dues. 29 federations were now members of FIDE.\n1946 After six years of silence due to the World War and its misery\, the Swiss Chess Federation organized the 17th FIDE Congress in Winterthur\, Switzerland with only 8 federations out of 41 represented.\n1971 Candidates Semi Final in Denver\, R. Fischer (USA) repeated his magnificent performance by beating Bent Larsen (DEN) 6-0.\n2009 By the decree of the President of Russia Dmitry Medvedev\, Karjakin adopted Russian citizenship. Later that year he transferred chess federations from Ukraine to Russia \nWORLD EVENTS \n306 – Constantine I is proclaimed Roman emperor by his troops.\n315 – The Arch of Constantine is completed near the Colosseum in Rome to commemorate Constantine I’s victory over Maxentius at theMilvian Bridge.\n1567 – Don Diego de Losada founds the city of Santiago de Leon de Caracas\, modern-day Caracas\, the capital city of Venezuela.\n1788 – Wolfgang Amadeus Mozart completes his Symphony No. 40 in G minor (K550).\n1866 – The United States Congress passes legislation authorizing the rank of General of the Army. Lieutenant General Ulysses S. Grant becomes the first to be promoted to this rank.\n1868 – Wyoming becomes a United States territory.\n1894 – The First Sino-Japanese War begins when the Japanese fire upon a Chinese warship.\n1909 – Louis Blériot makes the first flight across the English Channel in a heavier-than-air machine from (Calais to Dover\, England\, United Kingdom) in 37 minutes.\n1925 – Telegraph Agency of the Soviet Union (TASS) is established.\n1943 – World War II: Benito Mussolini is forced out of office by the Grand Council of Fascism and is replaced by Pietro Badoglio.\n1957 – The Republic of Tunisia is proclaimed.\n1984 – Salyut 7 cosmonaut Svetlana Savitskaya becomes the first woman to perform a space walk.\n1994 – Israel and Jordan sign the Washington Declaration\, that formally ends the state of war that had existed between the nations since 1948.\n2000 – Concorde Air France Flight 4590 crashes at Paris Charles de Gaulle airport\, killing 113 passengers.\n2010 – WikiLeaks publishes classified documents about the War in Afghanistan\, one of the largest leaks in U.S. military history. \nGAME OF THE DAY \n\n\n \n\n\n	\n				[Event "Vienna Imperial Jubilee"]\n[Site "Vienna"]\n[Date "1898.07.25"]\n[Round "?"]\n[White "Lipke\, Paul"]\n[Black "Janowski\, Dawid Markelowicz"]\n[Result "1-0"]\n[ECO "C67"]\n[PlyCount "63"]\n[EventDate "1898.06.01"]\n[EventType "tourn"]\n[EventRounds "36"]\n[EventCountry "AUT"]\n[SourceTitle "HCL"]\n[Source "ChessBase"]\n[SourceDate "1999.07.01"]\n\n1. e4 e5 2. Nf3 Nc6 3. Bb5 Nf6 4. O-O Nxe4 5. Re1 Nd6 6. Nxe5 Be7 7. Bd3 O-O 8.\nNc3 Nxe5 9. Rxe5 f5 10. Nd5 Bf6 11. Re1 b6 12. Be2 c6 13. Nxf6+ Qxf6 14. d4 f4\n15. Bd3 Nf7 16. Re4 g5 17. h4 h6 18. hxg5 hxg5 19. Qh5 Rd8 20. Bxf4 gxf4 21.\nRae1 Qh6 22. Qg4+ Qg5 23. Qf3 d5 24. Rxf4 Nh6 25. Re5 Qg7 26. Qh5 Bf5 27. Bxf5\nRf8 28. Rg4 Nxg4 29. Be6+ Rf7 30. Rg5 Kf8 31. Rxg7 Rxg7 32. Qh8+ 1-0\n				\n			You must activate JavaScript to enhance chess game visualization.		\n	\n	\n	\n		jQuery(document).ready(function($) {\n						$.chessgame.navigationButtonClass  = 'rpbchessboard-jQuery-enableSmoothness';\n			$.chessgame.navigationFrameClass   = 'wp-dialog';\n			$.chessgame.navigationFrameOptions = {"squareSize":32\,"showCoordinates":true\,"colorset":"original"\,"pieceset":"cburnett"\,"animationSpeed":200\,"showMoveArrow":true};\n			var selector = '#' + "rpbchessboard-69e82e4ad7796-1" + ' .rpbchessboard-chessgameAnchor';\n			$(selector).removeClass('rpbchessboard-chessgameAnchor').chessgame({"pgn":"[Event \"Vienna Imperial Jubilee\"]\r\n[Site \"Vienna\"]\r\n[Date \"1898.07.25\"]\r\n[Round \"?\"]\r\n[White \"Lipke\, Paul\"]\r\n[Black \"Janowski\, Dawid Markelowicz\"]\r\n[Result \"1-0\"]\r\n[ECO \"C67\"]\r\n[PlyCount \"63\"]\r\n[EventDate \"1898.06.01\"]\r\n[EventType \"tourn\"]\r\n[EventRounds \"36\"]\r\n[EventCountry \"AUT\"]\r\n[SourceTitle \"HCL\"]\r\n[Source \"ChessBase\"]\r\n[SourceDate \"1999.07.01\"]\r\n\r\n1. e4 e5 2. Nf3 Nc6 3. Bb5 Nf6 4. O-O Nxe4 5. Re1 Nd6 6. Nxe5 Be7 7. Bd3 O-O 8.\r\nNc3 Nxe5 9. Rxe5 f5 10. Nd5 Bf6 11. Re1 b6 12. Be2 c6 13. Nxf6+ Qxf6 14. d4 f4\r\n15. Bd3 Nf7 16. Re4 g5 17. h4 h6 18. hxg5 hxg5 19. Qh5 Rd8 20. Bxf4 gxf4 21.\r\nRae1 Qh6 22. Qg4+ Qg5 23. Qf3 d5 24. Rxf4 Nh6 25. Re5 Qg7 26. Qh5 Bf5 27. Bxf5\r\nRf8 28. Rg4 Nxg4 29. Be6+ Rf7 30. Rg5 Kf8 31. Rxg7 Rxg7 32. Qh8+ 1-0"\,"pieceSymbols":"native"\,"navigationBoard":"above"\,"showFlipButton":true\,"showDownloadButton":true\,"navigationBoardOptions":{"squareSize":32\,"showCoordinates":true\,"colorset":"original"\,"pieceset":"cburnett"\,"animationSpeed":200\,"showMoveArrow":true}\,"diagramOptions":{"squareSize":32\,"showCoordinates":true\,"colorset":"original"\,"pieceset":"cburnett"\,"animationSpeed":200\,"showMoveArrow":true}});\n		});\n	\n\n\n \n\n
URL:https://thechesspedia.net/day/july-25/
CATEGORIES:July
ATTACH;FMTTYPE=image/png:https://thechesspedia.net/wp-content/uploads/2016/07/july-25.png
END:VEVENT
END:VCALENDAR