
BEGIN:VCALENDAR
VERSION:2.0
PRODID:-//The Chesspedia - ECPv5.1.2.1//NONSGML v1.0//EN
CALSCALE:GREGORIAN
METHOD:PUBLISH
X-WR-CALNAME:The Chesspedia
X-ORIGINAL-URL:https://thechesspedia.net
X-WR-CALDESC:Events for The Chesspedia
BEGIN:VTIMEZONE
TZID:UTC
BEGIN:STANDARD
TZOFFSETFROM:+0000
TZOFFSETTO:+0000
TZNAME:UTC
DTSTART:20160101T000000
END:STANDARD
END:VTIMEZONE
BEGIN:VEVENT
DTSTART;VALUE=DATE:20160724
DTEND;VALUE=DATE:20160725
DTSTAMP:20260422T004458
CREATED:20200724T120021Z
LAST-MODIFIED:20200413T101147Z
UID:19929-1469318400-1469404799@thechesspedia.net
SUMMARY:July 24
DESCRIPTION:QUOTE OF THE DAY \nI give 98 percent of my mental energy to Chess. Others give only 2 percent!- Robert Fischer\nBIRTHS \nViacheslav Osnos (1935-27.08.2009)\, Russian Russian International Master\, trainer and author who between 1968 and 1974 he was one of Viktor Korchnoi’s seconds.\nAnthony Kosten (1958) England grandmaster and coach who is living in France.\nLudger Keitlinghaus (1965)\, German Grandmaster.\nTigran Gharamian (1984)\, Armenian-French chess Grandmaster\, runner-up on tiebreak to Christian Bauer at the French Championships (2015).\nVugar Gashimov (1986-10.01.2014)\, Talented Azerbaijani Grandmaster who was a solid member of the world top 10. Vugar Gashimov fell ill in February 2000\, doctors diagnosed epilepsy. Subsequently\, a brain tumor was found.\nAramis Alvarez Pedraza\, Aramis (1988)\, Cuban Grandmaster. \nDEATHS \nNicolas Rossolimo (20.02.1920-1975) was an American-French-Greek-Russian  Grandmaster. He emigrated to France in 1929 then\, in 1952 he emigrated to the United States\, and won the 1955 U.S. Open Chess Championship. \nCHESS EVENTS \n1884. The British Chess Federation is inaugurated at a meeting called by Hoffer\, at Simpson’s Divan. Lord Tennyson was the President.\n1925 The FIDE GA proposed to write the first draft of Chess Rules.\n1930 The FIDE GA accepted Lithuania and Iceland as full members but rejected Scotland who was still part of Great Britain. FIDE has 28 members. \nWORLD EVENTS \n1411 Battle of Harlaw\, one of the bloodiest battles in Scotland\, takes place.\n1701 Antoine de la Mothe Cadillac founds the trading post at Fort Pontchartrain\, which later becomes the city of Detroit.\n1783 The Kingdom of Georgia and the Russian Empire sign the Treaty of Georgievsk.\n1823 In Maracaibo\, Venezuela\, the naval Battle of Lake Maracaibo takes place\, where Admiral José Prudencio Padilla\, defeats the Spanish Navy\, thus culminating the independence for the Gran Colombia.\n1866 Reconstruction: Tennessee becomes the first U.S. state to be readmitted to the Union following the American Civil War.\n1915 The passenger ship S.S. Eastland capsizes while tied to a dock in the Chicago River. A total of 844 passengers and crew are killed in the largest loss of life disaster from a single shipwreck on the Great Lakes.\n1922 The draft of the British Mandate of Palestine was formally confirmed by the Council of the League of Nations; it came into effect on 26 September 1923.\n1923 The Treaty of Lausanne\, settling the boundaries of modern Turkey\, is signed in Switzerland by Greece\, Bulgaria and other countries that fought in World War I.\n1974 Watergate scandal: The United States Supreme Court unanimously ruled that President Richard Nixon did not have the authority to withhold subpoenaedWhite House tapes and they order him to surrender the tapes to the Watergate special prosecutor.\n1980 The Quietly Confident Quartet of Australia wins the Men’s 4 x 100-metre medley relay at the Moscow Olympics\, the only time the United States has not won the event at Olympic level.\n2019 Boris Johnson becomes Prime Minister of the United Kingdom after defeating Jeremy Hunt in a leadership contest\, succeeding Theresa May \n(Source: Wikipedia) \nGAME OF THE DAY \n\n\n \n\n\n	\n				[Event "DSB-15.Kongress"]\n[Site "Nuremberg"]\n[Date "1906.??.??"]\n[Round "2"]\n[White "Swiderski\, Rudolf"]\n[Black "Znosko Borovsky\, Eugene"]\n[Result "0-1"]\n[ECO "D02"]\n[PlyCount "46"]\n[EventDate "1906.07.24"]\n[EventType "tourn"]\n[EventRounds "16"]\n[EventCountry "GER"]\n\n1. d4 d5 2. Nf3 c5 3. e3 Nc6 4. dxc5 e6 5. a3 a5 6. Be2 Bxc5 7. O-O Nf6 8. Nc3\nO-O 9. Nb5 Qe7 10. b3 Rd8 11. Bb2 e5 12. Qc1 Ne4 13. Rd1 Bg4 14. c4 d4 15. Qc2\nf5 16. exd4 exd4 17. Rd3 Bxf3 18. gxf3 Qg5+ 19. Kf1 Qf4 20. fxe4 fxe4 21. Qd2\ne3 22. Qe1 Qxh2 23. Bg4 Rf8 0-1\n				\n			You must activate JavaScript to enhance chess game visualization.		\n	\n	\n	\n		jQuery(document).ready(function($) {\n						$.chessgame.navigationButtonClass  = 'rpbchessboard-jQuery-enableSmoothness';\n			$.chessgame.navigationFrameClass   = 'wp-dialog';\n			$.chessgame.navigationFrameOptions = {"squareSize":32\,"showCoordinates":true\,"colorset":"original"\,"pieceset":"cburnett"\,"animationSpeed":200\,"showMoveArrow":true};\n			var selector = '#' + "rpbchessboard-69e81a0a118a0-1" + ' .rpbchessboard-chessgameAnchor';\n			$(selector).removeClass('rpbchessboard-chessgameAnchor').chessgame({"pgn":"[Event \"DSB-15.Kongress\"]\r\n[Site \"Nuremberg\"]\r\n[Date \"1906.??.??\"]\r\n[Round \"2\"]\r\n[White \"Swiderski\, Rudolf\"]\r\n[Black \"Znosko Borovsky\, Eugene\"]\r\n[Result \"0-1\"]\r\n[ECO \"D02\"]\r\n[PlyCount \"46\"]\r\n[EventDate \"1906.07.24\"]\r\n[EventType \"tourn\"]\r\n[EventRounds \"16\"]\r\n[EventCountry \"GER\"]\r\n\r\n1. d4 d5 2. Nf3 c5 3. e3 Nc6 4. dxc5 e6 5. a3 a5 6. Be2 Bxc5 7. O-O Nf6 8. Nc3\r\nO-O 9. Nb5 Qe7 10. b3 Rd8 11. Bb2 e5 12. Qc1 Ne4 13. Rd1 Bg4 14. c4 d4 15. Qc2\r\nf5 16. exd4 exd4 17. Rd3 Bxf3 18. gxf3 Qg5+ 19. Kf1 Qf4 20. fxe4 fxe4 21. Qd2\r\ne3 22. Qe1 Qxh2 23. Bg4 Rf8 0-1"\,"pieceSymbols":"native"\,"navigationBoard":"above"\,"showFlipButton":true\,"showDownloadButton":true\,"navigationBoardOptions":{"squareSize":32\,"showCoordinates":true\,"colorset":"original"\,"pieceset":"cburnett"\,"animationSpeed":200\,"showMoveArrow":true}\,"diagramOptions":{"squareSize":32\,"showCoordinates":true\,"colorset":"original"\,"pieceset":"cburnett"\,"animationSpeed":200\,"showMoveArrow":true}});\n		});\n	\n\n\n \n\n
URL:https://thechesspedia.net/day/july-24/
CATEGORIES:July
ATTACH;FMTTYPE=image/png:https://thechesspedia.net/wp-content/uploads/2016/07/july-24.png
END:VEVENT
END:VCALENDAR