
BEGIN:VCALENDAR
VERSION:2.0
PRODID:-//The Chesspedia - ECPv5.1.2.1//NONSGML v1.0//EN
CALSCALE:GREGORIAN
METHOD:PUBLISH
X-WR-CALNAME:The Chesspedia
X-ORIGINAL-URL:https://thechesspedia.net
X-WR-CALDESC:Events for The Chesspedia
BEGIN:VTIMEZONE
TZID:UTC
BEGIN:STANDARD
TZOFFSETFROM:+0000
TZOFFSETTO:+0000
TZNAME:UTC
DTSTART:20160101T000000
END:STANDARD
END:VTIMEZONE
BEGIN:VEVENT
DTSTART;VALUE=DATE:20160722
DTEND;VALUE=DATE:20160723
DTSTAMP:20260422T021035
CREATED:20160722T115502Z
LAST-MODIFIED:20161028T102342Z
UID:19917-1469145600-1469231999@thechesspedia.net
SUMMARY:July 22
DESCRIPTION:QUOTE OF THE DAY \nIf I’m thinking for more than 20 minutes about one move\, it’s usually a waste. Sometimes you can come up with some amazing solution but most of the time you just end up looping: you consider a move\, you reject it\, then you’re desperate\, you come back to the move\, you don’t remember why you rejected it\, you have to make a move so you make it – then your opponent replies and you remember why you rejected it. The longest wait I ever did between moves was one hour and five minutes – and the move was horrible.- Magnus Carlsen\, 2016\nBIRTHS \nR.C. Griffith (1872-11.12.1955) FIDE Life Member\, he was a British chess player\, author and editor. He won the British Chess Championship in 1912.\nMarquis Stefano Rosselli del Turco (1877-18.08.1947)\, a strong Italian player who won twice the national championship. He was the founder and an editor of L’Italia Scacchistica.\nNikolai\, Krogius (1930)\, Russian Chess Grandmaster\, International Arbiter (1985)\, psychologist\, chess coach\, chess administrator\, and author. He coached World Champion Boris Spassky for several years\, also served as chairman of the USSR Chess Federation\,\nAlexandra van der Mije (1940-14.10.2013)\, Dutch Women Grandmaster born in Romania who was many times national Women Champion in both countries.\nAndrei Makarov (1954)\, Russian International Master\, lawyer\, former president of the Russian chess federation and the chairman of the budget committee of the State Duma.\nGeoffrey Borg (1963)\, Maltese FIDE Master and FIDE CEO.\nPawel Jaracz\, Polish Grandmaster who was second the national championship in 2011. \nDEATHS \nJoseph Plachutta (13.05. 1827 -1883)\, Slovenian problemist and chess player\, known for his famous problem with Plachutta theme.\nAdolf Olland (1867-1933). was the leading Dutch chess master in the time before Max Euwe. \nCHESS EVENTS \n1925 The 2nd FIDE Congress opened in Zurich with 12 federations represented.\n1931The 8th FIDE Congress opened in Prague\, with 17 federations represented.\n1953 Without Soviet representative\, Oscar Panno (ARG) won the 2nd World Junior Championship in Copenhagen\n1962 The team of USSR with B. Spassky\, E. Gufeld\, V. Bagirov\, V. Savon \, G .Khodos\,and H. Tomson won the 9th World Student Team Championship in Marianske Lazne\, Czechoslovakia.\n2007 In Moscow GM Vassily Ivanchuk of Ukraine  won the World Blitz Chess Championship 2007.\nWORLD EVENTS \n1099 First Crusade: Godfrey of Bouillon is elected the first Defender of the Holy Sepulchre of The Kingdom of Jerusalem.\n1706 The Acts of Union 1707 are agreed upon by commissioners from the Kingdom of England and the Kingdom of Scotland\, which\, when passed by each countries’ Parliaments\, led to the creation of the Kingdom of Great Britain.\n1797 Battle of Santa Cruz de Tenerife: Battle between Spanish and British naval forces during the French Revolutionary Wars. During the Battle\, Rear-AdmiralNelson is wounded in the arm and the arm had to be partially amputated.\n1894 The first ever motor race is held in France between the cities of Paris and Rouen. The fastest finisher was the Comte Jules-Albert de Dion\, but the ‘official’ victory was awarded to Albert Lemaître driving his 3 hp petrol engined Peugeot.\n1933 Aviator Wiley Post returns to Floyd Bennett Field in New York\, NY\, completing the first solo flight around the world in 7 days\, 18 hours and 49 minutes.\n1934 Outside Chicago’s Biograph Theater\, “Public Enemy No. 1” John Dillinger is mortally wounded by FBI agents.\n1946 King David Hotel bombing: A Zionist underground organisation\, the Irgun\, bombs the King David Hotel in Jerusalem\, site of the civil administration and military headquarters for Mandatory Palestine\, resulting in 91 deaths.\n1951 Dezik (Дезик) and Tsygan (Цыган\, “Gypsy”) are the first dogs to make a sub-orbital flight.\n1977 Chinese leader Deng Xiaoping is restored to power.\n1983 Martial law in Poland is officially revoked.\n2011 Norway is the victim of twin terror attacks\, the first being a bomb blast which targeted government buildings in central Oslo\, the second being a massacre at a youth camp on the island of Utøya.\n(Source: Wikipedia) \nGAME OF THE DAY \n\n\n \n\n\n	\n				[Event "Dortmund"]\n[Site "Dortmund GER"]\n[Date "2012.07.22"]\n[EventDate "2012.07.13"]\n[Round "9"]\n[Result "1-0"]\n[White "Vladimir Kramnik"]\n[Black "Georg Meier"]\n[ECO "D32"]\n[WhiteElo "2799"]\n[BlackElo "2644"]\n[PlyCount "65"]\n\n1. c4 Nf6 2. Nc3 c5 3. Nf3 e6 4. e3 Nc6 5. d4 d5 6. cxd5 Nxd5\n7. Bc4 cxd4 8. exd4 Be7 9. O-O O-O 10. Re1 Bf6 11. Bb3 Nde7\n12. Bf4 Bxd4 13. Nxd4 Nxd4 14. Bc4 Nec6 15. Rc1 Qf6 16. Bc7 e5\n17. Nd5 Qg5 18. f4 exf4 19. Bxf4 Qh4 20. Bg3 Qd8 21. Nc7 Rb8\n22. Nb5 Ra8 23. Bd6 Re8 24. Bxf7+ Kxf7 25. Qh5+ g6 26. Qxh7+\nKf6 27. Nxd4 Nxd4 28. Qh4+ Kf7 29. Rc7+ Bd7 30. Qh7+ Kf6\n31. Rf1+ Ke6 32. Qxg6+ Kd5 33. Rc5+ 1-0\n				\n			You must activate JavaScript to enhance chess game visualization.		\n	\n	\n	\n		jQuery(document).ready(function($) {\n						$.chessgame.navigationButtonClass  = 'rpbchessboard-jQuery-enableSmoothness';\n			$.chessgame.navigationFrameClass   = 'wp-dialog';\n			$.chessgame.navigationFrameOptions = {"squareSize":32\,"showCoordinates":true\,"colorset":"original"\,"pieceset":"cburnett"\,"animationSpeed":200\,"showMoveArrow":true};\n			var selector = '#' + "rpbchessboard-69e82e1beaf56-1" + ' .rpbchessboard-chessgameAnchor';\n			$(selector).removeClass('rpbchessboard-chessgameAnchor').chessgame({"pgn":"[Event \"Dortmund\"]\r\n[Site \"Dortmund GER\"]\r\n[Date \"2012.07.22\"]\r\n[EventDate \"2012.07.13\"]\r\n[Round \"9\"]\r\n[Result \"1-0\"]\r\n[White \"Vladimir Kramnik\"]\r\n[Black \"Georg Meier\"]\r\n[ECO \"D32\"]\r\n[WhiteElo \"2799\"]\r\n[BlackElo \"2644\"]\r\n[PlyCount \"65\"]\r\n\r\n1. c4 Nf6 2. Nc3 c5 3. Nf3 e6 4. e3 Nc6 5. d4 d5 6. cxd5 Nxd5\r\n7. Bc4 cxd4 8. exd4 Be7 9. O-O O-O 10. Re1 Bf6 11. Bb3 Nde7\r\n12. Bf4 Bxd4 13. Nxd4 Nxd4 14. Bc4 Nec6 15. Rc1 Qf6 16. Bc7 e5\r\n17. Nd5 Qg5 18. f4 exf4 19. Bxf4 Qh4 20. Bg3 Qd8 21. Nc7 Rb8\r\n22. Nb5 Ra8 23. Bd6 Re8 24. Bxf7+ Kxf7 25. Qh5+ g6 26. Qxh7+\r\nKf6 27. Nxd4 Nxd4 28. Qh4+ Kf7 29. Rc7+ Bd7 30. Qh7+ Kf6\r\n31. Rf1+ Ke6 32. Qxg6+ Kd5 33. Rc5+ 1-0"\,"pieceSymbols":"native"\,"navigationBoard":"above"\,"showFlipButton":true\,"showDownloadButton":true\,"navigationBoardOptions":{"squareSize":32\,"showCoordinates":true\,"colorset":"original"\,"pieceset":"cburnett"\,"animationSpeed":200\,"showMoveArrow":true}\,"diagramOptions":{"squareSize":32\,"showCoordinates":true\,"colorset":"original"\,"pieceset":"cburnett"\,"animationSpeed":200\,"showMoveArrow":true}});\n		});\n	\n\n\n \n\n
URL:https://thechesspedia.net/day/july-22/
CATEGORIES:July
ATTACH;FMTTYPE=image/png:https://thechesspedia.net/wp-content/uploads/2016/07/july-22.png
END:VEVENT
END:VCALENDAR