
BEGIN:VCALENDAR
VERSION:2.0
PRODID:-//The Chesspedia - ECPv5.1.2.1//NONSGML v1.0//EN
CALSCALE:GREGORIAN
METHOD:PUBLISH
X-WR-CALNAME:The Chesspedia
X-ORIGINAL-URL:https://thechesspedia.net
X-WR-CALDESC:Events for The Chesspedia
BEGIN:VTIMEZONE
TZID:UTC
BEGIN:STANDARD
TZOFFSETFROM:+0000
TZOFFSETTO:+0000
TZNAME:UTC
DTSTART:20160101T000000
END:STANDARD
END:VTIMEZONE
BEGIN:VEVENT
DTSTART;VALUE=DATE:20160712
DTEND;VALUE=DATE:20160713
DTSTAMP:20260422T004558
CREATED:20160712T112945Z
LAST-MODIFIED:20161028T093945Z
UID:19874-1468281600-1468367999@thechesspedia.net
SUMMARY:July 12
DESCRIPTION:QUOTE OF THE DAY \n” Oh\, those exclamation points! How they erode the innocent soul of the amateur\, removing all hope of allowing him to examine another player’s ideas critically!”- Tigran Petrosian\n
URL:https://thechesspedia.net/day/july-12/
CATEGORIES:July
ATTACH;FMTTYPE=image/png:https://thechesspedia.net/wp-content/uploads/2016/07/july-12.png
END:VEVENT
END:VCALENDAR