
BEGIN:VCALENDAR
VERSION:2.0
PRODID:-//The Chesspedia - ECPv5.1.2.1//NONSGML v1.0//EN
CALSCALE:GREGORIAN
METHOD:PUBLISH
X-WR-CALNAME:The Chesspedia
X-ORIGINAL-URL:https://thechesspedia.net
X-WR-CALDESC:Events for The Chesspedia
BEGIN:VTIMEZONE
TZID:UTC
BEGIN:STANDARD
TZOFFSETFROM:+0000
TZOFFSETTO:+0000
TZNAME:UTC
DTSTART:20160101T000000
END:STANDARD
END:VTIMEZONE
BEGIN:VEVENT
DTSTART;VALUE=DATE:20160711
DTEND;VALUE=DATE:20160712
DTSTAMP:20260422T021129
CREATED:20170711T094454Z
LAST-MODIFIED:20170712T085318Z
UID:20350-1468195200-1468281599@thechesspedia.net
SUMMARY:July 11
DESCRIPTION:QUOTE OF THE DAY \nChess is a foolish expedient for making idle people believe they are doing something very clever\, when their are only wasting their time.- Bernard Shaw\nBIRTHS \nMehrshad Shariff (1952)\, a Franch International Master and coach born in Iran.\nLars Karlsson w(1955)\, a Swedish Grandmaster. as born in Stockholm\, Sweden.\nVladimir Epishin (1965)\, a Russian Grandmaster living in Germany who was coach of Karpov for many years.was born in Leningrad\, Russia.\nRobert Kempinski (1977)\, a Polish Grandmaster who won the Polish Championship in 1992 and 2001. \nWORLD EVENTS \n1346 Charles IV of Luxembourg is elected emperor of the Holy Roman Empire.\n1533 Pope Clement VII excommunicates England’s King Henry VIII\n1892 US Patent Office says J W Swan\, rather than Thomas Edison\, invented the electric light carbon for the incandescent lamp.\n1900 Charlotte Cooper beats Hélène Prévost to become the 1st female Olympic tennis champion and the 1st individual female Olympic champion in any sport.\n1921 Mongolia gains independence from China (National Day).\n1940 Marshall Henri Petain\, French hero of World War One\, becomes head of the collaborative Vichy government of France.\n1982 FIFA World Cup: Italy beats West Germany 3-1 for football’s 12th World Cup in Madrid.\n2010 FIFA World Cup: Spain beats the Netherlands 1-0 for football’s 19th World Cup in Johannesburg (Spain’s 1st title)\n(Source: Timeline) \nGAME OF THE DAY \n\n\n \n\n\n	\n				[Event "Fischer - Spassky World Championship Match"]\n[Site "Reykjavik ISL"]\n[Date "1972.07.11"]\n[EventDate "?"]\n[Round "1"]\n[Result "1-0"]\n[White "Boris Spassky"]\n[Black "Robert James Fischer"]\n[ECO "E56"]\n[WhiteElo "?"]\n[BlackElo "?"]\n[PlyCount "111"]\n\n1. d4 Nf6 2. c4 e6 3. Nf3 d5 4. Nc3 Bb4 5. e3 O-O 6. Bd3 c5\n7. O-O Nc6 8. a3 Ba5 9. Ne2 dxc4 10. Bxc4 Bb6 11. dxc5 Qxd1\n12. Rxd1 Bxc5 13. b4 Be7 14. Bb2 Bd7 15. Rac1 Rfd8 16. Ned4\nNxd4 17. Nxd4 Ba4 18. Bb3 Bxb3 19. Nxb3 Rxd1+ 20. Rxd1 Rc8\n21. Kf1 Kf8 22. Ke2 Ne4 23. Rc1 Rxc1 24. Bxc1 f6 25. Na5 Nd6\n26. Kd3 Bd8 27. Nc4 Bc7 28. Nxd6 Bxd6 29. b5 Bxh2 30. g3 h5\n31. Ke2 h4 32. Kf3 Ke7 33. Kg2 hxg3 34. fxg3 Bxg3 35. Kxg3 Kd6\n36. a4 Kd5 37. Ba3 Ke4 38. Bc5 a6 39. b6 f5 40. Kh4 f4\n41. exf4 Kxf4 42. Kh5 Kf5 43. Be3 Ke4 44. Bf2 Kf5 45. Bh4 e5\n46. Bg5 e4 47. Be3 Kf6 48. Kg4 Ke5 49. Kg5 Kd5 50. Kf5 a5\n51. Bf2 g5 52. Kxg5 Kc4 53. Kf5 Kb4 54. Kxe4 Kxa4 55. Kd5 Kb5\n56. Kd6 1-0\n				\n			You must activate JavaScript to enhance chess game visualization.		\n	\n	\n	\n		jQuery(document).ready(function($) {\n						$.chessgame.navigationButtonClass  = 'rpbchessboard-jQuery-enableSmoothness';\n			$.chessgame.navigationFrameClass   = 'wp-dialog';\n			$.chessgame.navigationFrameOptions = {"squareSize":32\,"showCoordinates":true\,"colorset":"original"\,"pieceset":"cburnett"\,"animationSpeed":200\,"showMoveArrow":true};\n			var selector = '#' + "rpbchessboard-69e82e51a309f-1" + ' .rpbchessboard-chessgameAnchor';\n			$(selector).removeClass('rpbchessboard-chessgameAnchor').chessgame({"pgn":"[Event \"Fischer - Spassky World Championship Match\"]\r\n[Site \"Reykjavik ISL\"]\r\n[Date \"1972.07.11\"]\r\n[EventDate \"?\"]\r\n[Round \"1\"]\r\n[Result \"1-0\"]\r\n[White \"Boris Spassky\"]\r\n[Black \"Robert James Fischer\"]\r\n[ECO \"E56\"]\r\n[WhiteElo \"?\"]\r\n[BlackElo \"?\"]\r\n[PlyCount \"111\"]\r\n\r\n1. d4 Nf6 2. c4 e6 3. Nf3 d5 4. Nc3 Bb4 5. e3 O-O 6. Bd3 c5\r\n7. O-O Nc6 8. a3 Ba5 9. Ne2 dxc4 10. Bxc4 Bb6 11. dxc5 Qxd1\r\n12. Rxd1 Bxc5 13. b4 Be7 14. Bb2 Bd7 15. Rac1 Rfd8 16. Ned4\r\nNxd4 17. Nxd4 Ba4 18. Bb3 Bxb3 19. Nxb3 Rxd1+ 20. Rxd1 Rc8\r\n21. Kf1 Kf8 22. Ke2 Ne4 23. Rc1 Rxc1 24. Bxc1 f6 25. Na5 Nd6\r\n26. Kd3 Bd8 27. Nc4 Bc7 28. Nxd6 Bxd6 29. b5 Bxh2 30. g3 h5\r\n31. Ke2 h4 32. Kf3 Ke7 33. Kg2 hxg3 34. fxg3 Bxg3 35. Kxg3 Kd6\r\n36. a4 Kd5 37. Ba3 Ke4 38. Bc5 a6 39. b6 f5 40. Kh4 f4\r\n41. exf4 Kxf4 42. Kh5 Kf5 43. Be3 Ke4 44. Bf2 Kf5 45. Bh4 e5\r\n46. Bg5 e4 47. Be3 Kf6 48. Kg4 Ke5 49. Kg5 Kd5 50. Kf5 a5\r\n51. Bf2 g5 52. Kxg5 Kc4 53. Kf5 Kb4 54. Kxe4 Kxa4 55. Kd5 Kb5\r\n56. Kd6 1-0"\,"pieceSymbols":"native"\,"navigationBoard":"above"\,"showFlipButton":true\,"showDownloadButton":true\,"navigationBoardOptions":{"squareSize":32\,"showCoordinates":true\,"colorset":"original"\,"pieceset":"cburnett"\,"animationSpeed":200\,"showMoveArrow":true}\,"diagramOptions":{"squareSize":32\,"showCoordinates":true\,"colorset":"original"\,"pieceset":"cburnett"\,"animationSpeed":200\,"showMoveArrow":true}});\n		});\n	\n\n\n \n\n  \n
URL:https://thechesspedia.net/day/july-11/
CATEGORIES:July
ATTACH;FMTTYPE=image/png:https://thechesspedia.net/wp-content/uploads/2016/07/july-11.png
END:VEVENT
END:VCALENDAR