
BEGIN:VCALENDAR
VERSION:2.0
PRODID:-//The Chesspedia - ECPv5.1.2.1//NONSGML v1.0//EN
CALSCALE:GREGORIAN
METHOD:PUBLISH
X-WR-CALNAME:The Chesspedia
X-ORIGINAL-URL:https://thechesspedia.net
X-WR-CALDESC:Events for The Chesspedia
BEGIN:VTIMEZONE
TZID:UTC
BEGIN:STANDARD
TZOFFSETFROM:+0000
TZOFFSETTO:+0000
TZNAME:UTC
DTSTART:20160101T000000
END:STANDARD
END:VTIMEZONE
BEGIN:VEVENT
DTSTART;VALUE=DATE:20160710
DTEND;VALUE=DATE:20160711
DTSTAMP:20260422T021029
CREATED:20170709T112627Z
LAST-MODIFIED:20170710T111947Z
UID:19873-1468108800-1468195199@thechesspedia.net
SUMMARY:July 10
DESCRIPTION:QUOTE OF THE DAY \nDespite the ugliness of his decline\, Bobby Fischer deserves to be remembered for the great things he did for chess and for his immortal games.- Garry Kasparov \, 2004\nBIRTHS  \nOtto B. Wurzburg (1875- 19-10-1951) American composer who composed 1400 chess problems.\nBoris Savchenko (1986)\, a Russian Grandmaster who was a silver medalist at the 2015 European Blitz Championship\nElmira Karnaukhova (1985)\, a Russian Woman Grandmaster.\nLelys Stanley Martinez Duany (1985)\, a Cuban Grandmaster.\nShanglei Lu (1995)\, a Chinese Grandmaster who became the 2014 World Junior Champion. \nDEATH \nPaul Charles Morphy (22.06. 1837 – 1884)\, an American chess player. He is considered to have been the greatest chess master of his era and an unofficial World Chess Champion. \nCHESS EVENTS \n1965 Candidates Semi-Final in Riga\, Boris Spassky USSR – Efim Geller USSR ended 5½-2½.\n1965 Candidates Quarterfinal in Bled\, Mikhail Tal USSR-Lajos Portisch HUN ended 5½-2½.\n1965 Candidates Quarterfinal in Bled\, Bent Larsen DEN-Boris Ivkov YUG ended 5½-2½.\nWORLD EVENTS \n1086 – King Canute IV of Denmark is killed by rebellious peasants.\n1212 – The most severe of several early fires of London burns most of the city to the ground.\n1553 – Lady Jane Grey takes the throne of England.\n1821 – The United States takes possession of its newly bought territory of Florida from Spain.\n1890 – Wyoming is admitted as the 44th U.S. state.\n1913 – The temperature in Death Valley\, California\, hits 134 °F (57 °C)\, the highest temperature ever to be recorded on Earth.\n1947 – Muhammad Ali Jinnah is recommended as the first Governor-General of Pakistan by the British Prime Minister\, Clement Attlee.\n1962 – Telstar\, the world’s first communications satellite\, is launched into orbit.\n1973 – The Bahamas gained full independence within the Commonwealth of Nations.\n1973 – National Assembly of Pakistan passes a resolution on the recognition of Bangladesh.\n1991 – Boris Yeltsin takes office as the first elected President of Russia.\n(Source Wikipedia) \nGAME OF THE DAY \n\n\n \n\n\n	\n				[Event "Anderssen - Steinitz"]\n[Site "London ENG"]\n[Date "1866.07.10"]\n[EventDate "1866.07.10"]\n[Round "1"]\n[Result "1-0"]\n[White "Adolf Anderssen"]\n[Black "Wilhelm Steinitz"]\n[ECO "C51"]\n[WhiteElo "?"]\n[BlackElo "?"]\n[PlyCount "71"]\n\n1.e4 e5 2.Nf3 Nc6 3.Bc4 Bc5 4.b4 Bxb4 5.c3 Bc5 6.d4 exd4 7.O-O\nd6 8.cxd4 Bb6 9.d5 Na5 10.Bb2 Ne7 11.Bd3 O-O 12.Nc3 c6 13.Ne2\nf5 14.Rc1 fxe4 15.Bxe4 Bf5 16.Bxf5 Rxf5 17.dxc6 bxc6 18.Ned4\nRf6 19.Nxc6 Nexc6 20.Bxf6 Qxf6 21.Rxc6 Nxc6 22.Qd5+ Qf7\n23.Qxc6 Rd8 24.a4 d5 25.Rd1 d4 26.Rd3 Qf5 27.Qc4+ Kh8 28.h3\nRc8 29.Qb3 h6 30.g4 Qf6 31.Qd5 Rc3 32.Ne5 Rc5 33.Qa8+ Kh7\n34.Qe4+ Kg8 35.Ng6 Rc3 36.Qe8+ 1-0\n				\n			You must activate JavaScript to enhance chess game visualization.		\n	\n	\n	\n		jQuery(document).ready(function($) {\n						$.chessgame.navigationButtonClass  = 'rpbchessboard-jQuery-enableSmoothness';\n			$.chessgame.navigationFrameClass   = 'wp-dialog';\n			$.chessgame.navigationFrameOptions = {"squareSize":32\,"showCoordinates":true\,"colorset":"original"\,"pieceset":"cburnett"\,"animationSpeed":200\,"showMoveArrow":true};\n			var selector = '#' + "rpbchessboard-69e82e15b4ebb-1" + ' .rpbchessboard-chessgameAnchor';\n			$(selector).removeClass('rpbchessboard-chessgameAnchor').chessgame({"pgn":"[Event \"Anderssen - Steinitz\"]\r\n[Site \"London ENG\"]\r\n[Date \"1866.07.10\"]\r\n[EventDate \"1866.07.10\"]\r\n[Round \"1\"]\r\n[Result \"1-0\"]\r\n[White \"Adolf Anderssen\"]\r\n[Black \"Wilhelm Steinitz\"]\r\n[ECO \"C51\"]\r\n[WhiteElo \"?\"]\r\n[BlackElo \"?\"]\r\n[PlyCount \"71\"]\r\n\r\n1.e4 e5 2.Nf3 Nc6 3.Bc4 Bc5 4.b4 Bxb4 5.c3 Bc5 6.d4 exd4 7.O-O\r\nd6 8.cxd4 Bb6 9.d5 Na5 10.Bb2 Ne7 11.Bd3 O-O 12.Nc3 c6 13.Ne2\r\nf5 14.Rc1 fxe4 15.Bxe4 Bf5 16.Bxf5 Rxf5 17.dxc6 bxc6 18.Ned4\r\nRf6 19.Nxc6 Nexc6 20.Bxf6 Qxf6 21.Rxc6 Nxc6 22.Qd5+ Qf7\r\n23.Qxc6 Rd8 24.a4 d5 25.Rd1 d4 26.Rd3 Qf5 27.Qc4+ Kh8 28.h3\r\nRc8 29.Qb3 h6 30.g4 Qf6 31.Qd5 Rc3 32.Ne5 Rc5 33.Qa8+ Kh7\r\n34.Qe4+ Kg8 35.Ng6 Rc3 36.Qe8+ 1-0"\,"pieceSymbols":"native"\,"navigationBoard":"above"\,"showFlipButton":true\,"showDownloadButton":true\,"navigationBoardOptions":{"squareSize":32\,"showCoordinates":true\,"colorset":"original"\,"pieceset":"cburnett"\,"animationSpeed":200\,"showMoveArrow":true}\,"diagramOptions":{"squareSize":32\,"showCoordinates":true\,"colorset":"original"\,"pieceset":"cburnett"\,"animationSpeed":200\,"showMoveArrow":true}});\n		});\n	\n\n\n \n\n  \n
URL:https://thechesspedia.net/day/july-10/
CATEGORIES:July
ATTACH;FMTTYPE=image/png:https://thechesspedia.net/wp-content/uploads/2016/07/july-10.png
END:VEVENT
END:VCALENDAR