
BEGIN:VCALENDAR
VERSION:2.0
PRODID:-//The Chesspedia - ECPv5.1.2.1//NONSGML v1.0//EN
CALSCALE:GREGORIAN
METHOD:PUBLISH
X-WR-CALNAME:The Chesspedia
X-ORIGINAL-URL:https://thechesspedia.net
X-WR-CALDESC:Events for The Chesspedia
BEGIN:VTIMEZONE
TZID:UTC
BEGIN:STANDARD
TZOFFSETFROM:+0000
TZOFFSETTO:+0000
TZNAME:UTC
DTSTART:20160101T000000
END:STANDARD
END:VTIMEZONE
BEGIN:VEVENT
DTSTART;VALUE=DATE:20160109
DTEND;VALUE=DATE:20160110
DTSTAMP:20260424T214417
CREATED:20161211T080218Z
LAST-MODIFIED:20161227T075523Z
UID:19418-1452297600-1452383999@thechesspedia.net
SUMMARY:January 9
DESCRIPTION:QUOTE OF THE DAY \nThere is no room for gallantry in chess.- Irving Chernev\nBIRTHS \nRodoslav Simic (1948)\, a Serbian Grandmaster.\nAshok Vadapetyan (1955)\, an Armenian International Arbiter who was the Chief Arbiter in few World Championships.\nAnna Akhsharumova (1957)\, a US Woman Grandmaster born in Russia who won two Soviet Women’s Championships and one US Women’s Championship.\nBach Vehi (1960)\,  Spanish International Master.\nViktor Laznicka (1988)\, a Czech Grandmaster who was Czech Champion in 2006.\nUfran Sevdimaliyev\,(1989)\, an Azerbaijani Grandmaster. \nDEATH \nDaniel Harrwitz (29.04.1823 – 1884)\, a German master who was one of the world’s best active player in the mid 1850s.\nVidmar Dr. Milan Vidmar (22.06.1885-1962)\, a Slovene Grandmaster\, electrical engineer\, chess arbiter\, philosopher\, and writer.\nMarcel Sisniega (28.07.1959-2013)\, Mexican Grandmaster and filmmaker. He was a victim of a heart attack at 54. \nCHESS EVENTS \n1998 Anatoly Karpov\, defending champion\, defeated Viswanathan Anand in the FIDE World Chess Championship.\n2004 Amid of Egypt and Yougane of Marocco won the African Juniors and Girls Championships \nWORLD EVENTS \n1570 Tsar Ivan the Terrible killed 1000-2000 residents of Novgorod.\n1788 Connecticut becomes the fifth state to be admitted to the United States.\n1806 Admiral Horatio Lord Nelson receives a state funeral and is interred in St Paul’s Cathedral.\n1839 The French Academy of Sciences announces the Daguerreotype photography process.\n1878 Umberto I becomes King of Italy.\n1908 Count Zeppelin announced plans for his airship to carry 100 passengers.\n1957 British Prime Minister Sir Anthony Eden resigns from office following his failure to retake the Suez Canal from Egyptian sovereignty.\n1960 President of Egypt Gamal Abdel Nasser opens construction on the Aswan Dam by detonating ten tons of dynamite to demolish twenty tons of granite on the east bank of the Nile.\n2001 Biljana Plavsic\, former Bosnian Serb president\, left for the Hague to appear before the UN war crimes tribunal over her role in the 1992-1995 war.\n2005 Mahmoud Abbas wins the election to replace Yasser Arafat as President of the Palestinian National Authority. He replaces interim president Rawhi Fattouh.\n2007 Apple CEO Steve Jobs introduces the original iPhone at a Macworld keynote in San Francisco.\n2015 The perpetrators of the Charlie Hebdo shooting in Paris two days earlier are both killed after a hostage situation. Elsewhere\, a second hostage situation\, related to the Charlie Hebdo shooting\, occurs at a Jewish market\, Hypercacher\, in the eastern Paris suburb of Vincennes. \n(Source: Wikipedia-Timeline) \nGAME OF THE DAY \n\n\n \n\n\n	\n				[Event "Ho Chi Minh City HD Bank op 1st"]\n[Site "Ho Chi Minh City"]\n[Date "2011.01.09"]\n[Round "8"]\n[White "Barbosa\, Oliver"]\n[Black "Le\, Quang Liem"]\n[Result "0-1"]\n[ECO "B19"]\n[WhiteElo "2461"]\n[BlackElo "2664"]\n[PlyCount "50"]\n[EventDate "2011.01.04"]\n[EventType "swiss"]\n[EventRounds "9"]\n[EventCountry "VIE"]\n\n1. e4 c6 2. d4 d5 3. Nc3 dxe4 4. Nxe4 Bf5 5. Ng3 Bg6 6. h4 h6 7. Nf3 Nd7 8. h5\nBh7 9. Bd3 Bxd3 10. Qxd3 e6 11. Bd2 Ngf6 12. O-O-O Be7 13. Ne4 O-O 14. Nxf6+\nNxf6 15. g4 Qd5 16. g5 Qxa2 17. c4 Ng4 18. Qe2 b5 19. Rdg1 bxc4 20. gxh6 Rfb8\n21. Bc3 Rxb2 22. h7+ Kh8 23. Qxb2 Ba3 24. h6 Nxh6 25. d5 f6 0-1\n				\n			You must activate JavaScript to enhance chess game visualization.		\n	\n	\n	\n		jQuery(document).ready(function($) {\n						$.chessgame.navigationButtonClass  = 'rpbchessboard-jQuery-enableSmoothness';\n			$.chessgame.navigationFrameClass   = 'wp-dialog';\n			$.chessgame.navigationFrameOptions = {"squareSize":32\,"showCoordinates":true\,"colorset":"original"\,"pieceset":"cburnett"\,"animationSpeed":200\,"showMoveArrow":true};\n			var selector = '#' + "rpbchessboard-69ebe431e0c2e-1" + ' .rpbchessboard-chessgameAnchor';\n			$(selector).removeClass('rpbchessboard-chessgameAnchor').chessgame({"pgn":"[Event \"Ho Chi Minh City HD Bank op 1st\"]\r\n[Site \"Ho Chi Minh City\"]\r\n[Date \"2011.01.09\"]\r\n[Round \"8\"]\r\n[White \"Barbosa\, Oliver\"]\r\n[Black \"Le\, Quang Liem\"]\r\n[Result \"0-1\"]\r\n[ECO \"B19\"]\r\n[WhiteElo \"2461\"]\r\n[BlackElo \"2664\"]\r\n[PlyCount \"50\"]\r\n[EventDate \"2011.01.04\"]\r\n[EventType \"swiss\"]\r\n[EventRounds \"9\"]\r\n[EventCountry \"VIE\"]\r\n\r\n1. e4 c6 2. d4 d5 3. Nc3 dxe4 4. Nxe4 Bf5 5. Ng3 Bg6 6. h4 h6 7. Nf3 Nd7 8. h5\r\nBh7 9. Bd3 Bxd3 10. Qxd3 e6 11. Bd2 Ngf6 12. O-O-O Be7 13. Ne4 O-O 14. Nxf6+\r\nNxf6 15. g4 Qd5 16. g5 Qxa2 17. c4 Ng4 18. Qe2 b5 19. Rdg1 bxc4 20. gxh6 Rfb8\r\n21. Bc3 Rxb2 22. h7+ Kh8 23. Qxb2 Ba3 24. h6 Nxh6 25. d5 f6 0-1"\,"pieceSymbols":"native"\,"navigationBoard":"above"\,"showFlipButton":true\,"showDownloadButton":true\,"navigationBoardOptions":{"squareSize":32\,"showCoordinates":true\,"colorset":"original"\,"pieceset":"cburnett"\,"animationSpeed":200\,"showMoveArrow":true}\,"diagramOptions":{"squareSize":32\,"showCoordinates":true\,"colorset":"original"\,"pieceset":"cburnett"\,"animationSpeed":200\,"showMoveArrow":true}});\n		});\n	\n\n\n \n\n
URL:https://thechesspedia.net/day/january-9/
CATEGORIES:January
ATTACH;FMTTYPE=image/png:https://thechesspedia.net/wp-content/uploads/2016/07/jan-9.png
END:VEVENT
END:VCALENDAR