
BEGIN:VCALENDAR
VERSION:2.0
PRODID:-//The Chesspedia - ECPv5.1.2.1//NONSGML v1.0//EN
CALSCALE:GREGORIAN
METHOD:PUBLISH
X-WR-CALNAME:The Chesspedia
X-ORIGINAL-URL:https://thechesspedia.net
X-WR-CALDESC:Events for The Chesspedia
BEGIN:VTIMEZONE
TZID:UTC
BEGIN:STANDARD
TZOFFSETFROM:+0000
TZOFFSETTO:+0000
TZNAME:UTC
DTSTART:20160101T000000
END:STANDARD
END:VTIMEZONE
BEGIN:VEVENT
DTSTART;VALUE=DATE:20160128
DTEND;VALUE=DATE:20160129
DTSTAMP:20260425T220500
CREATED:20170111T110932Z
LAST-MODIFIED:20170115T102853Z
UID:19491-1453939200-1454025599@thechesspedia.net
SUMMARY:January 28
DESCRIPTION:QUOTE OF THE DAY \nI was pushed out of USSR by the hands of Petrosian and Karpov. But now\, after 10 years\, Petrosian is not longer alive and Karpov is not longer World Champion\, so it seems that everything is in place now.- Viktor Kortchnoi\, 1986 NIC \nBIRTHS \nValentina Borisenko (1920-06.03.1993) a Russian Woman Grandmaster who as 3 times Soviet Women’s Champion.\nValentin Arbakov (1952-30.11.2003)\, a Russian Grandmaster who was known for his excess of alcohol.\nFerdinand Hellers (1969)\, a Swedish Grandmaster who became the European Junior Champion in 1984-85.\nAlexandrova Olga\, RUS\, b-day 28.01.1978 a Ukrainian-born Spanish International Master and Woman Grandmaster. She is married to Spanish Grandmaster Miguel Illescas.\nThi Mai Hung Nguyen (1994)\, a Vietnamese Woman Grandmaster who became the ASEAN Women’s Champion 2015 and the Asian Women’s Blitz Champion in 2016. \nCHESS EVENTS \n1989 Candidates Quarterfinal in Seattle\, A. Karpov (USSR) beat J. Hjartarson (ISL) 3½-1½. \nWORLD EVENTS \n814 Charlemagne dies of pleurisy in Aachen as the first Holy Roman Emperor. He is succeeded by his son Louis the Pious as the king of the Frankish Empire.\n1871 Franco-Prussian War: The Siege of Paris ends in French defeat and an armistice.\n1932 Japanese forces attack Shanghai.1958 – The Lego company patents the design of its Lego bricks\, still compatible with bricks produced today.\n1965 The current design of the Flag of Canada is chosen by an act of Parliament.\n1980 Six Americans who had fled the U.S. embassy in Tehran\, Iran\, on November 4\, 1979\, left Iran using false Canadian diplomatic passports. The Americans had been hidden at the Canadian embassy in Tehran.\n1999 Ford Motor Company announced the purchase of Sweden’s Volvo AB for $6.45 billion. \n(Source: Wikipedia-Timeline) \nGAME OF THE DAY \n\n\n \n\n\n	\n				[Event "Gibtelecom Chess Festival"]\n[Site "Gibraltar"]\n[Date "2006.01.28"]\n[EventDate "2006.01.24"]\n[Round "5.12"]\n[Result "1-0"]\n[White "Nigel Short"]\n[Black "Natalia Zhukova"]\n[ECO "C11"]\n[WhiteElo "2676"]\n[BlackElo "2432"]\n[PlyCount "51"]\n\n1. e4 e6 2. d4 d5 3. Nc3 Nf6 4. e5 Nfd7 5. f4 c5 6. Nf3 Nc6\n7. Be3 a6 8. Qd2 b5 9. a3 Qa5 10. Rb1 b4 11. axb4 Qxb4 12. Be2\ng5 13. fxg5 cxd4 14. Nxd4 Ndxe5 15. O-O Bg7 16. Rf4 Qe7\n17. Nxc6 Nxc6 18. Rbf1 O-O 19. Bd3 d4 20. Qe2 Qxg5 21. Bxh7+\nKxh7 22. Ne4 Qe5 23. Rh4+ Kg8 24. Bf4 d3 25. Bxe5 dxe2\n26. Nf6+ 1-0\n				\n			You must activate JavaScript to enhance chess game visualization.		\n	\n	\n	\n		jQuery(document).ready(function($) {\n						$.chessgame.navigationButtonClass  = 'rpbchessboard-jQuery-enableSmoothness';\n			$.chessgame.navigationFrameClass   = 'wp-dialog';\n			$.chessgame.navigationFrameOptions = {"squareSize":32\,"showCoordinates":true\,"colorset":"original"\,"pieceset":"cburnett"\,"animationSpeed":200\,"showMoveArrow":true};\n			var selector = '#' + "rpbchessboard-69ed3a8cf414d-1" + ' .rpbchessboard-chessgameAnchor';\n			$(selector).removeClass('rpbchessboard-chessgameAnchor').chessgame({"pgn":"[Event \"Gibtelecom Chess Festival\"]\r\n[Site \"Gibraltar\"]\r\n[Date \"2006.01.28\"]\r\n[EventDate \"2006.01.24\"]\r\n[Round \"5.12\"]\r\n[Result \"1-0\"]\r\n[White \"Nigel Short\"]\r\n[Black \"Natalia Zhukova\"]\r\n[ECO \"C11\"]\r\n[WhiteElo \"2676\"]\r\n[BlackElo \"2432\"]\r\n[PlyCount \"51\"]\r\n\r\n1. e4 e6 2. d4 d5 3. Nc3 Nf6 4. e5 Nfd7 5. f4 c5 6. Nf3 Nc6\r\n7. Be3 a6 8. Qd2 b5 9. a3 Qa5 10. Rb1 b4 11. axb4 Qxb4 12. Be2\r\ng5 13. fxg5 cxd4 14. Nxd4 Ndxe5 15. O-O Bg7 16. Rf4 Qe7\r\n17. Nxc6 Nxc6 18. Rbf1 O-O 19. Bd3 d4 20. Qe2 Qxg5 21. Bxh7+\r\nKxh7 22. Ne4 Qe5 23. Rh4+ Kg8 24. Bf4 d3 25. Bxe5 dxe2\r\n26. Nf6+ 1-0"\,"pieceSymbols":"native"\,"navigationBoard":"above"\,"showFlipButton":true\,"showDownloadButton":true\,"navigationBoardOptions":{"squareSize":32\,"showCoordinates":true\,"colorset":"original"\,"pieceset":"cburnett"\,"animationSpeed":200\,"showMoveArrow":true}\,"diagramOptions":{"squareSize":32\,"showCoordinates":true\,"colorset":"original"\,"pieceset":"cburnett"\,"animationSpeed":200\,"showMoveArrow":true}});\n		});\n	\n\n\n \n\n\n
URL:https://thechesspedia.net/day/january-28/
CATEGORIES:January
ATTACH;FMTTYPE=image/png:https://thechesspedia.net/wp-content/uploads/2016/07/jan-28.png
END:VEVENT
END:VCALENDAR