
BEGIN:VCALENDAR
VERSION:2.0
PRODID:-//The Chesspedia - ECPv5.1.2.1//NONSGML v1.0//EN
CALSCALE:GREGORIAN
METHOD:PUBLISH
X-WR-CALNAME:The Chesspedia
X-ORIGINAL-URL:https://thechesspedia.net
X-WR-CALDESC:Events for The Chesspedia
BEGIN:VTIMEZONE
TZID:UTC
BEGIN:STANDARD
TZOFFSETFROM:+0000
TZOFFSETTO:+0000
TZNAME:UTC
DTSTART:20160101T000000
END:STANDARD
END:VTIMEZONE
BEGIN:VEVENT
DTSTART;VALUE=DATE:20160123
DTEND;VALUE=DATE:20160124
DTSTAMP:20260423T102512
CREATED:20170110T102731Z
LAST-MODIFIED:20170110T103753Z
UID:19466-1453507200-1453593599@thechesspedia.net
SUMMARY:January 23
DESCRIPTION:QUOTE OF THE DAY \nTen years ago I said that 2010 would be the end\, chess would be exhausted. But it is not true\, chess will not die so quickly.- Vishy Anand\, 2008\nBIRTHS \nLuigi Ceriani (1894 – 08-09-1969)\, an Italian chess composer.\nVictor Cioana (1939 – 07.01.2010)\, a Romanian chess composer and player.\nBo Jonsson (1950) Swedish chess composer.\nHenrique Mecking (1952)\, a Brazilian Grandmaster and former priest who was one of the best world players in the 1970s.\nRolando Kutirov (1962) or Rolando Redzepagic\, a Macedonian Grandmaster who participated in three Olympiads.\nRogelio Barcenilla (1972)\, a Filipino Grandmaster and a coach.\nAleksander Lastin (30.11.1976-1915)\, a Russian grandmaster who was Russian Champion in 2002.\nJoanna Worek (1986)\, a Czech born-Polish who won the Czech Women’s Championship in 2016.\nYang Shen (1989)\, a Chinese International Master and Woman Grandmaster who was the Girls’ World Junior Champion in 2006 and the Chinese Women’s Champion in 2009. \nWORLD EVENTS \n1368 In a coronation ceremony\, Zhu Yuanzhang ascends the throne of China as the Hongwu Emperor\, initiating Ming dynasty rule over China that would last for three centuries.\n1556 The deadliest earthquake in history\, the Shaanxi earthquake\, hits Shaanxi province\, China. The death toll may have been as high as 830\,000.\n1719 Liechtenstein became a sovereign member state of the Holy Roman Empire.\n1899 Emilio Aguinaldo is sworn in as President of the First Philippine Republic.\n1941 Charles Lindbergh testifies before the U.S. Congress and recommends that the United States negotiate a neutrality pact with Adolf Hitler.\n1958 After a general uprising and rioting in the streets\, President Marcos Pérez Jiménez leaves Venezuela.\n1973 United States President Richard Nixon announces that a peace accord has been reached in Vietnam.\n1983 Bjorn Borg announces his retirement from tennis.\n1996 The first version of the Java programming language was released.\n1998 Netscape announced Mozilla\, with the intention to release Communicator code as open source. \n(Source: Wikipedia-Onthisday) \nGAME OF THE DAY \n\n\n \n\n\n	\n				[Event "Troll Masters"]\n[Site "Gausdal"]\n[Date "1989.??.??"]\n[Round "?"]\n[White "Dive\, Russell John"]\n[Black "Westerinen\, Heikki MJ"]\n[Result "0-1"]\n[ECO "E45"]\n[WhiteElo "2240"]\n[BlackElo "2400"]\n[PlyCount "44"]\n[EventDate "1989.01.??"]\n[EventType "swiss"]\n[EventRounds "9"]\n[EventCountry "NOR"]\n\n1. d4 Nf6 2. c4 e6 3. Nc3 Bb4 4. e3 b6 5. Nge2 Ba6 6. a3 Bxc3+ 7. Nxc3 d5 8. b3\nO-O 9. Bd3 dxc4 10. bxc4 Nc6 11. O-O e5 12. Ne4 exd4 13. Bb2 Re8 14. Qc2 Ng4\n15. Ng3 Nce5 16. Bxh7+ Kh8 17. Be4 Qh4 18. h3 dxe3 19. Nf5 exf2+ 20. Kh1 Qh5\n21. Bxa8 Rxa8 22. Bxe5 Qxh3+ 0-1\n				\n			You must activate JavaScript to enhance chess game visualization.		\n	\n	\n	\n		jQuery(document).ready(function($) {\n						$.chessgame.navigationButtonClass  = 'rpbchessboard-jQuery-enableSmoothness';\n			$.chessgame.navigationFrameClass   = 'wp-dialog';\n			$.chessgame.navigationFrameOptions = {"squareSize":32\,"showCoordinates":true\,"colorset":"original"\,"pieceset":"cburnett"\,"animationSpeed":200\,"showMoveArrow":true};\n			var selector = '#' + "rpbchessboard-69e9f388db646-1" + ' .rpbchessboard-chessgameAnchor';\n			$(selector).removeClass('rpbchessboard-chessgameAnchor').chessgame({"pgn":"[Event \"Troll Masters\"]\r\n[Site \"Gausdal\"]\r\n[Date \"1989.??.??\"]\r\n[Round \"?\"]\r\n[White \"Dive\, Russell John\"]\r\n[Black \"Westerinen\, Heikki MJ\"]\r\n[Result \"0-1\"]\r\n[ECO \"E45\"]\r\n[WhiteElo \"2240\"]\r\n[BlackElo \"2400\"]\r\n[PlyCount \"44\"]\r\n[EventDate \"1989.01.??\"]\r\n[EventType \"swiss\"]\r\n[EventRounds \"9\"]\r\n[EventCountry \"NOR\"]\r\n\r\n1. d4 Nf6 2. c4 e6 3. Nc3 Bb4 4. e3 b6 5. Nge2 Ba6 6. a3 Bxc3+ 7. Nxc3 d5 8. b3\r\nO-O 9. Bd3 dxc4 10. bxc4 Nc6 11. O-O e5 12. Ne4 exd4 13. Bb2 Re8 14. Qc2 Ng4\r\n15. Ng3 Nce5 16. Bxh7+ Kh8 17. Be4 Qh4 18. h3 dxe3 19. Nf5 exf2+ 20. Kh1 Qh5\r\n21. Bxa8 Rxa8 22. Bxe5 Qxh3+ 0-1"\,"pieceSymbols":"native"\,"navigationBoard":"above"\,"showFlipButton":true\,"showDownloadButton":true\,"navigationBoardOptions":{"squareSize":32\,"showCoordinates":true\,"colorset":"original"\,"pieceset":"cburnett"\,"animationSpeed":200\,"showMoveArrow":true}\,"diagramOptions":{"squareSize":32\,"showCoordinates":true\,"colorset":"original"\,"pieceset":"cburnett"\,"animationSpeed":200\,"showMoveArrow":true}});\n		});\n	\n\n\n \n\n  \n
URL:https://thechesspedia.net/day/january-23/
CATEGORIES:January
ATTACH;FMTTYPE=image/png:https://thechesspedia.net/wp-content/uploads/2016/07/jan-23.png
END:VEVENT
END:VCALENDAR