
BEGIN:VCALENDAR
VERSION:2.0
PRODID:-//The Chesspedia - ECPv5.1.2.1//NONSGML v1.0//EN
CALSCALE:GREGORIAN
METHOD:PUBLISH
X-WR-CALNAME:The Chesspedia
X-ORIGINAL-URL:https://thechesspedia.net
X-WR-CALDESC:Events for The Chesspedia
BEGIN:VTIMEZONE
TZID:UTC
BEGIN:STANDARD
TZOFFSETFROM:+0000
TZOFFSETTO:+0000
TZNAME:UTC
DTSTART:20160101T000000
END:STANDARD
END:VTIMEZONE
BEGIN:VEVENT
DTSTART;VALUE=DATE:20160111
DTEND;VALUE=DATE:20160112
DTSTAMP:20260423T100320
CREATED:20161211T083819Z
LAST-MODIFIED:20161229T064136Z
UID:19432-1452470400-1452556799@thechesspedia.net
SUMMARY:January 11
DESCRIPTION:QUOTE OF THE DAY \nI think that the World Champion should try to defend the quality of play more than anyone else!- Boris Spassky\nBIRTHS \nNikolay Kopaev (1914-11.10.1978)\, a Soviet Master\, a theorist and a composer.\nPetr Kiriakov (1975)\, Russian Grandmaster and a coach who won few Russian Youth Championship titles.\nHedinn Steingrimsson (1975)\, an Icelandic Grandmaster\nChristian Bauer (1977)\, French Grandmaster was became French Champion in 1996\,  2012 and 2015. \nDEATH \nEmanuel Lasker (b.24.12.1868-1941)\, a German mathematician and the second World Champion who kept his title to a record of nearly 27 years (1894-1921).\nVugar Gashimov (24.07.1986-2014)\, an Azerbaijani Grandmaster who was ranked No. 6 in the world in 2009. \nCHESS EVENTS \n1886 In New York. The first game of the first world chess championship started with a victory of Wilheim Steinitz over Johan Zukertort.\n1886 In New York\, 1st use of a demonstration board in a world championship match.\n2008 11.01 In India\, China won the Asian Team Championship 2007.\n2009 The nine-year-old Hetul Shah of India became the youngest player to defeat a grandmaster in a tournament game at standard time controls when he beat Grandmaster Nurlan Ibrayev of Kazakhstan at the 7th Parsvnath International Open in New Delhi\, India. \nWORLD EVENTS \n1055 Theodora is crowned Empress of the Byzantine Empire.\n1158 Vladislaus II\, Duke of Bohemia becomes King of Bohemia.\n1879 The Anglo-Zulu War begins.\n1908 Grand Canyon National Monument is created.\n1923 Occupation of the Ruhr: Troops from France and Belgium occupy the Ruhr area to force Germany to make its World War I reparation payments.\n1940 Sergei Prokofiev’s ballet Romeo and Juliet premiered in Leningrad.\n1942 Japan declared war against the Netherlands\, the same day that Japanese forces invaded the Dutch East Indies (later Indonesia) at Borneo.\n1942 World War II: The Japanese capture Kuala Lumpur.\n1972 East Pakistan renames itself Bangladesh.\n2002  The first planeload of al-Qaida prisoners from Afghanistan arrived at a U.S. military detention camp in Guantanamo\, Cuba.\n2014 Ariel Sharon (b.1928)\, former Israeli prime minister (2001-2006)\, died in a hospital near Tel Aviv eight years after a debilitating stroke put him into a coma. \n(Source Wikipedia-Timeline) \nGAME OF THE DAY \n\n\n \n\n\n	\n				[Event "Ch World (match)"]\n[Site "New York (USA)"]\n[Date "1886.01.11"]\n[EventDate "?"]\n[Round "1"]\n[Result "0-1"]\n[White "Johannes Zukertort"]\n[Black "Wilhelm Steinitz"]\n[ECO "D10"]\n[WhiteElo "?"]\n[BlackElo "?"]\n[PlyCount "92"]\n\n1. d4 d5 2. c4 c6 3. e3 Bf5 4. Nc3 e6 5. Nf3 Nd7 6. a3 Bd6\n7. c5 Bc7 8. b4 e5 9. Be2 Ngf6 10. Bb2 e4 11. Nd2 h5 12. h3\nNf8 13. a4 Ng6 14. b5 Nh4 15. g3 Ng2+ 16. Kf1 Nxe3+ 17. fxe3\nBxg3 18. Kg2 Bc7 19. Qg1 Rh6 20. Kf1 Rg6 21. Qf2 Qd7 22. bxc6\nbxc6 23. Rg1 Bxh3+ 24. Ke1 Ng4 25. Bxg4 Bxg4 26. Ne2 Qe7\n27. Nf4 Rh6 28. Bc3 g5 29. Ne2 Rf6 30. Qg2 Rf3 31. Nf1 Rb8\n32. Kd2 f5 33. a5 f4 34. Rh1 Qf7 35. Re1 fxe3+ 36. Nxe3 Rf2\n37. Qxf2 Qxf2 38. Nxg4 Bf4+ 39. Kc2 hxg4 40. Bd2 e3 41. Bc1\nQg2 42. Kc3 Kd7 43. Rh7+ Ke6 44. Rh6+ Kf5 45. Bxe3 Bxe3\n46. Rf1+ Bf4 0-1\n				\n			You must activate JavaScript to enhance chess game visualization.		\n	\n	\n	\n		jQuery(document).ready(function($) {\n						$.chessgame.navigationButtonClass  = 'rpbchessboard-jQuery-enableSmoothness';\n			$.chessgame.navigationFrameClass   = 'wp-dialog';\n			$.chessgame.navigationFrameOptions = {"squareSize":32\,"showCoordinates":true\,"colorset":"original"\,"pieceset":"cburnett"\,"animationSpeed":200\,"showMoveArrow":true};\n			var selector = '#' + "rpbchessboard-69e9ee685781a-1" + ' .rpbchessboard-chessgameAnchor';\n			$(selector).removeClass('rpbchessboard-chessgameAnchor').chessgame({"pgn":"[Event \"Ch World (match)\"]\r\n[Site \"New York (USA)\"]\r\n[Date \"1886.01.11\"]\r\n[EventDate \"?\"]\r\n[Round \"1\"]\r\n[Result \"0-1\"]\r\n[White \"Johannes Zukertort\"]\r\n[Black \"Wilhelm Steinitz\"]\r\n[ECO \"D10\"]\r\n[WhiteElo \"?\"]\r\n[BlackElo \"?\"]\r\n[PlyCount \"92\"]\r\n\r\n1. d4 d5 2. c4 c6 3. e3 Bf5 4. Nc3 e6 5. Nf3 Nd7 6. a3 Bd6\r\n7. c5 Bc7 8. b4 e5 9. Be2 Ngf6 10. Bb2 e4 11. Nd2 h5 12. h3\r\nNf8 13. a4 Ng6 14. b5 Nh4 15. g3 Ng2+ 16. Kf1 Nxe3+ 17. fxe3\r\nBxg3 18. Kg2 Bc7 19. Qg1 Rh6 20. Kf1 Rg6 21. Qf2 Qd7 22. bxc6\r\nbxc6 23. Rg1 Bxh3+ 24. Ke1 Ng4 25. Bxg4 Bxg4 26. Ne2 Qe7\r\n27. Nf4 Rh6 28. Bc3 g5 29. Ne2 Rf6 30. Qg2 Rf3 31. Nf1 Rb8\r\n32. Kd2 f5 33. a5 f4 34. Rh1 Qf7 35. Re1 fxe3+ 36. Nxe3 Rf2\r\n37. Qxf2 Qxf2 38. Nxg4 Bf4+ 39. Kc2 hxg4 40. Bd2 e3 41. Bc1\r\nQg2 42. Kc3 Kd7 43. Rh7+ Ke6 44. Rh6+ Kf5 45. Bxe3 Bxe3\r\n46. Rf1+ Bf4 0-1"\,"pieceSymbols":"native"\,"navigationBoard":"above"\,"showFlipButton":true\,"showDownloadButton":true\,"navigationBoardOptions":{"squareSize":32\,"showCoordinates":true\,"colorset":"original"\,"pieceset":"cburnett"\,"animationSpeed":200\,"showMoveArrow":true}\,"diagramOptions":{"squareSize":32\,"showCoordinates":true\,"colorset":"original"\,"pieceset":"cburnett"\,"animationSpeed":200\,"showMoveArrow":true}});\n		});\n	\n\n\n \n\n
URL:https://thechesspedia.net/day/january-11/
CATEGORIES:January
ATTACH;FMTTYPE=image/png:https://thechesspedia.net/wp-content/uploads/2016/07/jan-11.png
END:VEVENT
END:VCALENDAR