
BEGIN:VCALENDAR
VERSION:2.0
PRODID:-//The Chesspedia - ECPv5.1.2.1//NONSGML v1.0//EN
CALSCALE:GREGORIAN
METHOD:PUBLISH
X-WR-CALNAME:The Chesspedia
X-ORIGINAL-URL:https://thechesspedia.net
X-WR-CALDESC:Events for The Chesspedia
BEGIN:VTIMEZONE
TZID:UTC
BEGIN:STANDARD
TZOFFSETFROM:+0000
TZOFFSETTO:+0000
TZNAME:UTC
DTSTART:20160101T000000
END:STANDARD
END:VTIMEZONE
BEGIN:VEVENT
DTSTART;VALUE=DATE:20160110
DTEND;VALUE=DATE:20160111
DTSTAMP:20260423T094659
CREATED:20200310T080510Z
LAST-MODIFIED:20200327T152124Z
UID:19419-1452384000-1452470399@thechesspedia.net
SUMMARY:January 10
DESCRIPTION:QUOTE OF THE DAY \nKramnik was the luckiest man in the history of chess. He never won a single cycle\, he got all the matches that he played for political reasons.- Veselin Topalov\, 2014\nBIRTHS  \nHenri Rinck (10-01-1870 – 26-02-1952) French endgame composer\, he was one of the founders the classics of the modern study composing.\nNikolay Zubarev (1894-01.1951)\, a Soviet Master and an International Arbiter\, he was one of the founders of Chess code of Soviet qualification system.\nIlya Lvovich Shulman (10-01-1935 – 04-01-2010)\, a Russian chess composer.\nLeonard Katsnelson  (10-01-1936) Russian chess composer.\nWalter S. Browne (1949-24.06.2015)\, an American Grandmaster\, coach and writer born in Australia who was six times national champion.\nOleg Romanishin (1952)\, a Ukrainian Grandmaster who won the European Junior Championship (1973).Espen Backe (10-01-1963)\, a Norwegian composer.\nMichael Wiedenkeller (1963)\, Luxemburger International Master who was Luxemburger Champion and European Small Nations Champion in 2014.\nAlisa Maric (1970) a Serbian Women Grandmaster and International Master and professor. She was among the best female of the 90’s and the Minister of Sport of Serbia( c. 2010).\nMirjana Maric (1970)\, a Serbian Women Grandmaster\, the twin sister of Alisa.\nNarayanan Sunilduth Lyna (1998)\, an Indian Granmaster. \nDEATH \nSlobodan Matinovic (25.07.1945-2015)\, a Serbian Grandmaster. \nWORLD EVENTS \n49 BC Julius Caesar crosses the Rubicon\, signalling the start of civil war.\n1806 Dutch settlers in Cape Town surrender to the British.\n1863 The London Underground\, the world’s oldest underground railway\, opens between London Paddington station and Farringdon station.\n1920 The Treaty of Versailles takes effect\, officially ending World War I.\n1946 The first General Assembly of the United Nations opens in London. Fifty-one nations are represented.\n1985 Sandinista Daniel Ortega becomes president of Nicaragua and vows to continue the transformation to socialism and alliance with the Soviet Union and Cuba;\n1899 Filipino leader Emilio Aguinaldo renounced the Treaty of Paris\, which annexed the Philippines to the United States.\n1917  Buffalo Bill Cody\, army scout and Indian fighter\, died.\n1925 France-Saarland formed.\n1928 The Soviet Union ordered the exile of Leon Trotsky.\n1943 Russian offensive began against German 6th and 4th Armies near Stalingrad.\n1951 UN headquarters opened in Manhattan\, NY.\n1957 Harold Macmillan became prime minister of Britain\, following the resignation of Anthony Eden.\n1999 In Kazakstan presidential elections were scheduled. Nazarbayev won another 7-year term in rigged elections tinged with repression.\n2002 A CIA report said China\, North Korea and Iran will probably have long-range missile capable of reaching the US by 2015.\n2005 Ukraine’s Election Commission declared Viktor Yushchenko the winner of the presidential vote.\n2007 In Nicaragua\, former revolutionary Daniel Ortega took office in a ceremony attended by more than a dozen world leaders.\n2008 India’s Tata Motors unveiled the world’s cheapest car\, bringing new mobility within the reach of tens of millions of people and nightmares to environmentalists\, traffic engineers and safety advocates. The Tata Nano was expected to sell for about $2\,500.\n2010 New data showed that China has overtaken Germany as the world’s top exporter after December exports jumped 17.7% for their first increase in 14 months.\n2019 Venezuela enters a presidential crisis as Juan Guaidó and the National Assembly declare incumbent President Nicolás Maduro “illegitimate”.[6] \n(Source: Wikipedia-Timeline) \n\n\n \n\n\n	\n				[Site "Hastings (England)"]\n[Date "1992.??.??"]\n[Round "12"]\n[Result "0-1"]\n[White "Jonathan Speelman"]\n[Black "Simen Agdestein"]\n[ECO "E41"]\n\n1.d4 Nf6 2.c4 e6 3.Nc3 Bb4 4.e3 c5 5.Nf3 Bxc3+ 6.bxc3 d6 7.Be2\nQe7 8.O-O e5 9.Ne1 e4 10.f3 Bf5 11.fxe4 Bxe4 12.Nd3 Nbd7\n13.Nf2 O-O 14.a4 Bg6 15.Qb3 Rab8 16.Ra2 Ne4 17.Nh3 f5 18.Bd3\nNdf6 19.Nf4 Rbc8 20.g3 Bf7 21.Rg2 Rc7 22.Bb2 Rfc8 23.d5 g5\n24.Nh3 Bg6 25.Bc1 Ng4 26.Be2 h5 27.Kh1 Qe5 28.a5 Rh7 29.Ng1 h4\n30.Nf3 Qe7 31.gxh4 gxh4 32.Bd1 h3 33.Ra2 Rg7 34.Ne1 Qh4 35.Nd3\nKh7 36.Qb2 Rcg8 37.Nf4 Bh5 38.Nd3 Qg5 0-1\n				\n			You must activate JavaScript to enhance chess game visualization.		\n	\n	\n	\n		jQuery(document).ready(function($) {\n						$.chessgame.navigationButtonClass  = 'rpbchessboard-jQuery-enableSmoothness';\n			$.chessgame.navigationFrameClass   = 'wp-dialog';\n			$.chessgame.navigationFrameOptions = {"squareSize":32\,"showCoordinates":true\,"colorset":"original"\,"pieceset":"cburnett"\,"animationSpeed":200\,"showMoveArrow":true};\n			var selector = '#' + "rpbchessboard-69e9ea93daa8e-1" + ' .rpbchessboard-chessgameAnchor';\n			$(selector).removeClass('rpbchessboard-chessgameAnchor').chessgame({"pgn":"[Site \"Hastings (England)\"]\r\n[Date \"1992.??.??\"]\r\n[Round \"12\"]\r\n[Result \"0-1\"]\r\n[White \"Jonathan Speelman\"]\r\n[Black \"Simen Agdestein\"]\r\n[ECO \"E41\"]\r\n\r\n1.d4 Nf6 2.c4 e6 3.Nc3 Bb4 4.e3 c5 5.Nf3 Bxc3+ 6.bxc3 d6 7.Be2\r\nQe7 8.O-O e5 9.Ne1 e4 10.f3 Bf5 11.fxe4 Bxe4 12.Nd3 Nbd7\r\n13.Nf2 O-O 14.a4 Bg6 15.Qb3 Rab8 16.Ra2 Ne4 17.Nh3 f5 18.Bd3\r\nNdf6 19.Nf4 Rbc8 20.g3 Bf7 21.Rg2 Rc7 22.Bb2 Rfc8 23.d5 g5\r\n24.Nh3 Bg6 25.Bc1 Ng4 26.Be2 h5 27.Kh1 Qe5 28.a5 Rh7 29.Ng1 h4\r\n30.Nf3 Qe7 31.gxh4 gxh4 32.Bd1 h3 33.Ra2 Rg7 34.Ne1 Qh4 35.Nd3\r\nKh7 36.Qb2 Rcg8 37.Nf4 Bh5 38.Nd3 Qg5 0-1"\,"pieceSymbols":"native"\,"navigationBoard":"above"\,"showFlipButton":true\,"showDownloadButton":true\,"navigationBoardOptions":{"squareSize":32\,"showCoordinates":true\,"colorset":"original"\,"pieceset":"cburnett"\,"animationSpeed":200\,"showMoveArrow":true}\,"diagramOptions":{"squareSize":32\,"showCoordinates":true\,"colorset":"original"\,"pieceset":"cburnett"\,"animationSpeed":200\,"showMoveArrow":true}});\n		});\n	\n\n\n \n\n
URL:https://thechesspedia.net/day/january-10/
CATEGORIES:January
ATTACH;FMTTYPE=image/png:https://thechesspedia.net/wp-content/uploads/2016/07/jan-10.png
END:VEVENT
END:VCALENDAR