
BEGIN:VCALENDAR
VERSION:2.0
PRODID:-//The Chesspedia - ECPv5.1.2.1//NONSGML v1.0//EN
CALSCALE:GREGORIAN
METHOD:PUBLISH
X-WR-CALNAME:The Chesspedia
X-ORIGINAL-URL:https://thechesspedia.net
X-WR-CALDESC:Events for The Chesspedia
BEGIN:VTIMEZONE
TZID:UTC
BEGIN:STANDARD
TZOFFSETFROM:+0000
TZOFFSETTO:+0000
TZNAME:UTC
DTSTART:20160101T000000
END:STANDARD
END:VTIMEZONE
BEGIN:VEVENT
DTSTART;VALUE=DATE:20160207
DTEND;VALUE=DATE:20160208
DTSTAMP:20260425T220647
CREATED:20160112T042528Z
LAST-MODIFIED:20170207T110316Z
UID:19557-1454803200-1454889599@thechesspedia.net
SUMMARY:February 7
DESCRIPTION:QUOTE OF THE DAY\n\nWhen you see a good move\, look for a better one- Emanuel Lasker\n\nBIRTHS \n\nKarel Opocensky (1898-1975)\, a Czech International Master\, the author of several books. The chief arbiter at World Championship Matches in 1951\, 1954.\nMark Taimanov (07.02.1926-28.11.2016)\,  a Russian Grandmaster\, World Candidate\, Soviet Champion\, World Champion and chess author.\nKarel Mokry (1959)\, a Czech Grandmaster\, a chess bookseller and collector who won the Czech championship in 1995.\nSergei Volkov (1974)\, a Russian Grandmaster who was vice European Champion in 2002.\nVladimir Rogovski (1965)\, a Ukrainian Grandmaster and FIDE Senior Trainer who was Ukrainian Champion in 2000.\nEvgeniy Podolchenko (1988)\, a Belarus Grandmaster who became Belarus Champion in 2010.\nEduard Gorovykh (1990)\, a Russian Grandmaster.\nCristhian Cruz (1992)\, a Peruvian Grandmaster.\n\nCHESS EVENTS\n1991 07.02 Xie Jun CHN defeated Alisa Maric YUG 4½-2½ to win the Women’s Candidates Match organized in Belgrade and Beijing. She became the first non-Soviet player to challenge Maya Chiburdanidze USSR.\n1992 07.02 Jakarta won the Asian Cities Championship in Dubai\, UAE.\n\n2003 The Man vs Machine match between Garry Kasparov and Deep Junior ended in a 3-3\, with Garry winning game 1 but losing game 6. FIDE President K. Ilyumzhinov donated $ 1\,000\,000 to prize fund.\n\nWORLD EVENTS\n\n457 – Leo I the Thracian becomes emperor of the Byzantine Empire.\n1898 Dreyfus affair: Émile Zola is brought to trial for libel for publishing J’accuse.\n1940 The second full-length animated Walt Disney film\, Pinocchio\, premieres.\n1962 The United States bans all Cuban imports and exports.\n1974 Grenada gains independence from the United Kingdom.\n1990 Dissolution of the Soviet Union: The Central Committee of the Soviet Communist Party agrees to give up its monopoly on power.\n1991 Haiti’s first democratically-elected president\, Jean-Bertrand Aristide\, is sworn in.\n1992 The Maastricht Treaty is signed\, leading to the creation of the European Union.\n1999 Crown Prince Abdullah becomes the King of Jordan on the death of his father\, King Hussein.\n1999 Crown Prince Abdullah becomes the King of Jordan on the death of his father\, King Hussein.\n(Source: Wikipedia-Onthisday)\n\nGAME OF THE DAY\n\n\n \n\n\n	\n				[Event "London"]\n[Site "London ENG"]\n[Date "1932.02.??"]\n[EventDate "1932.02.01"]\n[Round "9"]\n[Result "1-0"]\n[White "Alexander Alekhine"]\n[Black "Georges Koltanowski"]\n[ECO "C73"]\n[WhiteElo "?"]\n[BlackElo "?"]\n[PlyCount "61"]1. e4 e5 2. Nf3 Nc6 3. Bb5 a6 4. Ba4 d6 5. Bxc6+ bxc6 6. d4\nexd4 7. Nxd4 Bd7 8. O-O g6 9. Nc3 Bg7 10. Re1 Ne7 11. Bf4 O-O\n12. Qd2 c5 13. Nb3 Nc6 14. Bh6 Be6 15. Bxg7 Kxg7 16. Nd5 f6\n17. Rad1 Rb8 18. Qc3 Qc8 19. a3 Qb7 20. h3 Rf7 21. Re3 Qb5\n22. Nxc7 Rxc7 23. Rxd6 Bc4 24. a4 Qxa4 25. Nxc5 Qb5 26. Qxf6+\nKg8 27. Nd7 Rd8 28. Rf3 Qb4 29. c3 Qb5 30. Ne5 Rdc8 31. Nxc6\n1-0\n				\n			You must activate JavaScript to enhance chess game visualization.		\n	\n	\n	\n		jQuery(document).ready(function($) {\n						$.chessgame.navigationButtonClass  = 'rpbchessboard-jQuery-enableSmoothness';\n			$.chessgame.navigationFrameClass   = 'wp-dialog';\n			$.chessgame.navigationFrameOptions = {"squareSize":32\,"showCoordinates":true\,"colorset":"original"\,"pieceset":"cburnett"\,"animationSpeed":200\,"showMoveArrow":true};\n			var selector = '#' + "rpbchessboard-69ed3af804357-1" + ' .rpbchessboard-chessgameAnchor';\n			$(selector).removeClass('rpbchessboard-chessgameAnchor').chessgame({"pgn":"[Event \"London\"]\r\n[Site \"London ENG\"]\r\n[Date \"1932.02.??\"]\r\n[EventDate \"1932.02.01\"]\r\n[Round \"9\"]\r\n[Result \"1-0\"]\r\n[White \"Alexander Alekhine\"]\r\n[Black \"Georges Koltanowski\"]\r\n[ECO \"C73\"]\r\n[WhiteElo \"?\"]\r\n[BlackElo \"?\"]\r\n[PlyCount \"61\"]1. e4 e5 2. Nf3 Nc6 3. Bb5 a6 4. Ba4 d6 5. Bxc6+ bxc6 6. d4\r\nexd4 7. Nxd4 Bd7 8. O-O g6 9. Nc3 Bg7 10. Re1 Ne7 11. Bf4 O-O\r\n12. Qd2 c5 13. Nb3 Nc6 14. Bh6 Be6 15. Bxg7 Kxg7 16. Nd5 f6\r\n17. Rad1 Rb8 18. Qc3 Qc8 19. a3 Qb7 20. h3 Rf7 21. Re3 Qb5\r\n22. Nxc7 Rxc7 23. Rxd6 Bc4 24. a4 Qxa4 25. Nxc5 Qb5 26. Qxf6+\r\nKg8 27. Nd7 Rd8 28. Rf3 Qb4 29. c3 Qb5 30. Ne5 Rdc8 31. Nxc6\r\n1-0"\,"pieceSymbols":"native"\,"navigationBoard":"above"\,"showFlipButton":true\,"showDownloadButton":true\,"navigationBoardOptions":{"squareSize":32\,"showCoordinates":true\,"colorset":"original"\,"pieceset":"cburnett"\,"animationSpeed":200\,"showMoveArrow":true}\,"diagramOptions":{"squareSize":32\,"showCoordinates":true\,"colorset":"original"\,"pieceset":"cburnett"\,"animationSpeed":200\,"showMoveArrow":true}});\n		});\n	\n\n\n \n \n\n
URL:https://thechesspedia.net/day/february-7/
CATEGORIES:February
ATTACH;FMTTYPE=image/png:https://thechesspedia.net/wp-content/uploads/2016/07/feb-7.png
END:VEVENT
END:VCALENDAR