
BEGIN:VCALENDAR
VERSION:2.0
PRODID:-//The Chesspedia - ECPv5.1.2.1//NONSGML v1.0//EN
CALSCALE:GREGORIAN
METHOD:PUBLISH
X-WR-CALNAME:The Chesspedia
X-ORIGINAL-URL:https://thechesspedia.net
X-WR-CALDESC:Events for The Chesspedia
BEGIN:VTIMEZONE
TZID:UTC
BEGIN:STANDARD
TZOFFSETFROM:+0000
TZOFFSETTO:+0000
TZNAME:UTC
DTSTART:20160101T000000
END:STANDARD
END:VTIMEZONE
BEGIN:VEVENT
DTSTART;VALUE=DATE:20160227
DTEND;VALUE=DATE:20160228
DTSTAMP:20260421T233141
CREATED:20200224T052245Z
LAST-MODIFIED:20200331T113542Z
UID:19588-1456531200-1456617599@thechesspedia.net
SUMMARY:February 27
DESCRIPTION:QUOTE OF THE DAY\n\nWe lost the crowns of World Champions\, it is sad\, of course. But if you look at the rating list of top 100 players\, Russia is still dominating. However\, the competition is constantly growing stronger.- Arkady Dvorkovich\, 2011\nBIRTHS \nGenrikh Kasparian (1910-27.12.1995)\, one of the pioneers of the Soviet chess composition. The author of the fundamental works in the theory of composition.\nJacques Mieses (1865-1954)\, German-born player and chess author\, International Grandmaster and International Arbiter.\nJohn Gerald Prentice (1907-1987)\, Canadian player born in Australia who was President of the Canadian CF and a FIDE officer.\nYifan Hou (1994)\, a Chinese Grandmaster and Woman Grandmaster who became the Women’s World Champion in 2010 and the best female chess player since 2014.\nTrajko Nedev (1973)\, a Macedonian Grandmaster and author.\nElena Levushkina (1984)\, a German Woman Grandmaster born in Uzbekistan who played in four Women’s Olympiads for Uzbekistan and Germany.\nGergely Aczel (1991)\, a Hungarian Grandmaster. \nDEATH \nGedeon Barcza (21.08.1911- 1986)\, a Hungarian International Grandmaster and International Correspondence Chess Master. He was 8 times Hungarian champion. \nCHESS EVENTS \n1993 Garry Kasparov and Nigel Short announced the creation of P.C.A. (Professional Chess Association).\nWORLD EVENTS  \n1594 Henry IV is crowned King of France.\n1622 Rembrandt Carel Fabritius (d.1654)\, Dutch painter\, was born.\n1801 Pursuant to the District of Columbia Organic Act of 1801\, Washington\, D.C. is placed under the jurisdiction of the U.S. Congress.\n1812 Argentine War of Independence: Manuel Belgrano raises the Flag of Argentina in the city of Rosario for the first time.\n1844 The Dominican Republic gains independence from Haiti.\n1870 The current flag of Japan is first adopted as the national flag for Japanese merchant ships.\n1900 Fußball-Club Bayern München is founded.\n1933 Reichstag fire: Germany’s parliament building in Berlin\, the Reichstag\, is set on fire; Marinus van der Lubbe\, a young Dutch Communist claims responsibility.\n1949 Chaim Weizmann became the 1st Israeli president.\n1963 The Dominican Republic receives its first democratically elected president\, Juan Bosch\, since the end of the dictatorship led by Rafael Trujillo.\n1991 President Bush declared that “Kuwait is liberated\, Iraq’s army is defeated\,” and announced that the allies would suspend combat operations at midnight.\n2008 The EU fined Microsoft Corp. $1.3 billion for charging rivals too much for software information. The fine is the largest ever for a single company and the first time the EU has penalized a business for failing to obey an antitrust order. \n(Source: Wikipedia-Onthisday) \nGAME OF THE DAY \n\n\n \n\n\n	\n				[Event "Asia-ch 4th"]\n[Site "Doha"]\n[Date "2003.02.28"]\n[Round "7"]\n[White "Wu\, Shaobin"]\n[Black "Al Sayed\, Mohammed"]\n[Result "0-1"]\n[ECO "D43"]\n[WhiteElo "2545"]\n[BlackElo "2431"]\n[Annotator ""]\n[PlyCount "58"]\n[EventDate "2003.02.22"]\n[EventType "swiss"]\n[EventRounds "9"]\n1. d4 d5 2. c4 c6 3. Nf3 Nf6 4. Nc3 e6 5. Bg5 h6 6. Bh4 dxc4 7. e4 g5 8. Bg3 b5\n9. Be2 Bb7 10. h4 g4 11. Ne5 h5 12. O-O Nbd7 13. Qc2 Nxe5 14. Bxe5 Bg7 15. Bg3\n$1 Qxd4 16. Rad1 Qb6 17. e5 Nd5 18. Ne4 O-O-O 19. Nd6+ Rxd6 20. exd6 f5 21. Kh2\nKd7 22. Rfe1 f4 $2 (22... Re8 $5) 23. Qg6 fxg3+ 24. fxg3 Bxb2 25. Bxc4 bxc4 26.\nQxe6+ Kd8 27. d7 $2 (27. Qf7 $1 Ba6 (27... Kc8 28. Re8+ Rxe8 29. d7+) 28. Rxd5\n(28. Re6 $5 $18 {/\ d7}) 28... cxd5 29. d7 Kc7 30. Re8 Kc6 31. Rxh8 Bxh8 32.\nQe8 Kc5 33. Qxh8 $18) 27... Kc7 28. Qe8 Rxe8 29. dxe8=Q Qc5 $17 0-1\n				\n			You must activate JavaScript to enhance chess game visualization.		\n	\n	\n	\n		jQuery(document).ready(function($) {\n						$.chessgame.navigationButtonClass  = 'rpbchessboard-jQuery-enableSmoothness';\n			$.chessgame.navigationFrameClass   = 'wp-dialog';\n			$.chessgame.navigationFrameOptions = {"squareSize":32\,"showCoordinates":true\,"colorset":"original"\,"pieceset":"cburnett"\,"animationSpeed":200\,"showMoveArrow":true};\n			var selector = '#' + "rpbchessboard-69e808dd7f59b-1" + ' .rpbchessboard-chessgameAnchor';\n			$(selector).removeClass('rpbchessboard-chessgameAnchor').chessgame({"pgn":"[Event \"Asia-ch 4th\"]\r\n[Site \"Doha\"]\r\n[Date \"2003.02.28\"]\r\n[Round \"7\"]\r\n[White \"Wu\, Shaobin\"]\r\n[Black \"Al Sayed\, Mohammed\"]\r\n[Result \"0-1\"]\r\n[ECO \"D43\"]\r\n[WhiteElo \"2545\"]\r\n[BlackElo \"2431\"]\r\n[Annotator \"\"]\r\n[PlyCount \"58\"]\r\n[EventDate \"2003.02.22\"]\r\n[EventType \"swiss\"]\r\n[EventRounds \"9\"]\r\n1. d4 d5 2. c4 c6 3. Nf3 Nf6 4. Nc3 e6 5. Bg5 h6 6. Bh4 dxc4 7. e4 g5 8. Bg3 b5\r\n9. Be2 Bb7 10. h4 g4 11. Ne5 h5 12. O-O Nbd7 13. Qc2 Nxe5 14. Bxe5 Bg7 15. Bg3\r\n$1 Qxd4 16. Rad1 Qb6 17. e5 Nd5 18. Ne4 O-O-O 19. Nd6+ Rxd6 20. exd6 f5 21. Kh2\r\nKd7 22. Rfe1 f4 $2 (22... Re8 $5) 23. Qg6 fxg3+ 24. fxg3 Bxb2 25. Bxc4 bxc4 26.\r\nQxe6+ Kd8 27. d7 $2 (27. Qf7 $1 Ba6 (27... Kc8 28. Re8+ Rxe8 29. d7+) 28. Rxd5\r\n(28. Re6 $5 $18 {\/\\ d7}) 28... cxd5 29. d7 Kc7 30. Re8 Kc6 31. Rxh8 Bxh8 32.\r\nQe8 Kc5 33. Qxh8 $18) 27... Kc7 28. Qe8 Rxe8 29. dxe8=Q Qc5 $17 0-1"\,"pieceSymbols":"native"\,"navigationBoard":"above"\,"showFlipButton":true\,"showDownloadButton":true\,"navigationBoardOptions":{"squareSize":32\,"showCoordinates":true\,"colorset":"original"\,"pieceset":"cburnett"\,"animationSpeed":200\,"showMoveArrow":true}\,"diagramOptions":{"squareSize":32\,"showCoordinates":true\,"colorset":"original"\,"pieceset":"cburnett"\,"animationSpeed":200\,"showMoveArrow":true}});\n		});\n	\n\n\n \n\n
URL:https://thechesspedia.net/day/february-27/
CATEGORIES:February
ATTACH;FMTTYPE=image/png:https://thechesspedia.net/wp-content/uploads/2016/07/feb-27.png
END:VEVENT
END:VCALENDAR