
BEGIN:VCALENDAR
VERSION:2.0
PRODID:-//The Chesspedia - ECPv5.1.2.1//NONSGML v1.0//EN
CALSCALE:GREGORIAN
METHOD:PUBLISH
X-WR-CALNAME:The Chesspedia
X-ORIGINAL-URL:https://thechesspedia.net
X-WR-CALDESC:Events for The Chesspedia
BEGIN:VTIMEZONE
TZID:UTC
BEGIN:STANDARD
TZOFFSETFROM:+0000
TZOFFSETTO:+0000
TZNAME:UTC
DTSTART:20160101T000000
END:STANDARD
END:VTIMEZONE
BEGIN:VEVENT
DTSTART;VALUE=DATE:20160225
DTEND;VALUE=DATE:20160226
DTSTAMP:20260421T233133
CREATED:20170222T051852Z
LAST-MODIFIED:20170222T142610Z
UID:19586-1456358400-1456444799@thechesspedia.net
SUMMARY:February 25
DESCRIPTION:QUOTE OF THE DAY\n\nAs a rule\, pawn endings have a forced character\, and they can be worked out conclusively.- Mark Dvoretsky\n\nBIRTHS\nJulio Ernesto Granda Zuniga (1967)\, the best ever Peruvian Grandmaster who became four-time American continental champion and won many other national and international titles.\nPablo Ricardi (1962)\, an Argentine Grandmaster who won the Argentine Championship five times between 1994-96 and 1998-99.\nBazar Hatanbaatar (1973)\, a Mongolian Grandmaster who was the Mongolian champion in 2002\, 2003\, and 2005.\nNurlan Ibrayev (1977)\, a Khazak Grandmaster.\nVladimir Baklan (1978) a Ukrainian Grandmaster who became Ukrainian Champion in 1997 and 1998.\nS.P. Sethuraman\, (1993)\, an Indian Grandmaster and Indian 2014 Champion he was also the 2004 World U16 Champion in 2009.\nKaren H Grigoryan (1995)\, an Armenian Grandmaster who was European U16 Champion in 2010. \nCHESS EVENTS \n1985 Mamedov\, the head of Kasparov’s delegation at the World Championship Match Karpov-Kasparov\, informed FIDE that the Challenger didn’t wish to continue the Match and accepted the FIDE decision. He would be ready to start a new match with the first game starting the first week of September. \nWORLD EVENTS \n1308 Edward II was crowned King of England.\n1570 Pope Pius V issued the bull Regnans in Excelsis which excommunicated Queen Elizabeth the First of England.\n1728 Peter II Alekseyevich (1715-1730) was crowned as czar of Russia.\n1791 President George Washington signed a bill creating the Bank of the United States.\n1836 Samuel Colt is granted a United States patent for the Colt revolver.\n1875 Guangxu Emperor of Qing dynasty China begins his reign\, under Empress Dowager Cixi’s regency.\n1910 The Dalai Lama fled from the Chinese and took refuge in India.\n1912 Marie-Adélaïde\, the eldest of six daughters of Guillaume IV\, becomes the first reigning Grand Duchess of Luxembourg.\n1921 Tbilisi\, capital of the Democratic Republic of Georgia\, is occupied by Bolshevist Russia.\n1926 Francisco Franco became Generalissimo of Spain.\n1954 Gamal Abdel Nasser is made premier of Egypt.\n1957 Nobosuke Kishi (1896-1987) began serving as prime minister of Japan. He continued for 2 terms to Jul 19\, 1960.\n1964 Cassius Clay (later Muhammad Ali) became world heavyweight boxing champion by defeating Sonny Liston in Miami Beach.\n1991 The Warsaw Pact is declared disbanded.\n1997 China’s elite bid a final farewell to Deng Xiaoping\, the country’s last major revolutionary leader. \n(Source Wikipedia-Timeline) \nGAME OF THE DAY \n\n\n \n\n\n	\n				[Event "Moscow Aeroflot op-A"]\n[Site "Moscow"]\n[Date "2004.02.25"]\n[Round "9"]\n[White "Lautier\, Joel"]\n[Black "Vaganian\, Rafael A"]\n[Result "0-1"]\n[ECO "D31"]\n[WhiteElo "2676"]\n[BlackElo "2623"]\n[PlyCount "56"]\n[EventDate "2004.02.17"]\n[EventType "swiss"]\n[EventRounds "9"]\n\n1. d4 d5 2. c4 e6 3. Nc3 Be7 4. cxd5 exd5 5. Bf4 c6 6. e3 Bf5 7. Nge2 Nd7 8. f3\nBg6 9. Bg3 Nh6 10. Bf2 Bd6 11. g4 f5 12. h3 O-O 13. Bg2 Qe7 14. O-O fxg4 15.\nhxg4 Qg5 16. Qd2 Rae8 17. Rae1 Rxf3 18. Bxf3 Nxg4 19. Bg3 Nxe3 20. Kh1 Bh5 21.\nBxh5 Qxh5+ 22. Kg1 Qh3 23. Rf2 Bxg3 24. Nxg3 Qxg3+ 25. Rg2 Nxg2 26. Rxe8+ Kf7\n27. Rc8 Ne3+ 28. Kh1 Nf6 0-1\n				\n			You must activate JavaScript to enhance chess game visualization.		\n	\n	\n	\n		jQuery(document).ready(function($) {\n						$.chessgame.navigationButtonClass  = 'rpbchessboard-jQuery-enableSmoothness';\n			$.chessgame.navigationFrameClass   = 'wp-dialog';\n			$.chessgame.navigationFrameOptions = {"squareSize":32\,"showCoordinates":true\,"colorset":"original"\,"pieceset":"cburnett"\,"animationSpeed":200\,"showMoveArrow":true};\n			var selector = '#' + "rpbchessboard-69e808d5eaf28-1" + ' .rpbchessboard-chessgameAnchor';\n			$(selector).removeClass('rpbchessboard-chessgameAnchor').chessgame({"pgn":"[Event \"Moscow Aeroflot op-A\"]\r\n[Site \"Moscow\"]\r\n[Date \"2004.02.25\"]\r\n[Round \"9\"]\r\n[White \"Lautier\, Joel\"]\r\n[Black \"Vaganian\, Rafael A\"]\r\n[Result \"0-1\"]\r\n[ECO \"D31\"]\r\n[WhiteElo \"2676\"]\r\n[BlackElo \"2623\"]\r\n[PlyCount \"56\"]\r\n[EventDate \"2004.02.17\"]\r\n[EventType \"swiss\"]\r\n[EventRounds \"9\"]\r\n\r\n1. d4 d5 2. c4 e6 3. Nc3 Be7 4. cxd5 exd5 5. Bf4 c6 6. e3 Bf5 7. Nge2 Nd7 8. f3\r\nBg6 9. Bg3 Nh6 10. Bf2 Bd6 11. g4 f5 12. h3 O-O 13. Bg2 Qe7 14. O-O fxg4 15.\r\nhxg4 Qg5 16. Qd2 Rae8 17. Rae1 Rxf3 18. Bxf3 Nxg4 19. Bg3 Nxe3 20. Kh1 Bh5 21.\r\nBxh5 Qxh5+ 22. Kg1 Qh3 23. Rf2 Bxg3 24. Nxg3 Qxg3+ 25. Rg2 Nxg2 26. Rxe8+ Kf7\r\n27. Rc8 Ne3+ 28. Kh1 Nf6 0-1"\,"pieceSymbols":"native"\,"navigationBoard":"above"\,"showFlipButton":true\,"showDownloadButton":true\,"navigationBoardOptions":{"squareSize":32\,"showCoordinates":true\,"colorset":"original"\,"pieceset":"cburnett"\,"animationSpeed":200\,"showMoveArrow":true}\,"diagramOptions":{"squareSize":32\,"showCoordinates":true\,"colorset":"original"\,"pieceset":"cburnett"\,"animationSpeed":200\,"showMoveArrow":true}});\n		});\n	\n\n\n \n\n
URL:https://thechesspedia.net/day/february-25/
CATEGORIES:February
ATTACH;FMTTYPE=image/png:https://thechesspedia.net/wp-content/uploads/2016/07/feb-25.png
END:VEVENT
END:VCALENDAR