
BEGIN:VCALENDAR
VERSION:2.0
PRODID:-//The Chesspedia - ECPv5.1.2.1//NONSGML v1.0//EN
CALSCALE:GREGORIAN
METHOD:PUBLISH
X-WR-CALNAME:The Chesspedia
X-ORIGINAL-URL:https://thechesspedia.net
X-WR-CALDESC:Events for The Chesspedia
BEGIN:VTIMEZONE
TZID:UTC
BEGIN:STANDARD
TZOFFSETFROM:+0000
TZOFFSETTO:+0000
TZNAME:UTC
DTSTART:20160101T000000
END:STANDARD
END:VTIMEZONE
BEGIN:VEVENT
DTSTART;VALUE=DATE:20160202
DTEND;VALUE=DATE:20160203
DTSTAMP:20260426T013203
CREATED:20160112T041545Z
LAST-MODIFIED:20170202T074727Z
UID:19552-1454371200-1454457599@thechesspedia.net
SUMMARY:February 2
DESCRIPTION:
URL:https://thechesspedia.net/day/february-2/
CATEGORIES:February
ATTACH;FMTTYPE=image/png:https://thechesspedia.net/wp-content/uploads/2016/07/feb-2.png
END:VEVENT
END:VCALENDAR