
BEGIN:VCALENDAR
VERSION:2.0
PRODID:-//The Chesspedia - ECPv5.1.2.1//NONSGML v1.0//EN
CALSCALE:GREGORIAN
METHOD:PUBLISH
X-WR-CALNAME:The Chesspedia
X-ORIGINAL-URL:https://thechesspedia.net
X-WR-CALDESC:Events for The Chesspedia
BEGIN:VTIMEZONE
TZID:UTC
BEGIN:STANDARD
TZOFFSETFROM:+0000
TZOFFSETTO:+0000
TZNAME:UTC
DTSTART:20160101T000000
END:STANDARD
END:VTIMEZONE
BEGIN:VEVENT
DTSTART;VALUE=DATE:20160213
DTEND;VALUE=DATE:20160214
DTSTAMP:20260421T231600
CREATED:20170208T044132Z
LAST-MODIFIED:20170213T091000Z
UID:19566-1455321600-1455407999@thechesspedia.net
SUMMARY:February 13
DESCRIPTION:QUOTE OF THE DAY\n\nWhen you see a good move\, look for a better one- Emanuel Lasker\nBIRTHS \nAlmog Burstein (1950)\, an Israeli International Arbiter who became deputy World Amateur Champion in 2007.\nArtur Yusupov (1960)\, a German born-Soviet Grandmaster and writer who was a semi-finalist of the Candidates Tournament in 1986\, 1989 and 1992.\nJonny Hector (1964)\, a Swedish Grandmaster and a Grandmaster of Correspondence Chess who won the Swedish Championship in 2002.\nLevente Vadja (1981)\, a leading Romanian Grandmaster who won few bronze medals at the World and European Youth Championships.\nNamig Guliyev (1974)\, an Azeri Grandmaster living in France.\nRainer Polzin(1971)\, a German Grandmaster\nSaptarshi Roy Chowdhury (1982)\, an Indian Grandmaster.\nMarsel Efroimski (1995)\, an Israeli Woman Grandmaster who became  Girls World Under-12 Champion in 2007\, Girls World U-14 Champion in 2009\, and Girls European U-14 Champion Champion in 2009. \nDEATHS \nHans Kmoch (25.07.1884-1973)\, an Austrian-Dutch-American International Master and International Arbiter\, a chess journalist and an author.\nEdmar Mednis (22.03.1937-2002)\, an American Grandmaster and writer born in Latvia. He was the first player to beat Bobby Fischer in a U.S. Championship. \nCHESS EVENTS \n1985 At the World Championship Match Karpov-Kasparov\, a technical timeout was requested by FIDE President Campomanes because the Soviet Chess Federation’s Chairman V. Sevastianov had demanded a three-month suspension of the match\, citing concerns about the continuation of the event. \nWORLD EVENTS \n1575 Henry III of France is crowned at Reims and marries Louise de Lorraine-Vaudémont on the same day.\n1633 Galileo Galilei arrives in Rome for his trial before the Inquisition.\n1861 Abraham Lincoln declared US president in Washington\, D.C.\n1913 The 13th Dalai Lama proclaims Tibetan independence following a period of domination by Manchu Qing dynasty and initiated a period of almost four decades of independence.\n1935 A jury in Flemington\, New Jersey finds Bruno Hauptmann guilty of the 1932 kidnapping and murder of the Lindbergh baby\, the son of Charles Lindbergh.\n1945 World War II: The siege of Budapest concludes with the unconditional surrender of German and Hungarian forces to the Red Army.\n1945 World War II: Royal Air Force bombers are dispatched to Dresden\, Germany to attack the city with a massive aerial bombardment.\n1960 With the success of a nuclear test codenamed “Gerboise Bleue”\, France becomes the fourth country to possess nuclear weapons.\n1975 Turkish Cypriot leader Rauf Denktash proclaims Turkish-Cypriot Federation\n1984 Konstantin Chernenko succeeds the late Yuri Andropov as general secretary of the Communist Party of the Soviet Union.\n1990 German reunification: An agreement is reached on a two-stage plan to reunite Germany.\n2008 Australian Prime Minister Kevin Rudd makes a historic apology to the Indigenous Australians and the Stolen Generations.\n(Source: Wikipedia-Onthisday) \nGAMES OF THE DAY \n\n\n \n\n\n	\n				[Event "Moscow Aeroflot rapid op qual"]\n[Site "Moscow"]\n[Date "2013.02.13"]\n[Round "7"]\n[White "Shomoev\, Anton"]\n[Black "Ganguly\, Surya Shekhar"]\n[Result "1-0"]\n[ECO "E94"]\n[WhiteElo "2557"]\n[BlackElo "2626"]\n[PlyCount "69"]\n[EventDate "2013.02.12"]\n[EventType "swiss (rapid)"]\n[EventRounds "9"]\n[EventCountry "RUS"]\n1. c4 Nf6 2. Nc3 g6 3. e4 d6 4. d4 Bg7 5. Nf3 O-O 6. Be2 e5 7. O-O exd4 8. Nxd4\nRe8 9. f3 c6 10. Kh1 Nh5 11. g4 Nf6 12. Bf4 h5 13. Nf5 gxf5 14. gxf5 Nbd7 15.\nRg1 Kh8 16. Qe1 Ne5 17. Qh4 Nh7 18. Qxh5 Qe7 19. Rg3 Nd7 20. Rag1 Ndf6 21. Qh4\nNxe4 22. Qxh7+ Kxh7 23. Rxg7+ Kh8 24. fxe4 Bxf5 25. exf5 Rg8 26. R7g3 Rxg3 27.\nRxg3 Rg8 28. Rh3+ Kg7 29. Bh6+ Kf6 30. Re3 Qc7 31. Bd3 Qb6 32. Ne4+ Kxf5 33.\nNg3+ Kg4 34. Bf5+ Kh4 35. Re4+ 1-0\n				\n			You must activate JavaScript to enhance chess game visualization.		\n	\n	\n	\n		jQuery(document).ready(function($) {\n						$.chessgame.navigationButtonClass  = 'rpbchessboard-jQuery-enableSmoothness';\n			$.chessgame.navigationFrameClass   = 'wp-dialog';\n			$.chessgame.navigationFrameOptions = {"squareSize":32\,"showCoordinates":true\,"colorset":"original"\,"pieceset":"cburnett"\,"animationSpeed":200\,"showMoveArrow":true};\n			var selector = '#' + "rpbchessboard-69e80530a8b48-1" + ' .rpbchessboard-chessgameAnchor';\n			$(selector).removeClass('rpbchessboard-chessgameAnchor').chessgame({"pgn":"[Event \"Moscow Aeroflot rapid op qual\"]\r\n[Site \"Moscow\"]\r\n[Date \"2013.02.13\"]\r\n[Round \"7\"]\r\n[White \"Shomoev\, Anton\"]\r\n[Black \"Ganguly\, Surya Shekhar\"]\r\n[Result \"1-0\"]\r\n[ECO \"E94\"]\r\n[WhiteElo \"2557\"]\r\n[BlackElo \"2626\"]\r\n[PlyCount \"69\"]\r\n[EventDate \"2013.02.12\"]\r\n[EventType \"swiss (rapid)\"]\r\n[EventRounds \"9\"]\r\n[EventCountry \"RUS\"]\r\n1. c4 Nf6 2. Nc3 g6 3. e4 d6 4. d4 Bg7 5. Nf3 O-O 6. Be2 e5 7. O-O exd4 8. Nxd4\r\nRe8 9. f3 c6 10. Kh1 Nh5 11. g4 Nf6 12. Bf4 h5 13. Nf5 gxf5 14. gxf5 Nbd7 15.\r\nRg1 Kh8 16. Qe1 Ne5 17. Qh4 Nh7 18. Qxh5 Qe7 19. Rg3 Nd7 20. Rag1 Ndf6 21. Qh4\r\nNxe4 22. Qxh7+ Kxh7 23. Rxg7+ Kh8 24. fxe4 Bxf5 25. exf5 Rg8 26. R7g3 Rxg3 27.\r\nRxg3 Rg8 28. Rh3+ Kg7 29. Bh6+ Kf6 30. Re3 Qc7 31. Bd3 Qb6 32. Ne4+ Kxf5 33.\r\nNg3+ Kg4 34. Bf5+ Kh4 35. Re4+ 1-0"\,"pieceSymbols":"native"\,"navigationBoard":"above"\,"showFlipButton":true\,"showDownloadButton":true\,"navigationBoardOptions":{"squareSize":32\,"showCoordinates":true\,"colorset":"original"\,"pieceset":"cburnett"\,"animationSpeed":200\,"showMoveArrow":true}\,"diagramOptions":{"squareSize":32\,"showCoordinates":true\,"colorset":"original"\,"pieceset":"cburnett"\,"animationSpeed":200\,"showMoveArrow":true}});\n		});\n	\n\n\n \n\n
URL:https://thechesspedia.net/day/february-13/
CATEGORIES:February
ATTACH;FMTTYPE=image/png:https://thechesspedia.net/wp-content/uploads/2016/07/feb-13.png
END:VEVENT
END:VCALENDAR