
BEGIN:VCALENDAR
VERSION:2.0
PRODID:-//The Chesspedia - ECPv5.1.2.1//NONSGML v1.0//EN
CALSCALE:GREGORIAN
METHOD:PUBLISH
X-WR-CALNAME:The Chesspedia
X-ORIGINAL-URL:https://thechesspedia.net
X-WR-CALDESC:Events for The Chesspedia
BEGIN:VTIMEZONE
TZID:UTC
BEGIN:STANDARD
TZOFFSETFROM:+0000
TZOFFSETTO:+0000
TZNAME:UTC
DTSTART:20160101T000000
END:STANDARD
END:VTIMEZONE
BEGIN:VEVENT
DTSTART;VALUE=DATE:20160212
DTEND;VALUE=DATE:20160213
DTSTAMP:20260422T020931
CREATED:20170203T043935Z
LAST-MODIFIED:20170421T090250Z
UID:19564-1455235200-1455321599@thechesspedia.net
SUMMARY:February 12
DESCRIPTION:QUOTE OF THE DAY\n\nIf the FIDe elections were not decided by the votes of the delegates but by the world’s chess society as a whole\, there would not even be a competition.- Anatoly Karpov\, NIC 2010\nBIRTHS \nAlexandr Dimitrievich Petrov (1794-22-04-1867) a Russian chess composer and chess player who was the best Russian player of his time.\nCarol Jarecki (1935) an American organizer\, an International Arbiter in many top chess events\, and a chess writer.\nLeontxo García Olasagasti (1956)  a Spanish Fide Master\, lecturer\, presenter\, commentator\, and journalist.\nGlenn Flear\, (1959)\, an English Grandmaster\, author and a coach living in France.\nNana Mikhailovna Ioseliani (1962)\, a Georgian International Master and Woman Grandmaster who challenged and lost defending champion Maia Chiburdanidze and Xie Jun for the Women’s World Championships.\nSvetlana Stuchkova (1963)\, a\, Ukrainian Grandmaster.\nKrzysztof Bulski (1987)\, a Polish Grandmaster who is a multiple medalists at the Polish Junior Chess Championship. \nWORLD EVENTS \n1502 Vasco da Gama sets sail from Lisbon\, Portugal\, on his second voyage to India.\n1541 Santiago\, Chile is founded by Pedro de Valdivia.\n1771 Gustav III becomes the King of Sweden.\n1809 Charles Darwin\, English geologist and theorist was born (d. 1882)\n1809 Abraham Lincoln\, American lawyer\, and politician\, 16th President of the United States was born (d. 1865).\n1877 Louis Renault\, French engineer\, and businessman\, co-founded Renault was born (d. 1944)\n1912 The Xuantong Emperor\, the last Emperor of China\, abdicates.\n1914 In Washington\, D.C.\, the first stone of the Lincoln Memorial is put into place.\n1921 Winston Churchill becomes British Minister of Colonies\n1921 Bolsheviks launch a revolt in Georgia as a preliminary to the Red Army invasion of Georgia.\n1938 German troops entered Austria\n1992 The current Constitution of Mongolia comes into effect.\n1999 United States President Bill Clinton is acquitted by the United States Senate in his impeachment trial.\n2002 The trial of former President of Federal Republic of Yugoslavia Slobodan Milošević begins at the United Nations war crimes tribunal in The Hague.\n(Source: Wikipedia and Onthis day) \nGAME OF THE DAY \n\n\n \n\n\n	\n				[Event "Moscow Aeroflot op-A 11th"]\n[Site "Moscow"]\n[Date "2012.02.13"]\n[Round "7"]\n[White "Bartel\, Mateusz"]\n[Black "Caruana\, Fabiano"]\n[Result "1-0"]\n[ECO "D11"]\n[WhiteElo "2658"]\n[BlackElo "2736"]\n[PlyCount "43"]\n[EventDate "2012.02.07"]\n[EventType "swiss"]\n[EventRounds "9"]\n[EventCountry "RUS"]1. d4 d5 2. c4 c6 3. Nf3 Nf6 4. e3 Bg4 5. Nc3 e6 6. h3 Bh5 7. Qb3 Qc7 8. Nh4\nNbd7 9. Bd2 Nb6 10. cxd5 exd5 11. Rc1 Bg6 12. Nxg6 hxg6 13. Bd3 Be7 14. O-O Kf8\n15. a4 a5 16. e4 dxe4 17. Nxe4 Rh5 18. Rfe1 Nxe4 19. Bxe4 Bd6 20. Qf3 Nxa4 21.\nBxg6 Rh8 22. Bg5 1-0\n				\n			You must activate JavaScript to enhance chess game visualization.		\n	\n	\n	\n		jQuery(document).ready(function($) {\n						$.chessgame.navigationButtonClass  = 'rpbchessboard-jQuery-enableSmoothness';\n			$.chessgame.navigationFrameClass   = 'wp-dialog';\n			$.chessgame.navigationFrameOptions = {"squareSize":32\,"showCoordinates":true\,"colorset":"original"\,"pieceset":"cburnett"\,"animationSpeed":200\,"showMoveArrow":true};\n			var selector = '#' + "rpbchessboard-69e82ddb578ab-1" + ' .rpbchessboard-chessgameAnchor';\n			$(selector).removeClass('rpbchessboard-chessgameAnchor').chessgame({"pgn":"[Event \"Moscow Aeroflot op-A 11th\"]\r\n[Site \"Moscow\"]\r\n[Date \"2012.02.13\"]\r\n[Round \"7\"]\r\n[White \"Bartel\, Mateusz\"]\r\n[Black \"Caruana\, Fabiano\"]\r\n[Result \"1-0\"]\r\n[ECO \"D11\"]\r\n[WhiteElo \"2658\"]\r\n[BlackElo \"2736\"]\r\n[PlyCount \"43\"]\r\n[EventDate \"2012.02.07\"]\r\n[EventType \"swiss\"]\r\n[EventRounds \"9\"]\r\n[EventCountry \"RUS\"]1. d4 d5 2. c4 c6 3. Nf3 Nf6 4. e3 Bg4 5. Nc3 e6 6. h3 Bh5 7. Qb3 Qc7 8. Nh4\r\nNbd7 9. Bd2 Nb6 10. cxd5 exd5 11. Rc1 Bg6 12. Nxg6 hxg6 13. Bd3 Be7 14. O-O Kf8\r\n15. a4 a5 16. e4 dxe4 17. Nxe4 Rh5 18. Rfe1 Nxe4 19. Bxe4 Bd6 20. Qf3 Nxa4 21.\r\nBxg6 Rh8 22. Bg5 1-0"\,"pieceSymbols":"native"\,"navigationBoard":"above"\,"showFlipButton":true\,"showDownloadButton":true\,"navigationBoardOptions":{"squareSize":32\,"showCoordinates":true\,"colorset":"original"\,"pieceset":"cburnett"\,"animationSpeed":200\,"showMoveArrow":true}\,"diagramOptions":{"squareSize":32\,"showCoordinates":true\,"colorset":"original"\,"pieceset":"cburnett"\,"animationSpeed":200\,"showMoveArrow":true}});\n		});\n	\n\n\n \n\n
URL:https://thechesspedia.net/day/february-12/
CATEGORIES:February
ATTACH;FMTTYPE=image/png:https://thechesspedia.net/wp-content/uploads/2016/07/feb-12.png
END:VEVENT
END:VCALENDAR