
BEGIN:VCALENDAR
VERSION:2.0
PRODID:-//The Chesspedia - ECPv5.1.2.1//NONSGML v1.0//EN
CALSCALE:GREGORIAN
METHOD:PUBLISH
X-WR-CALNAME:The Chesspedia
X-ORIGINAL-URL:https://thechesspedia.net
X-WR-CALDESC:Events for The Chesspedia
BEGIN:VTIMEZONE
TZID:UTC
BEGIN:STANDARD
TZOFFSETFROM:+0000
TZOFFSETTO:+0000
TZNAME:UTC
DTSTART:20160101T000000
END:STANDARD
END:VTIMEZONE
BEGIN:VEVENT
DTSTART;VALUE=DATE:20160210
DTEND;VALUE=DATE:20160211
DTSTAMP:20260426T013651
CREATED:20170201T043324Z
LAST-MODIFIED:20170208T084359Z
UID:19560-1455062400-1455148799@thechesspedia.net
SUMMARY:February 10
DESCRIPTION:QUOTE OF THE DAY\n\nBotvinnik\, Korchnoi and Kasparov had to hate the opponent to play successfully. I belong to a different type of chess players. I’m like Keres\, Spassky and Portisch. On the board we fight\, but in life we ​​get along great.- Anatoly Karpov\, 2015\nBIRTHS \nOleg Romanishin (1952)\, a Ukrainian Grandmaster and coach who was European U20 Champion in 1973.\nJohn Peters\, (1951)\, an American International Master and writer.\nVictor Frias\, (1956). a Chilian International Master who lives in the USA.\nLudmila Zaitseva (1956)\, a Soviet Woman Grandmaster and coach.\nGeorge Kacheishvili (1977)\, a Georgian Grandmaster who was Georgian champion in 1997 and 2006.\nManuel Leon Hoyos (1989)\, the best Mexican Grandmaster.\nCarla Heredia Serrano (1991)\, an Equatorian Woman Grandmaster. \nCHESS EVENTS \n1910 Germany. World Champion E. Lasker defeats K. Schlechter in 10th match game to retain the world title. Schlechter was leading 5-4 before the last game. A draw in this tenth game would have been sufficient for Schlechter to get the title. The game lasted 3 days and more than 11 hours\n1996 Deep Blue won its first game against a world champion on February 10\, 1996\, when it defeated Garry Kasparov in game one of a six-game match.\n2011 In Teheran\, Ehsan Ghaem Maghami got the Guinness record holder for most simultaneous chess games (614 opponents\, achieving a 97.5% score). \nWORLD EVENTS \n1722 Black Bart (b.1682)\, Welsh pirate\, died. He raided shipping off the Americas and West Africa between 1719 and 1722.\n1763 French and Indian War: The Treaty of Paris ends the war and France cedes Quebec to Great Britain.\n1824 Simon Bolivar was named President by the Congress of Peru.\n1870 The YWCA is founded in New York City.\n1931 New Delhi became the capital of India.\n1940 “In The Mood” by Glenn Miller hit #1.\n1933 The first singing telegram was introduced by the Postal Telegram Company in New York.\n1942 The first gold record is presented to Glenn Miller for “Chattanooga Choo Choo”.\n1962 Captured American U2 spy plane pilot Gary Powers is exchanged for captured Soviet spy Rudolf Abel.\n1972 Ras Al Khaimah joins the United Arab Emirates\, now making up 7 emirates.\n(Source: Wikipedia-Timeline) \nGAME OF THE DAY \n\n\n\n \n\n\n	\n				[Event "Asia Cities-ch 13th"]\n[Site "Aden"]\n[Date "2002.02.10"]\n[Round "5"]\n[White "Al Modiahki\, Mohamad"]\n[Black "Torre\, Eugenio"]\n[Result "1-0"]\n[ECO "C97"]\n[WhiteElo "2500"]\n[BlackElo "2536"]\n[PlyCount "63"]\n[EventDate "2002.02.07"]\n[EventType "team"]\n[EventRounds "9"]\n[EventCountry "YEM"][SourceDate "2002.03.14"]1. e4 e5 2. Nf3 Nc6 3. Bb5 a6 4. Ba4 Nf6 5. O-O Be7 6. Re1 b5 7. Bb3 d6 8. c3\nO-O 9. h3 Na5 10. Bc2 c5 11. d4 Qc7 12. Nbd2 Rd8 13. b3 Bd7 14. Bb2 Rdc8 15.\nRc1 Nc6 16. Nf1 a5 17. Ne3 b4 18. dxe5 dxe5 19. Nd5 Qd8 20. cxb4 axb4 21. Bb1\nNd4 22. Nxe5 Nxd5 23. exd5 Bf6 24. Nxf7 Kxf7 25. Qh5+ Kg8 26. Bxh7+ Kf8 27. Bg6\nBe6 28. dxe6 Ke7 29. Be4 Rxa2 30. Bxd4 Bxd4 31. Qf7+ Kd6 32. e7 1-0\n				\n			You must activate JavaScript to enhance chess game visualization.		\n	\n	\n	\n		jQuery(document).ready(function($) {\n						$.chessgame.navigationButtonClass  = 'rpbchessboard-jQuery-enableSmoothness';\n			$.chessgame.navigationFrameClass   = 'wp-dialog';\n			$.chessgame.navigationFrameOptions = {"squareSize":32\,"showCoordinates":true\,"colorset":"original"\,"pieceset":"cburnett"\,"animationSpeed":200\,"showMoveArrow":true};\n			var selector = '#' + "rpbchessboard-69ed6c3319515-1" + ' .rpbchessboard-chessgameAnchor';\n			$(selector).removeClass('rpbchessboard-chessgameAnchor').chessgame({"pgn":"[Event \"Asia Cities-ch 13th\"]\r\n[Site \"Aden\"]\r\n[Date \"2002.02.10\"]\r\n[Round \"5\"]\r\n[White \"Al Modiahki\, Mohamad\"]\r\n[Black \"Torre\, Eugenio\"]\r\n[Result \"1-0\"]\r\n[ECO \"C97\"]\r\n[WhiteElo \"2500\"]\r\n[BlackElo \"2536\"]\r\n[PlyCount \"63\"]\r\n[EventDate \"2002.02.07\"]\r\n[EventType \"team\"]\r\n[EventRounds \"9\"]\r\n[EventCountry \"YEM\"][SourceDate \"2002.03.14\"]1. e4 e5 2. Nf3 Nc6 3. Bb5 a6 4. Ba4 Nf6 5. O-O Be7 6. Re1 b5 7. Bb3 d6 8. c3\r\nO-O 9. h3 Na5 10. Bc2 c5 11. d4 Qc7 12. Nbd2 Rd8 13. b3 Bd7 14. Bb2 Rdc8 15.\r\nRc1 Nc6 16. Nf1 a5 17. Ne3 b4 18. dxe5 dxe5 19. Nd5 Qd8 20. cxb4 axb4 21. Bb1\r\nNd4 22. Nxe5 Nxd5 23. exd5 Bf6 24. Nxf7 Kxf7 25. Qh5+ Kg8 26. Bxh7+ Kf8 27. Bg6\r\nBe6 28. dxe6 Ke7 29. Be4 Rxa2 30. Bxd4 Bxd4 31. Qf7+ Kd6 32. e7 1-0"\,"pieceSymbols":"native"\,"navigationBoard":"above"\,"showFlipButton":true\,"showDownloadButton":true\,"navigationBoardOptions":{"squareSize":32\,"showCoordinates":true\,"colorset":"original"\,"pieceset":"cburnett"\,"animationSpeed":200\,"showMoveArrow":true}\,"diagramOptions":{"squareSize":32\,"showCoordinates":true\,"colorset":"original"\,"pieceset":"cburnett"\,"animationSpeed":200\,"showMoveArrow":true}});\n		});\n	\n\n\n \n\n\n
URL:https://thechesspedia.net/day/february-10/
CATEGORIES:February
ATTACH;FMTTYPE=image/png:https://thechesspedia.net/wp-content/uploads/2016/07/feb-10.png
END:VEVENT
END:VCALENDAR