
BEGIN:VCALENDAR
VERSION:2.0
PRODID:-//The Chesspedia - ECPv5.1.2.1//NONSGML v1.0//EN
CALSCALE:GREGORIAN
METHOD:PUBLISH
X-WR-CALNAME:The Chesspedia
X-ORIGINAL-URL:https://thechesspedia.net
X-WR-CALDESC:Events for The Chesspedia
BEGIN:VTIMEZONE
TZID:UTC
BEGIN:STANDARD
TZOFFSETFROM:+0000
TZOFFSETTO:+0000
TZNAME:UTC
DTSTART:20160101T000000
END:STANDARD
END:VTIMEZONE
BEGIN:VEVENT
DTSTART;VALUE=DATE:20160201
DTEND;VALUE=DATE:20160202
DTSTAMP:20260422T020742
CREATED:20170119T110543Z
LAST-MODIFIED:20170119T111716Z
UID:19156-1454284800-1454371199@thechesspedia.net
SUMMARY:February 1
DESCRIPTION:\nQUOTE OF THE DAY\n\nDrawing general conclusions about your main weaknesses can provide a great stimulus to further growth.- Alexander Kotov\n\nBIRTHS\n\nAdolf Albin (14.09.1848-1920)\, a Hungarian Master\, the author of the counter gambit 1.d4 d5 2.c4 e5!?\nIrina Chelushkina (1962)\, a Serbian born-Ukrainian Woman Grandmaster who was  USSR Women’s Champion and Women’s Yugoslav Champion three times.\nRobert Rabiega (1971)\, a German Grandmaster who is a real estate agent by profession.\nMichael Feygin (1975)\, a Ukrainian Grandmster. \nVasiliy Yemelin (1976)\, a Russian Grandmaster.\nAlexander Galkin (1979)\, a Russian Grandmaster who won the 1999 World Junior Chess Championship\nDeshun Xiu (1989)\, a Chinese Grandmaster who was a member of the gold medal-winning Chinese team at the Asian Nations Cup 2014.\nNafisa Muminova (1990)\, Uzbek Woman Grandmaster who was Women’s Uzbekistani Champion in 2008 and 2011.\n\n\nDEATHS\n\nElisabeta Polihroniade (24.04.1935-2006)\, a Romanian Woman Grandmaster\, Honorary member of FIDE\, International Arbiter and chess journalist.\n\n\nCHESS EVENTS \n1925 Alexander Alekhine set up in Paris a new world record in blind chess by winning 78% of the games and scoring 83.8 %.\n1961 01.02 A. O’Kelly of Belgium won the 3rd Chess Correspondence World Championship.\n1968 01.02 Hans Berliner USA won the 5th Correspondence World Championship. \n\n WORLD EVENTS\n1908 King Carlos I of Portugal and his son\, Prince Luis Filipe\, are killed in Terreiro do Paço\, Lisbon.\n\n\n1918 Russia adopts the Gregorian calendar.\n1924 The United Kingdom recognizes the USSR.\n1923 Fascists Voluntary Militia forms in Italy under Benito Mussolini\n1942 World War II: U.S. Navy conducts Marshalls–Gilberts raids\, the first offensive action by the United States against Japanese forces in the Pacific Theater.\n1946 Trygve Lie of Norway is picked to be the first United Nations Secretary-General.\n1946 The Parliament of Hungary abolishes the monarchy after nine centuries\, and proclaims the Hungarian Republic.\n1948 Nine Malay sultanates and two British Straits Settlements (Penang and Malacca) form the Federation of Malaya\n1964 The Beatles have their first number one hit in the United States with “I Want to Hold Your Hand”.\n1972 Kuala Lumpur becomes a city by a royal charter granted by the Yang di-Pertuan Agong of Malaysia.\n1974 A fire in the 25-story Joelma Building in São Paulo\, Brazil kills 189 and injures 293.\n1979 Iranian Ayatollah Ruhollah Khomeini returns to Tehran after nearly 15 years of exile.\n2003 Space Shuttle Columbia disintegrated during the reentry of mission STS-107 into the Earth’s atmosphere\, killing all seven astronauts aboard.\n2009 The first cabinet of Jóhanna Sigurðardóttir was formed in Iceland\, making her the country’s first female prime minister.\n2015 France defeats Qatar to win the World Handball Championship.\n\n(Source: Wikipedia and Onthisday) \nGAME OF THE DAY \n\n\n \n\n\n	\n				[Event "Moscow op 03rd"]\n[Site "Moscow"]\n[Date "2007.02.01"]\n[Round "6"]\n[White "Shaposhnikov\, Evgeny"]\n[Black "Malakhov\, Vladimir"]\n[Result "0-1"]\n[ECO "B27"]\n[WhiteElo "2554"]\n[BlackElo "2663"]\n[PlyCount "76"]\n[EventDate "2007.01.27"]\n[EventType "swiss"]\n[EventRounds "9"]\n[EventCountry "RUS"]\n1. e4 c5 2. Nf3 g6 3. d4 Bg7 4. dxc5 Qa5+ 5. c3 Qxc5 6. Na3 Nf6 7. Nb5 b6 8. e5\nNg4 9. Qd4 Nxe5 10. Qxc5 Nxf3+ 11. gxf3 bxc5 12. Nc7+ Kd8 13. Nxa8 Bb7 14. Be2\nBxa8 15. Be3 d6 16. O-O a5 17. Rab1 Nc6 18. f4 Kc7 19. a3 Rb8 20. Rfc1 Nd8 21.\nb4 Be4 22. Rb2 Ne6 23. f3 Bf5 24. Bc4 Bh6 25. Re2 Kc6 26. b5+ Rxb5 27. Bxb5+\nKxb5 28. c4+ Kc6 29. Rb2 Nxf4 30. Bxf4 Bxf4 31. Re1 e5 32. Rd1 Be6 33. Rb5 Bxc4\n34. Rxa5 f5 35. Kf2 e4 36. fxe4 fxe4 37. Ra4 d5 38. Rb1 Bd3 0-1\n				\n			You must activate JavaScript to enhance chess game visualization.		\n	\n	\n	\n		jQuery(document).ready(function($) {\n						$.chessgame.navigationButtonClass  = 'rpbchessboard-jQuery-enableSmoothness';\n			$.chessgame.navigationFrameClass   = 'wp-dialog';\n			$.chessgame.navigationFrameOptions = {"squareSize":32\,"showCoordinates":true\,"colorset":"original"\,"pieceset":"cburnett"\,"animationSpeed":200\,"showMoveArrow":true};\n			var selector = '#' + "rpbchessboard-69e82d6e64d0e-1" + ' .rpbchessboard-chessgameAnchor';\n			$(selector).removeClass('rpbchessboard-chessgameAnchor').chessgame({"pgn":"[Event \"Moscow op 03rd\"]\r\n[Site \"Moscow\"]\r\n[Date \"2007.02.01\"]\r\n[Round \"6\"]\r\n[White \"Shaposhnikov\, Evgeny\"]\r\n[Black \"Malakhov\, Vladimir\"]\r\n[Result \"0-1\"]\r\n[ECO \"B27\"]\r\n[WhiteElo \"2554\"]\r\n[BlackElo \"2663\"]\r\n[PlyCount \"76\"]\r\n[EventDate \"2007.01.27\"]\r\n[EventType \"swiss\"]\r\n[EventRounds \"9\"]\r\n[EventCountry \"RUS\"]\r\n1. e4 c5 2. Nf3 g6 3. d4 Bg7 4. dxc5 Qa5+ 5. c3 Qxc5 6. Na3 Nf6 7. Nb5 b6 8. e5\r\nNg4 9. Qd4 Nxe5 10. Qxc5 Nxf3+ 11. gxf3 bxc5 12. Nc7+ Kd8 13. Nxa8 Bb7 14. Be2\r\nBxa8 15. Be3 d6 16. O-O a5 17. Rab1 Nc6 18. f4 Kc7 19. a3 Rb8 20. Rfc1 Nd8 21.\r\nb4 Be4 22. Rb2 Ne6 23. f3 Bf5 24. Bc4 Bh6 25. Re2 Kc6 26. b5+ Rxb5 27. Bxb5+\r\nKxb5 28. c4+ Kc6 29. Rb2 Nxf4 30. Bxf4 Bxf4 31. Re1 e5 32. Rd1 Be6 33. Rb5 Bxc4\r\n34. Rxa5 f5 35. Kf2 e4 36. fxe4 fxe4 37. Ra4 d5 38. Rb1 Bd3 0-1"\,"pieceSymbols":"native"\,"navigationBoard":"above"\,"showFlipButton":true\,"showDownloadButton":true\,"navigationBoardOptions":{"squareSize":32\,"showCoordinates":true\,"colorset":"original"\,"pieceset":"cburnett"\,"animationSpeed":200\,"showMoveArrow":true}\,"diagramOptions":{"squareSize":32\,"showCoordinates":true\,"colorset":"original"\,"pieceset":"cburnett"\,"animationSpeed":200\,"showMoveArrow":true}});\n		});\n	\n\n\n \n\n  \n\n\n\n
URL:https://thechesspedia.net/day/february-1/
CATEGORIES:February
ATTACH;FMTTYPE=image/png:https://thechesspedia.net/wp-content/uploads/2016/07/feb-1.png
END:VEVENT
END:VCALENDAR