
BEGIN:VCALENDAR
VERSION:2.0
PRODID:-//The Chesspedia - ECPv5.1.2.1//NONSGML v1.0//EN
CALSCALE:GREGORIAN
METHOD:PUBLISH
X-WR-CALNAME:The Chesspedia
X-ORIGINAL-URL:https://thechesspedia.net
X-WR-CALDESC:Events for The Chesspedia
BEGIN:VTIMEZONE
TZID:UTC
BEGIN:STANDARD
TZOFFSETFROM:+0000
TZOFFSETTO:+0000
TZNAME:UTC
DTSTART:20160101T000000
END:STANDARD
END:VTIMEZONE
BEGIN:VEVENT
DTSTART;VALUE=DATE:20161209
DTEND;VALUE=DATE:20161210
DTSTAMP:20260421T231503
CREATED:20201206T102648Z
LAST-MODIFIED:20200413T101146Z
UID:19465-1481241600-1481327999@thechesspedia.net
SUMMARY:December 9
DESCRIPTION:QUOTE OF THE DAY \nChess is a fairy tale of 1001 blunders.- Savielly Tartakower\nBIRTHS \nJiri Chocholous 1856-03.09.1930)\, a Czech chess composer.\nAnthony Santasiere (1904-13.01.1977)\, a strong American Master and chess writer who never got an international title despite his victory in the 1945 US Championship.\nPhilipp Meitner (1838-1910)\, an Austrian Master and lawyer. He is known for his famous game named “Immortal Draw” against Carl Hamppe at Vienna 1872.\nNikolay Novotelnov (1911-30.12.2006)\, a Russian International Master (1951) and author.\nJana Bellin (1947)\, an English Doctor and Woman Grandmaster born in the Czech Republic.\nMark Dvoretsky (1947-26.09.2016)\, a Russian International Master\, trainer\, writer\, and coach.\nGuillermo Garcia Gonzales (1953-26.01.1990)\, a Cuban Grandmaster who was Cuban Champion in 1974 and 1983. He died in a car accident in 1990.\nDejan Antic (1968)\, a Serbian Grandmaster\, coach\, and writer who was Serbian Champion in 2015.\nDalibor Stojanovic (1983)\, a Bosnian Grandmaster.\nErnesto Inarkiev (1985)\, a Russian Grandmaster born in Kyrgyzstan. He was the European Champion 2015.\nHikaru Nakamura (1987)\, an American Grandmaster who is a four-time United States Chess Champion born in Japan. He was the second best world rated player in 2015.\nIvan Rozum (1991)\, a Russian Grandmaster. \nDEATHS \nJanos Flesch (30.09.1933-1980)\, a Hungarian International Master. He is best known for claiming a world record simultaneous blindfold exhibition when he played 52 opponents in Budapest in 1960. \nCHESS EVENTS \n1985 The match between J. Timman (NED) and M. Tal (USSR) for the 4th qualifying place from the Candidates’ Tournament finished 3-3. J. Timman qualified for the next stage by superior tiebreak. \nWORLD EVENTS  \n1212 Frederick II (later also Holy Roman Emperor) crowned King of Germany in Mainz\n1425 The Catholic University of Leuven is founded.\n1775 American Revolutionary War: British troops lose the Battle of Great Bridge\, and leave Virginia soon afterward.\n1793 New York City’s first daily newspaper\, the American Minerva\, is established by Noah Webster.\n1905 In France\, the law separating church and state is passed.\n1917 World War I: Field Marshal Allenby captures Jerusalem\, Palestine.\n1922 Gabriel Narutowicz is elected the first president of Poland.\n1931 The Constituent Cortes approves a constitution which establishes the Second Spanish Republic.\n1937 Second Sino-Japanese War: Battle of Nanking: Japanese troops under the command of Lt. Gen. Asaka Yasuhiko launches an assault on the Chinese city of Nanjing (Nanking).\n1941 World War II: The Republic of China\, Cuba\, Guatemala\, and the Philippine Commonwealth\, declare war on Germany and Japan.\n1946 The Constituent Assembly of India meets for the first time to write the Constitution of India.\n1961 Tanganyika becomes independent from Britain.\n2019 The World Anti-Doping Agency votes unanimously to ban Russia from international sport for four years for doping offences\, meaning it will be excluded from the 2020 Summer Olympics in Tokyo\, the 2022 Winter Olympics in Beijing and the 2022 World Cup in Qatar. \n(Source: Wikipedia) \nGAME OF THE DAY \n\n\n \n\n\n	\n				[Event "Madrid"]\n[Site "Madrid"]\n[Date "1973.12.09"]\n[Round "11"]\n[White "Uhlmann\, Wolfgang"]\n[Black "Garcia Martinez\, Silvino"]\n[Result "1-0"]\n[ECO "A34"]\n[WhiteElo "2560"]\n[BlackElo "2450"]\n[PlyCount "45"]\n[EventDate "1973.11.26"]\n[EventType "tourn"]\n[EventRounds "15"]\n[EventCountry "ESP"]\n[EventCategory "12"]\n1. c4 c5 2. Nf3 Nf6 3. Nc3 d5 4. cxd5 Nxd5 5. e3 Nxc3 6. bxc3 g6 7. Qa4+ Nd7 8.\nBa3 Qc7 9. Be2 Bg7 10. O-O O-O 11. Rab1 b6 12. Qh4 Bb7 13. c4 Rad8 14. Bb2 Bxf3\n15. Bxf3 Bxb2 16. Rxb2 Ne5 17. Be2 Nd3 18. Rb3 Nb4 19. d4 Nxa2 20. e4 Rxd4 21.\nRh3 h5 22. Bxh5 Rfd8 23. Bxg6 1-0\n				\n			You must activate JavaScript to enhance chess game visualization.		\n	\n	\n	\n		jQuery(document).ready(function($) {\n						$.chessgame.navigationButtonClass  = 'rpbchessboard-jQuery-enableSmoothness';\n			$.chessgame.navigationFrameClass   = 'wp-dialog';\n			$.chessgame.navigationFrameOptions = {"squareSize":32\,"showCoordinates":true\,"colorset":"original"\,"pieceset":"cburnett"\,"animationSpeed":200\,"showMoveArrow":true};\n			var selector = '#' + "rpbchessboard-69e804f794446-1" + ' .rpbchessboard-chessgameAnchor';\n			$(selector).removeClass('rpbchessboard-chessgameAnchor').chessgame({"pgn":"[Event \"Madrid\"]\r\n[Site \"Madrid\"]\r\n[Date \"1973.12.09\"]\r\n[Round \"11\"]\r\n[White \"Uhlmann\, Wolfgang\"]\r\n[Black \"Garcia Martinez\, Silvino\"]\r\n[Result \"1-0\"]\r\n[ECO \"A34\"]\r\n[WhiteElo \"2560\"]\r\n[BlackElo \"2450\"]\r\n[PlyCount \"45\"]\r\n[EventDate \"1973.11.26\"]\r\n[EventType \"tourn\"]\r\n[EventRounds \"15\"]\r\n[EventCountry \"ESP\"]\r\n[EventCategory \"12\"]\r\n1. c4 c5 2. Nf3 Nf6 3. Nc3 d5 4. cxd5 Nxd5 5. e3 Nxc3 6. bxc3 g6 7. Qa4+ Nd7 8.\r\nBa3 Qc7 9. Be2 Bg7 10. O-O O-O 11. Rab1 b6 12. Qh4 Bb7 13. c4 Rad8 14. Bb2 Bxf3\r\n15. Bxf3 Bxb2 16. Rxb2 Ne5 17. Be2 Nd3 18. Rb3 Nb4 19. d4 Nxa2 20. e4 Rxd4 21.\r\nRh3 h5 22. Bxh5 Rfd8 23. Bxg6 1-0"\,"pieceSymbols":"native"\,"navigationBoard":"above"\,"showFlipButton":true\,"showDownloadButton":true\,"navigationBoardOptions":{"squareSize":32\,"showCoordinates":true\,"colorset":"original"\,"pieceset":"cburnett"\,"animationSpeed":200\,"showMoveArrow":true}\,"diagramOptions":{"squareSize":32\,"showCoordinates":true\,"colorset":"original"\,"pieceset":"cburnett"\,"animationSpeed":200\,"showMoveArrow":true}});\n		});\n	\n\n\n \n\n
URL:https://thechesspedia.net/day/december-9/
CATEGORIES:December
ATTACH;FMTTYPE=image/png:https://thechesspedia.net/wp-content/uploads/2016/07/dec-9.png
END:VEVENT
END:VCALENDAR