
BEGIN:VCALENDAR
VERSION:2.0
PRODID:-//The Chesspedia - ECPv5.1.2.1//NONSGML v1.0//EN
CALSCALE:GREGORIAN
METHOD:PUBLISH
X-WR-CALNAME:The Chesspedia
X-ORIGINAL-URL:https://thechesspedia.net
X-WR-CALDESC:Events for The Chesspedia
BEGIN:VTIMEZONE
TZID:UTC
BEGIN:STANDARD
TZOFFSETFROM:+0000
TZOFFSETTO:+0000
TZNAME:UTC
DTSTART:20160101T000000
END:STANDARD
END:VTIMEZONE
BEGIN:VEVENT
DTSTART;VALUE=DATE:20161206
DTEND;VALUE=DATE:20161207
DTSTAMP:20260423T104658
CREATED:20161206T101716Z
LAST-MODIFIED:20161205T115651Z
UID:19462-1480982400-1481068799@thechesspedia.net
SUMMARY:December 6
DESCRIPTION:QUOTE OF THE DAY \n“Chess is the struggle against the error.”- Johannes Zukertort\nBIRTHS \nGeorge Gossip (1841-11.05.1907)\, an American-English Master\, a journalist\, author\, and translator.\nJohannes Ohquist (1861-15.10.1949)\, a Finnish player and problem composer born in Russia.\nGilbert Dobbs (1867-14.02.1941)\, an American composer\, was born in Richmond\, Kentucky\, USA.\nPercy Francis Blake (1873-20.03.1936)\, a British chess composer.\nErnesto Napoli (1886-27.11.1961)\, an Italian Master.\nMarek Vokac(1958)\, a Czech Grandmaster who won the Czech championship in 1999.\nMilan Drasko (1962)\, a Montenegrin Grandmaster who avoided defeat for 84 games from October 2006 to September 2007.\nThomas Engqvist (1963)\, a Swedish International Master\, author\, and teacher.\nRodrigo Vasquez (1969)\, a Chilean Grandmaster who was the Chilean champion in 1989\, 1992 and 2004.\nAnton Filippov (1986)\, an Uzbek Grandmaster who won the Asian Under-16 Chess Championship in 2001 and the Asian U18 Championship in 2004. \nDEATH \nBraslav Rabar (27.09.1919-1973)\, a Croatian International Master and chess writer who was Yugoslav champion in 1951. \nCHESS EVENTS \n1980 The USSR teams won the Olympiads for men and women.\n2013 In Antalya\, Turkey\, Russia won the World Team Championship ahead of China and Ukraine. \nWORLD EVENTS  \n1534 The city of Quito in Ecuador is founded by Spanish settlers led by Sebastián de Belalcázar.\n1768 The first edition of the Encyclopædia Britannica is published.\n1790 The U.S. Congress moves from New York City to Philadelphia.\n1865 The Thirteenth Amendment to the United States Constitution is ratified\, banning slavery.\n1877 The first edition of The Washington Post is published.\n1877 Thomas A. Edison makes the first sound recording when he recites “Mary had a Little Lamb” into his phonograph machine\n1917 Finland declares independence from Russia.\n1953 Vladimir Nabokov completes his controversial novel Lolita.\n1956 A violent water polo match between Hungary and the USSR takes place during the 1956 Summer\nOlympics in Melbourne\, against the backdrop of the Hungarian Revolution of 1956.\n1998 in Venezuela\, Hugo Chavez is victorious in presidential elections. \n(Source: Wikipedia) \nGAME OF THE DAY \n\n\n \n\n\n	\n				[Event "Berlin int"]\n[Site "Berlin"]\n[Date "1920.12.06"]\n[Round "3"]\n[White "Tarrasch\, Siegbert"]\n[Black "Tartakower\, Saviely"]\n[Result "1-0"]\n[ECO "D08"]\n[PlyCount "77"]\n[EventDate "1920.12.04"]\n[EventType "tourn"]\n[EventRounds "9"]\n[EventCountry "GER"]\n1. d4 d5 2. c4 e5 3. dxe5 d4 4. Nf3 c5 5. e3 Nc6 6. exd4 cxd4 7. Bd3 Nge7 8.\nNbd2 Bg4 9. Qb3 Qc7 10. O-O O-O-O 11. Re1 Ng6 12. h3 Be6 13. Be4 Ngxe5 14. Nxe5\nQxe5 15. Nf3 Qc5 16. Bf4 Bd6 17. Bxc6 bxc6 18. Bxd6 Rxd6 19. Ne5 Rhd8 20. Qa4\nd3 21. b4 Qd4 22. Nxc6 Rxc6 23. Qxc6+ Kb8 24. c5 d2 25. Red1 Bf5 26. Qb5+ Kc7\n27. Qa5+ Kb8 28. b5 Bc2 29. b6 Rd7 30. bxa7+ Ka8 31. c6 Rd5 32. c7 Bf5 33.\nc8=Q+ Bxc8 34. Qc7 Rb5 35. Qxc8+ Kxa7 36. a4 Rc5 37. Qg4 Qxa1 38. Rxa1 Rc1+ 39.\nQd1 1-0\n				\n			You must activate JavaScript to enhance chess game visualization.		\n	\n	\n	\n		jQuery(document).ready(function($) {\n						$.chessgame.navigationButtonClass  = 'rpbchessboard-jQuery-enableSmoothness';\n			$.chessgame.navigationFrameClass   = 'wp-dialog';\n			$.chessgame.navigationFrameOptions = {"squareSize":32\,"showCoordinates":true\,"colorset":"original"\,"pieceset":"cburnett"\,"animationSpeed":200\,"showMoveArrow":true};\n			var selector = '#' + "rpbchessboard-69e9f8a295c1e-1" + ' .rpbchessboard-chessgameAnchor';\n			$(selector).removeClass('rpbchessboard-chessgameAnchor').chessgame({"pgn":"[Event \"Berlin int\"]\r\n[Site \"Berlin\"]\r\n[Date \"1920.12.06\"]\r\n[Round \"3\"]\r\n[White \"Tarrasch\, Siegbert\"]\r\n[Black \"Tartakower\, Saviely\"]\r\n[Result \"1-0\"]\r\n[ECO \"D08\"]\r\n[PlyCount \"77\"]\r\n[EventDate \"1920.12.04\"]\r\n[EventType \"tourn\"]\r\n[EventRounds \"9\"]\r\n[EventCountry \"GER\"]\r\n1. d4 d5 2. c4 e5 3. dxe5 d4 4. Nf3 c5 5. e3 Nc6 6. exd4 cxd4 7. Bd3 Nge7 8.\r\nNbd2 Bg4 9. Qb3 Qc7 10. O-O O-O-O 11. Re1 Ng6 12. h3 Be6 13. Be4 Ngxe5 14. Nxe5\r\nQxe5 15. Nf3 Qc5 16. Bf4 Bd6 17. Bxc6 bxc6 18. Bxd6 Rxd6 19. Ne5 Rhd8 20. Qa4\r\nd3 21. b4 Qd4 22. Nxc6 Rxc6 23. Qxc6+ Kb8 24. c5 d2 25. Red1 Bf5 26. Qb5+ Kc7\r\n27. Qa5+ Kb8 28. b5 Bc2 29. b6 Rd7 30. bxa7+ Ka8 31. c6 Rd5 32. c7 Bf5 33.\r\nc8=Q+ Bxc8 34. Qc7 Rb5 35. Qxc8+ Kxa7 36. a4 Rc5 37. Qg4 Qxa1 38. Rxa1 Rc1+ 39.\r\nQd1 1-0"\,"pieceSymbols":"native"\,"navigationBoard":"above"\,"showFlipButton":true\,"showDownloadButton":true\,"navigationBoardOptions":{"squareSize":32\,"showCoordinates":true\,"colorset":"original"\,"pieceset":"cburnett"\,"animationSpeed":200\,"showMoveArrow":true}\,"diagramOptions":{"squareSize":32\,"showCoordinates":true\,"colorset":"original"\,"pieceset":"cburnett"\,"animationSpeed":200\,"showMoveArrow":true}});\n		});\n	\n\n\n \n\n
URL:https://thechesspedia.net/day/december-6/
CATEGORIES:December
ATTACH;FMTTYPE=image/png:https://thechesspedia.net/wp-content/uploads/2016/07/dec-6.png
END:VEVENT
END:VCALENDAR