
BEGIN:VCALENDAR
VERSION:2.0
PRODID:-//The Chesspedia - ECPv5.1.2.1//NONSGML v1.0//EN
CALSCALE:GREGORIAN
METHOD:PUBLISH
X-WR-CALNAME:The Chesspedia
X-ORIGINAL-URL:https://thechesspedia.net
X-WR-CALDESC:Events for The Chesspedia
BEGIN:VTIMEZONE
TZID:UTC
BEGIN:STANDARD
TZOFFSETFROM:+0000
TZOFFSETTO:+0000
TZNAME:UTC
DTSTART:20160101T000000
END:STANDARD
END:VTIMEZONE
BEGIN:VEVENT
DTSTART;VALUE=DATE:20161230
DTEND;VALUE=DATE:20161231
DTSTAMP:20260423T093225
CREATED:20161219T112532Z
LAST-MODIFIED:20161219T132436Z
UID:19500-1483056000-1483142399@thechesspedia.net
SUMMARY:December 30
DESCRIPTION:QUOTE OF THE DAY \nI think I am certainly more talented than many other people. But I don’t know what talent consists of.- Magnus Carlsen\, 2014\nBIRTH \nJames Moore Hanham (04.01.1840-1923)\, an American player and writer who finished second at the 1st U.S. Championship in 1888. He gave his name at a variation of the Philidor’s Defence (1.e4 e5 2.Nf3 d6 3.d4 Nd7).\nManuel Aaron (1935)\, an Indian International Master and a coach. He was the fist Indian player to be awarded an international title.\nBruno Parma (1941)\, a Slovenia Grandmaster who won the Wolrd Junior championship in 1961.\nBruce Murray Amos (1946)\, a Canadian international Master and a mathematician. \nDEATH \nJosef Pospisil (01-11-1861 – 1916) Czech chess composer. \nCHESS EVENTS \n2006 In Botswana\, Mwali\, Chitumbo of Zambia and Melisa Greeff of South Africa became the African U20 Champions for boys and girls. \nWORLD EVENTS \n39CE Titus\, 10th Roman emperor (79-81) and conqueror of Jerusalem\, was born.\n1703 Tokyo was hit by Earthquake and some 37\,000 people died.\n1813 War of 1812: British soldiers burn Buffalo\, New York.\n1851 Asa Griggs Candler\, developer of Coca-Cola\, was born.\n1903 A fire at the Iroquois Theater in Chicago\, Illinois kills at least 605.\n1906 The All-India Muslim League is founded in Dacca\, East Bengal\, British India. It went on to lay the foundations of Pakistan.\n1916 The last coronation in Hungary is performed for King Charles IV and Queen Zita.\n1922 Vladimir I. Lenin proclaimed the establishment of the Union of Soviet Socialist Republics. Soviet Russia was renamed the Union of Soviet Socialist Republics. The Soviet Union was organized as a federation of RSFSR\, Ukrainian SSR\, Belorussian SSR and Transcaucasian SSR.\n1944 King George II of Greece declares a regency\, leaving the throne vacant.\n1947 King Michael of Romania agreed to abdicate but charged he was being forced off the throne by Communists.\n1950 Vietnam\, Laos and Cambodia became independent states in the French Union.\n1953  The first color TV sets went on sale. An Admiral color set was priced about $1\,175 in 1953 dollars!\n1965 Ferdinand Marcos becomes President of the Philippines.\n1967  Beatles’ “Hello Goodbye\,” single went #1 for 3 weeks.\n2006 Madrid–Barajas Airport is bombed.\n2006 Former President of Iraq Saddam Hussein is executed.\n2007 30\, President Mwai Kibaki was declared the winner of the closest presidential election in Kenya’s history\,\n2008 The Kremlin said President Dmitry Medvedev has signed a law extending presidential terms from four years to six\, a move seen as paving the way for Vladimir Putin’s return to the presidency.\n2010 In Qatar Mathaf\, the first Arab Museum of Modern Art\, opened. \n(Source: Wikipedia-Timeline.ws) \nGAME OF THE DAY \n\n\n \n\n\n	\n				[Event "USA-ch"]\n[Site "New York"]\n[Date "1963.12.30"]\n[Round "10"]\n[White "Fischer\, Robert James"]\n[Black "Benko\, Pal C"]\n[Result "1-0"]\n[ECO "B09"]\n[PlyCount "41"]\n[EventDate "1963.12.15"]\n[EventType "tourn"]\n[EventRounds "11"]\n[EventCountry "USA"]\n\n1. e4 g6 2. d4 Bg7 3. Nc3 d6 4. f4 Nf6 5. Nf3 O-O 6. Bd3 Bg4 7. h3 Bxf3 8. Qxf3\nNc6 9. Be3 e5 10. dxe5 dxe5 11. f5 gxf5 12. Qxf5 Nd4 13. Qf2 Ne8 14. O-O Nd6\n15. Qg3 Kh8 16. Qg4 c6 17. Qh5 Qe8 18. Bxd4 exd4 19. Rf6 Kg8 20. e5 h6 21. Ne2\n$1 1-0\n				\n			You must activate JavaScript to enhance chess game visualization.		\n	\n	\n	\n		jQuery(document).ready(function($) {\n						$.chessgame.navigationButtonClass  = 'rpbchessboard-jQuery-enableSmoothness';\n			$.chessgame.navigationFrameClass   = 'wp-dialog';\n			$.chessgame.navigationFrameOptions = {"squareSize":32\,"showCoordinates":true\,"colorset":"original"\,"pieceset":"cburnett"\,"animationSpeed":200\,"showMoveArrow":true};\n			var selector = '#' + "rpbchessboard-69e9e729e8ff2-1" + ' .rpbchessboard-chessgameAnchor';\n			$(selector).removeClass('rpbchessboard-chessgameAnchor').chessgame({"pgn":"[Event \"USA-ch\"]\r\n[Site \"New York\"]\r\n[Date \"1963.12.30\"]\r\n[Round \"10\"]\r\n[White \"Fischer\, Robert James\"]\r\n[Black \"Benko\, Pal C\"]\r\n[Result \"1-0\"]\r\n[ECO \"B09\"]\r\n[PlyCount \"41\"]\r\n[EventDate \"1963.12.15\"]\r\n[EventType \"tourn\"]\r\n[EventRounds \"11\"]\r\n[EventCountry \"USA\"]\r\n\r\n1. e4 g6 2. d4 Bg7 3. Nc3 d6 4. f4 Nf6 5. Nf3 O-O 6. Bd3 Bg4 7. h3 Bxf3 8. Qxf3\r\nNc6 9. Be3 e5 10. dxe5 dxe5 11. f5 gxf5 12. Qxf5 Nd4 13. Qf2 Ne8 14. O-O Nd6\r\n15. Qg3 Kh8 16. Qg4 c6 17. Qh5 Qe8 18. Bxd4 exd4 19. Rf6 Kg8 20. e5 h6 21. Ne2\r\n$1 1-0"\,"pieceSymbols":"native"\,"navigationBoard":"above"\,"showFlipButton":true\,"showDownloadButton":true\,"navigationBoardOptions":{"squareSize":32\,"showCoordinates":true\,"colorset":"original"\,"pieceset":"cburnett"\,"animationSpeed":200\,"showMoveArrow":true}\,"diagramOptions":{"squareSize":32\,"showCoordinates":true\,"colorset":"original"\,"pieceset":"cburnett"\,"animationSpeed":200\,"showMoveArrow":true}});\n		});\n	\n\n\n \n\n
URL:https://thechesspedia.net/day/december-30/
CATEGORIES:December
ATTACH;FMTTYPE=image/png:https://thechesspedia.net/wp-content/uploads/2016/07/dec-30.png
END:VEVENT
END:VCALENDAR