
BEGIN:VCALENDAR
VERSION:2.0
PRODID:-//The Chesspedia - ECPv5.1.2.1//NONSGML v1.0//EN
CALSCALE:GREGORIAN
METHOD:PUBLISH
X-WR-CALNAME:The Chesspedia
X-ORIGINAL-URL:https://thechesspedia.net
X-WR-CALDESC:Events for The Chesspedia
BEGIN:VTIMEZONE
TZID:UTC
BEGIN:STANDARD
TZOFFSETFROM:+0000
TZOFFSETTO:+0000
TZNAME:UTC
DTSTART:20160101T000000
END:STANDARD
END:VTIMEZONE
BEGIN:VEVENT
DTSTART;VALUE=DATE:20161227
DTEND;VALUE=DATE:20161228
DTSTAMP:20260422T005437
CREATED:20161218T111701Z
LAST-MODIFIED:20161218T075938Z
UID:19497-1482796800-1482883199@thechesspedia.net
SUMMARY:December 27
DESCRIPTION:QUOTE OF THE DAY \nIn chess\,honestly\,nobody cares how beautiful you play\,if Morphy would be 2710 today\,he would not get a single invitation.- Teymur Rajabov\, 2017\nBIRTHDAYS \nMax Judd (Maximilian Judkiewicz- 1851-1906)\, an Amercian player born in Poland. In 1890\, Judd defeated US chess champion Jackson Showalter in a match in St. Louis (7-3)\, but did not claim the title.\nAlexander Rueb (1882-02.02.1959)\, a Dutch player\, International Arbiter and chess composer. He became the first President of FIDE in 1924.\nWalther Grimshaw (1832-1890)\, a British composer.\nPaul Michel (1905-14.07.1977)\, a German-Argentine International Master. He was a member of the German team in Buenos Aires who won the 1939 Olympiad. When World War II was broke out\, Michel along with all German players had decided to stay permanently in Argentina.\nRaset Ziatdinov (1958)\, an American-Grandmaster and coach who was the 1983 Uzbek champion.\nKateryna Lahno (1989)\, a Russian Grandmaster and Women Grandmaster born in Ukraine who was the 2005 European Individual Women’s Champion and the 2010 World Rapid Women’s Champion. \nDEATHS \nHugo Suechting (08.10.1874-1916)\, a German Master who won the 8th German Congress in 1893.\nCarl Schlechter (02.03.1874-1918)\, a leading Austrian Master who drew  5-5 with Em. Lasker for the World Chess Championship title in 1910. Schlechter died of pneumonia and starvation in Budapest.\nGenrikh Kasparyan (2702.1910-1995)\, An Armenian Grandmaster of chess composition one of the greatest composers of chess endgame studies who was also 10 times champion of Armenia.\nErnesto Defourny (1885-1967)\, an Italian composer.\nAlexei Sokolsky (05.11.1908-1969)\, a Ukrainian-Belarusian International Master.  is known now mostly due to his opening research and development of 1.b4.\nIsaias Pleci (27.10.1907-1979)\, an Argentine International Master who was the Argentine Champion in 1929 to 1930. \nCHESS EVENT \n1939 The American Chess Federation and National Chess Federation formed the USCF. \nWORLD EVENTS \n1825 1st public railway using steam locomotive completed in England between Stockton and Darlington.\n1822 Louis Pasteur (d.1895)\, French chemist and microbiologist\, was born in Dole\, France.\n1901 Marlene Dietrich (d.1992)\, German-born singer and actress was born.\n1911 “Jana Gana Mana”\, the national anthem of India\, is first sung in the Calcutta Session of the Indian National Congress.\n1927 Stalin’s faction wins All-Union Congress in USSR\, Trotsky expelled.\n1934 Shah of Persia declares Persia now Iran\n1945 The International Monetary Fund is created with the signing of an agreement by 29 nations.\n1948 Gerard Depardieu\, a French actor\, was born in France.\n1949 Indonesian National Revolution: The Netherlands officially recognizes Indonesian independence. End of the Dutch East Indies.\n1978 Spain becomes a democracy after 40 years of fascist dictatorship.\n1979 The Soviet Union invades the Democratic Republic of Afghanistan.\n1991  Muslim fundamentalists in Algeria won a major victory in free legislative elections; however\, the military ended up canceling the election results.\n2004 Ukraine election officials said opposition leader Viktor Yushchenko won 51.99 percent to 44.19 percent for Moscow-backed PM Viktor Yanukovych. Supporters of the pro-Russian PM vowed to challenge the results in court.\n2007 Former Pakistani prime minister Benazir Bhutto is assassinated in a shooting incident.\n2008 In Malaysia Tuanku Ja’afar Tuanku Abdul Rahman (86)\, a royal state ruler\, died. He became Malaysia’s king for five years (1994-1999) under the country’s unique monarchal system. \n(Source: Wikipedia-timeline.com) \nGAME OF THE DAY \n\n\n \n\n\n	\n				[Event "USA-ch"]\n[Site "New York"]\n[Date "1957.12.27"]\n[Round "7"]\n[White "Fischer\, Robert James"]\n[Black "Sherwin\, James T"]\n[Result "1-0"]\n[ECO "B87"]\n[PlyCount "71"]\n[EventDate "1957.??.??"]\n[EventType "tourn"]\n[EventRounds "13"]\n[EventCountry "USA"]\n\n1. e4 c5 2. Nf3 d6 3. d4 cxd4 4. Nxd4 Nf6 5. Nc3 a6 6. Bc4 e6 7. O-O b5 8. Bb3\nb4 9. Nb1 Bd7 10. Be3 Nc6 11. f3 Be7 12. c3 bxc3 13. Nxc6 Bxc6 14. Nxc3 O-O 15.\nRc1 Qb8 16. Nd5 exd5 17. Rxc6 dxe4 18. fxe4 Qb5 19. Rb6 Qe5 20. Bd4 Qg5 21. Qf3\nNd7 22. Rb7 Ne5 23. Qe2 Bf6 24. Kh1 a5 25. Bd5 Rac8 26. Bc3 a4 27. Ra7 Ng4 28.\nRxa4 Bxc3 29. bxc3 Rxc3 30. Rxf7 Rc1+ 31. Qf1 h5 32. Qxc1 Qh4 33. Rxf8+ Kh7 34.\nh3 Qg3 35. hxg4 h4 36. Be6 1-0\n				\n			You must activate JavaScript to enhance chess game visualization.		\n	\n	\n	\n		jQuery(document).ready(function($) {\n						$.chessgame.navigationButtonClass  = 'rpbchessboard-jQuery-enableSmoothness';\n			$.chessgame.navigationFrameClass   = 'wp-dialog';\n			$.chessgame.navigationFrameOptions = {"squareSize":32\,"showCoordinates":true\,"colorset":"original"\,"pieceset":"cburnett"\,"animationSpeed":200\,"showMoveArrow":true};\n			var selector = '#' + "rpbchessboard-69e81c4db4ffe-1" + ' .rpbchessboard-chessgameAnchor';\n			$(selector).removeClass('rpbchessboard-chessgameAnchor').chessgame({"pgn":"[Event \"USA-ch\"]\r\n[Site \"New York\"]\r\n[Date \"1957.12.27\"]\r\n[Round \"7\"]\r\n[White \"Fischer\, Robert James\"]\r\n[Black \"Sherwin\, James T\"]\r\n[Result \"1-0\"]\r\n[ECO \"B87\"]\r\n[PlyCount \"71\"]\r\n[EventDate \"1957.??.??\"]\r\n[EventType \"tourn\"]\r\n[EventRounds \"13\"]\r\n[EventCountry \"USA\"]\r\n\r\n1. e4 c5 2. Nf3 d6 3. d4 cxd4 4. Nxd4 Nf6 5. Nc3 a6 6. Bc4 e6 7. O-O b5 8. Bb3\r\nb4 9. Nb1 Bd7 10. Be3 Nc6 11. f3 Be7 12. c3 bxc3 13. Nxc6 Bxc6 14. Nxc3 O-O 15.\r\nRc1 Qb8 16. Nd5 exd5 17. Rxc6 dxe4 18. fxe4 Qb5 19. Rb6 Qe5 20. Bd4 Qg5 21. Qf3\r\nNd7 22. Rb7 Ne5 23. Qe2 Bf6 24. Kh1 a5 25. Bd5 Rac8 26. Bc3 a4 27. Ra7 Ng4 28.\r\nRxa4 Bxc3 29. bxc3 Rxc3 30. Rxf7 Rc1+ 31. Qf1 h5 32. Qxc1 Qh4 33. Rxf8+ Kh7 34.\r\nh3 Qg3 35. hxg4 h4 36. Be6 1-0"\,"pieceSymbols":"native"\,"navigationBoard":"above"\,"showFlipButton":true\,"showDownloadButton":true\,"navigationBoardOptions":{"squareSize":32\,"showCoordinates":true\,"colorset":"original"\,"pieceset":"cburnett"\,"animationSpeed":200\,"showMoveArrow":true}\,"diagramOptions":{"squareSize":32\,"showCoordinates":true\,"colorset":"original"\,"pieceset":"cburnett"\,"animationSpeed":200\,"showMoveArrow":true}});\n		});\n	\n\n\n \n\n
URL:https://thechesspedia.net/day/december-27/
CATEGORIES:December
ATTACH;FMTTYPE=image/png:https://thechesspedia.net/wp-content/uploads/2016/07/dec-27.png
END:VEVENT
END:VCALENDAR