
BEGIN:VCALENDAR
VERSION:2.0
PRODID:-//The Chesspedia - ECPv5.1.2.1//NONSGML v1.0//EN
CALSCALE:GREGORIAN
METHOD:PUBLISH
X-WR-CALNAME:The Chesspedia
X-ORIGINAL-URL:https://thechesspedia.net
X-WR-CALDESC:Events for The Chesspedia
BEGIN:VTIMEZONE
TZID:UTC
BEGIN:STANDARD
TZOFFSETFROM:+0000
TZOFFSETTO:+0000
TZNAME:UTC
DTSTART:20160101T000000
END:STANDARD
END:VTIMEZONE
BEGIN:VEVENT
DTSTART;VALUE=DATE:20161201
DTEND;VALUE=DATE:20161202
DTSTAMP:20260421T231517
CREATED:20161201T114746Z
LAST-MODIFIED:20161201T122831Z
UID:19174-1480550400-1480636799@thechesspedia.net
SUMMARY:December 1
DESCRIPTION:QUOTE OF THE DAY \nA game of chess has three phases: the opening\, where you hope you stand better; the middlegame\, where you think you stand better; and the ending\, where you know you stand to lose.- Savielly Tartakower\nBIRTH \nFranz Drobny 1863-28.12.1924)\, an Austrian player and chess composer.\nJosef Kling (19.03.1811-1876)\, a British Master and chess composer born in Germany.\nSemyen Furman (1920-17.03.1978)\, a Soviet Grandmaster and trainer. He was the main coach of Anatoly Karpov for many years.\nMilunka Lazarevic (1932)\, a Serbian Woman Grandmaster who won 11 times the Yugoslav Woman Championship.\nBertus F. Enklaar (1943-03.10.1996)\, a Dutch International Master.\nMenachem Orem (Mieczyslaw Chwojnik 1903-1962)\, an Israeli Master born in Poland who won the Israeli championship in 1951.\nDimitri Komarov (1968)\, an Ukrainian Grandmaster and coach.\nPin Wang (1974)\, a Chinese Woman Grandmaster who became the national champion in  2001. \nDEATHS \nPaul Farago (04.04.1886-1970)\, a Romanian chess composer.\nGrigory Goldberg (22.07.1908-1976)\, a Soviet Master who was Botvinnik’s second for his World Championship matches in the 1950’s. \nCHESS EVENTS \n1877 In New York\,  37 players showed up for the first meeting of the Manhattan Chess Club. The entrance fee was $1 per person and the dues were $4 per year. The address was Cafe Logeling\, 49 Bowery Street\, Manhattan NY.\n1985 In Dubai\, the first Arab Junior Championship was won by Boudiba from Algeria.\n1990 The FIDE GA approved the description of the FIDE Motto\, seal\, and flag. The FIDE Motto is “Gens Una Sumus”.\n2012 The 27-year-old Ukrainian Anna Ushenina emerged as the 14th World Champion. Ushenina won the second rapid play game in the final against former champion (2004-6) Antoaneta Stefanova of Bulgaria.\n2014 FIDE published the first Anti-Cheating Guidelines prepared by the FIDE/ACP Anti-Cheating Committee approved by the FIDE Presidential Board. \nWORLD EVENTS  \n1640 End of the Iberian Union: Portugal acclaims as King João IV of Portugal\, ending 60 years of the personal union of the crowns of Portugal and Spain and the end of the rule of the Philippine Dynasty.\n1822 Peter I is crowned Emperor of Brazil.\n1913 Ford Motor Company introduces the first moving assembly line.\n1913 Crete\, having obtained self-rule from Turkey after the First Balkan War\, is annexed by Greece.\n1918 The Kingdom of Iceland becomes a sovereign state\, yet remains a part of the Danish kingdom.\n1918 The Kingdom of Serbs\, Croats and Slovenes (later known as the Kingdom of Yugoslavia) is proclaimed.\n1941 World War II: Emperor Hirohito of Japan gives the final approval to initiate war against the United States.\n1958 The Central African Republic attains self-rule within the French Union.\n1973 Papua New Guinea gains self-governance from Australia.\n1991 Cold War: Ukrainian voters overwhelmingly approve a referendum for independence from the Soviet Union. \n(Source: Wikipedia) \nGAME OF THE DAY \n\n\n \n\n\n	\n				[Event "FIDE-Wch k.o."]\n[Site "New Delhi/Teheran"]\n[Date "2000.12.01"]\n[Round "2.2"]\n[White "Anand\, Viswanathan"]\n[Black "Bologan\, Viktor"]\n[Result "1-0"]\n[ECO "C95"]\n[WhiteElo "2762"]\n[BlackElo "2641"]\n[PlyCount "83"]\n[EventDate "2000.11.27"]\n[EventType "k.o."]\n[EventRounds "7"]\n[EventCountry "IND"]\n1. e4 e5 2. Nf3 Nc6 3. Bb5 a6 4. Ba4 Nf6 5. O-O Be7 6. Re1 b5 7. Bb3 d6 8. c3\nO-O 9. h3 Nb8 10. d4 Nbd7 11. Nbd2 Bb7 12. Bc2 Re8 13. Nf1 Bf8 14. Ng3 c5 15.\nd5 c4 16. Bg5 Qc7 17. Nf5 Kh8 18. g4 Ng8 19. Qd2 Nc5 20. Be3 Bc8 21. Ng3 Rb8\n22. Kg2 a5 23. a3 Ne7 24. Rh1 Ng6 25. g5 b4 26. axb4 axb4 27. cxb4 Na6 28. Ra4\nNf4+ 29. Bxf4 exf4 30. Nh5 Qb6 31. Qxf4 Nxb4 32. Bb1 Rb7 33. Ra3 Rc7 34. Rd1\nNa6 35. Nd4 Qxb2 36. Rg3 c3 37. Nf6 $1 Re5 38. g6 $1 fxg6 39. Nd7 Be7 40. Nxe5\ndxe5 41. Qf7 h6 42. Qe8+ 1-0\n				\n			You must activate JavaScript to enhance chess game visualization.		\n	\n	\n	\n		jQuery(document).ready(function($) {\n						$.chessgame.navigationButtonClass  = 'rpbchessboard-jQuery-enableSmoothness';\n			$.chessgame.navigationFrameClass   = 'wp-dialog';\n			$.chessgame.navigationFrameOptions = {"squareSize":32\,"showCoordinates":true\,"colorset":"original"\,"pieceset":"cburnett"\,"animationSpeed":200\,"showMoveArrow":true};\n			var selector = '#' + "rpbchessboard-69e80505eb07c-1" + ' .rpbchessboard-chessgameAnchor';\n			$(selector).removeClass('rpbchessboard-chessgameAnchor').chessgame({"pgn":"[Event \"FIDE-Wch k.o.\"]\r\n[Site \"New Delhi\/Teheran\"]\r\n[Date \"2000.12.01\"]\r\n[Round \"2.2\"]\r\n[White \"Anand\, Viswanathan\"]\r\n[Black \"Bologan\, Viktor\"]\r\n[Result \"1-0\"]\r\n[ECO \"C95\"]\r\n[WhiteElo \"2762\"]\r\n[BlackElo \"2641\"]\r\n[PlyCount \"83\"]\r\n[EventDate \"2000.11.27\"]\r\n[EventType \"k.o.\"]\r\n[EventRounds \"7\"]\r\n[EventCountry \"IND\"]\r\n1. e4 e5 2. Nf3 Nc6 3. Bb5 a6 4. Ba4 Nf6 5. O-O Be7 6. Re1 b5 7. Bb3 d6 8. c3\r\nO-O 9. h3 Nb8 10. d4 Nbd7 11. Nbd2 Bb7 12. Bc2 Re8 13. Nf1 Bf8 14. Ng3 c5 15.\r\nd5 c4 16. Bg5 Qc7 17. Nf5 Kh8 18. g4 Ng8 19. Qd2 Nc5 20. Be3 Bc8 21. Ng3 Rb8\r\n22. Kg2 a5 23. a3 Ne7 24. Rh1 Ng6 25. g5 b4 26. axb4 axb4 27. cxb4 Na6 28. Ra4\r\nNf4+ 29. Bxf4 exf4 30. Nh5 Qb6 31. Qxf4 Nxb4 32. Bb1 Rb7 33. Ra3 Rc7 34. Rd1\r\nNa6 35. Nd4 Qxb2 36. Rg3 c3 37. Nf6 $1 Re5 38. g6 $1 fxg6 39. Nd7 Be7 40. Nxe5\r\ndxe5 41. Qf7 h6 42. Qe8+ 1-0"\,"pieceSymbols":"native"\,"navigationBoard":"above"\,"showFlipButton":true\,"showDownloadButton":true\,"navigationBoardOptions":{"squareSize":32\,"showCoordinates":true\,"colorset":"original"\,"pieceset":"cburnett"\,"animationSpeed":200\,"showMoveArrow":true}\,"diagramOptions":{"squareSize":32\,"showCoordinates":true\,"colorset":"original"\,"pieceset":"cburnett"\,"animationSpeed":200\,"showMoveArrow":true}});\n		});\n	\n\n\n \n\n
URL:https://thechesspedia.net/day/december-1/
CATEGORIES:December
ATTACH;FMTTYPE=image/png:https://thechesspedia.net/wp-content/uploads/2016/07/dec-1.png
END:VEVENT
END:VCALENDAR