
BEGIN:VCALENDAR
VERSION:2.0
PRODID:-//The Chesspedia - ECPv5.1.2.1//NONSGML v1.0//EN
CALSCALE:GREGORIAN
METHOD:PUBLISH
X-WR-CALNAME:The Chesspedia
X-ORIGINAL-URL:https://thechesspedia.net
X-WR-CALDESC:Events for The Chesspedia
BEGIN:VTIMEZONE
TZID:UTC
BEGIN:STANDARD
TZOFFSETFROM:+0000
TZOFFSETTO:+0000
TZNAME:UTC
DTSTART:20160101T000000
END:STANDARD
END:VTIMEZONE
BEGIN:VEVENT
DTSTART;VALUE=DATE:20160829
DTEND;VALUE=DATE:20160830
DTSTAMP:20260422T020716
CREATED:20160829T105254Z
LAST-MODIFIED:20161103T040236Z
UID:19819-1472428800-1472515199@thechesspedia.net
SUMMARY:August 29
DESCRIPTION:QUOTE OF THE DAY \nWhen I am White I win because I am White. When I am Black I win because I am Bogoljubov.- Efim Bogoljubov\nBIRTHS \nBernhard Horwitz (1807-1885)\, German Master and a member of the Pleiades.\nRichard Schurig (06.06.1825-1896)\, German Chess composer.\nCoenrad Zuidema (1942)\, Dutch International Grandmaster born in Indonesia who won the Dutch championship in 1972.\nZoltan Almasi (1976) \, Hungarian Grandmaster who won eight tiles the national championship.\nAngela Borsuk Israeli Women Grandmaster born in Ukraine. \nDEATHS \nGeorg Marco  29.11.1863-1923\, Austrian-Romanian chess player\, best known for his work as editor of the Wiener Schachzeitung from 1898 to 1916 \nCHESS EVENTS \n1956 29.08 The Permanent Commission of FIDE for Chess Compositions (PCCC) was created. The FIDE GA approved the title of International Arbiter for chess compositions.\n1967 Julio Kaplan from Puerto Rico won the 9th World Junior Championship in Jerusalem.\n1969 Anatoly Karpov (USSR) won the 10th World Junior Championship in Stockholm\, Sweden.\n1981 The team from (USSR) won the World Youth Team Championship in Graz\, Austria with 32½/44. 34 teams participated in the event.\n1992 A. Aleksandrov (BLR) became the 21st European Junior Champion in Sas van Gent\, Holland.\n1992 29.08 C. Sichilima (KEN) won the African Junior Championship in Nairobi\, Kenya. \nWORLD EVENTS \n1541 The Ottoman Turks capture Buda\, the capital of the Hungarian Kingdom.\n1758 The first American Indian reservation is established\, at Indian Mills\, New Jersey.\n1825 Kingdom of Portugal recognizes the Independence of Brazil.\n1831 Michael Faraday discovers electromagnetic induction.\n1895 Rugby league is founded by 22 clubs at a meeting in the George Hotel\, Huddersfield.\n1898 The Goodyear tire company is founded.\n1910 The Japan–Korea Treaty of 1910\, also known as the Japan–Korea Annexation Treaty\, becomes effective\, officially starting the period of Japanese rule in Korea.\n1916 The United States passes the Philippine Autonomy Act.\n1941 Tallinn\, the capital of Estonia\, is occupied by Nazi Germany following an occupation by the Soviet Union.\n1944 Slovak National Uprising takes place as 60\,000 Slovak troops turn against the Nazis.\n1949 Soviet atomic bomb project: The Soviet Union tests its first atomic bomb\, known as First Lightning or Joe 1\, at Semipalatinsk\,Kazakhstan.\n1996 Vnukovo Airlines Flight 2801\, a Tupolev Tu-154\, crashes into a mountain on the Arctic island of Spitsbergen\, killing all 141 aboard.\n2004 Michael Schumacher wins his 5th consecutive Formula One Drivers’ championship  to beat the 47-year-old record held by Juan Manuel Fangio. \n(Source:Wikipedia) \nGAME OF THE DAY \n\n\n \n\n\n	\n				[Event "Manchester"]\n[Site "Manchester"]\n[Date "1890.??.??"]\n[Round "?"]\n[White "Taubenhaus\, Jean"]\n[Black "Schallopp\, Emil"]\n[Result "0-1"]\n[ECO "C56"]\n[PlyCount "42"]\n[EventDate "1890.??.??"]\n[EventType "tourn"]\n[EventRounds "19"]\n[EventCountry "ENG"]\n[SourceTitle "EXT 1999"]\n\n1. e4 e5 2. Nf3 Nc6 3. Bc4 Nf6 4. d4 exd4 5. Ng5 Ne5 6. Bb3 h6 7. f4 hxg5 8.\nfxe5 Nxe4 9. O-O d5 10. exd6 Qxd6 11. Bxf7+ Kd8 12. g3 Bd7 13. Qd3 Bc6 14. Nd2\nNxd2 15. Bxd2 Be7 16. Rae1 Rxh2 17. Rf5 Rxd2 18. Qxd2 Qxg3+ 19. Kf1 Qh3+ 20.\nKe2 Qg4+ 21. Kf1 Qxf5+ 0-1\n				\n			You must activate JavaScript to enhance chess game visualization.		\n	\n	\n	\n		jQuery(document).ready(function($) {\n						$.chessgame.navigationButtonClass  = 'rpbchessboard-jQuery-enableSmoothness';\n			$.chessgame.navigationFrameClass   = 'wp-dialog';\n			$.chessgame.navigationFrameOptions = {"squareSize":32\,"showCoordinates":true\,"colorset":"original"\,"pieceset":"cburnett"\,"animationSpeed":200\,"showMoveArrow":true};\n			var selector = '#' + "rpbchessboard-69e82d550485b-1" + ' .rpbchessboard-chessgameAnchor';\n			$(selector).removeClass('rpbchessboard-chessgameAnchor').chessgame({"pgn":"[Event \"Manchester\"]\r\n[Site \"Manchester\"]\r\n[Date \"1890.??.??\"]\r\n[Round \"?\"]\r\n[White \"Taubenhaus\, Jean\"]\r\n[Black \"Schallopp\, Emil\"]\r\n[Result \"0-1\"]\r\n[ECO \"C56\"]\r\n[PlyCount \"42\"]\r\n[EventDate \"1890.??.??\"]\r\n[EventType \"tourn\"]\r\n[EventRounds \"19\"]\r\n[EventCountry \"ENG\"]\r\n[SourceTitle \"EXT 1999\"]\r\n\r\n1. e4 e5 2. Nf3 Nc6 3. Bc4 Nf6 4. d4 exd4 5. Ng5 Ne5 6. Bb3 h6 7. f4 hxg5 8.\r\nfxe5 Nxe4 9. O-O d5 10. exd6 Qxd6 11. Bxf7+ Kd8 12. g3 Bd7 13. Qd3 Bc6 14. Nd2\r\nNxd2 15. Bxd2 Be7 16. Rae1 Rxh2 17. Rf5 Rxd2 18. Qxd2 Qxg3+ 19. Kf1 Qh3+ 20.\r\nKe2 Qg4+ 21. Kf1 Qxf5+ 0-1"\,"pieceSymbols":"native"\,"navigationBoard":"above"\,"showFlipButton":true\,"showDownloadButton":true\,"navigationBoardOptions":{"squareSize":32\,"showCoordinates":true\,"colorset":"original"\,"pieceset":"cburnett"\,"animationSpeed":200\,"showMoveArrow":true}\,"diagramOptions":{"squareSize":32\,"showCoordinates":true\,"colorset":"original"\,"pieceset":"cburnett"\,"animationSpeed":200\,"showMoveArrow":true}});\n		});\n	\n\n\n \n\n
URL:https://thechesspedia.net/day/august-29/
CATEGORIES:August
ATTACH;FMTTYPE=image/png:https://thechesspedia.net/wp-content/uploads/2016/08/aug-29.png
END:VEVENT
END:VCALENDAR