
BEGIN:VCALENDAR
VERSION:2.0
PRODID:-//The Chesspedia - ECPv5.1.2.1//NONSGML v1.0//EN
CALSCALE:GREGORIAN
METHOD:PUBLISH
X-WR-CALNAME:The Chesspedia
X-ORIGINAL-URL:https://thechesspedia.net
X-WR-CALDESC:Events for The Chesspedia
BEGIN:VTIMEZONE
TZID:UTC
BEGIN:STANDARD
TZOFFSETFROM:+0000
TZOFFSETTO:+0000
TZNAME:UTC
DTSTART:20160101T000000
END:STANDARD
END:VTIMEZONE
BEGIN:VEVENT
DTSTART;VALUE=DATE:20160821
DTEND;VALUE=DATE:20160822
DTSTAMP:20260421T231512
CREATED:20160822T102847Z
LAST-MODIFIED:20161103T034204Z
UID:19797-1471737600-1471823999@thechesspedia.net
SUMMARY:August 21
DESCRIPTION:QUOTE OF THE DAY \nThe blunders are all there on the board\, waiting to be made.- Savielly Tartakower\nBIRTHS \nGuy Chandler (1885-28.05.1980)\, English chess composer.\nGideon Barcza (1911-1986)\, Hungarian Grandmaster who won 9 times the championship of Hungary.\nLev Alburt (1945)\, US Grandmaster\, coach and author. Three times was a champion of Ukraine and USA. He emigrated to the USA in 1979.\nMohammad Jafar Kambuzia (1960)\, FIDE Officer and former president of the Iranian chess federation.\nGerardo Barbero(1961-2001)\, Argentine Grandmaster\, the national champion of 1984 who died of cancer in Budapest where he was living.\nFrancisco Vallejo Pons (1982)\, Spanish Grandmaster who achieving the grandmaster title at the age of 16 years and 9 months and won the U18 World Chess Youth Championship in 2000. \nCHESS EVENT \n\nM. Chandler (NZ) won the first Asian Junior championship in Manila.\n\nWORLD EVENTS \n1888 – The first successful adding machine in the United States is patented by William Seward Burroughs.\n1897 – Oldsmobile\, a brand of American automobiles\, is founded.\n1957 – The Soviet Union successfully conducts a long-range test flight of the R-7 Semyorka\, the first intercontinental ballistic missile.\n1959 – United States President Dwight D. Eisenhower signs an executive order proclaiming Hawaii the 50th state of the union. Hawaii’s admission is currently commemorated by Hawaii Admission Day.\n1991 – Latvia declares renewal of its full independence after the occupation of Soviet Union.\n1991 – Coup attempt against Mikhail Gorbachev collapses. \n(Source: Wikipedia) \nGAME OF THE DAY \n
URL:https://thechesspedia.net/day/august-21/
CATEGORIES:August
ATTACH;FMTTYPE=image/png:https://thechesspedia.net/wp-content/uploads/2016/08/aug-21.png
END:VEVENT
END:VCALENDAR