
BEGIN:VCALENDAR
VERSION:2.0
PRODID:-//The Chesspedia - ECPv5.1.2.1//NONSGML v1.0//EN
CALSCALE:GREGORIAN
METHOD:PUBLISH
X-WR-CALNAME:The Chesspedia
X-ORIGINAL-URL:https://thechesspedia.net
X-WR-CALDESC:Events for The Chesspedia
BEGIN:VTIMEZONE
TZID:UTC
BEGIN:STANDARD
TZOFFSETFROM:+0000
TZOFFSETTO:+0000
TZNAME:UTC
DTSTART:20160101T000000
END:STANDARD
END:VTIMEZONE
BEGIN:VEVENT
DTSTART;TZID=UTC:20160406T080000
DTEND;TZID=UTC:20160406T170000
DTSTAMP:20260422T003817
CREATED:20170405T100757Z
LAST-MODIFIED:20170405T180109Z
UID:22915-1459929600-1459962000@thechesspedia.net
SUMMARY:April 6
DESCRIPTION:QUOTE OF THE DAY \nChess is a game by its form\, an art by its content and a science by the difficulty of gaining mastery in it. Chess can convey as much happiness as a good book or work of music can. However\, it is necessary to learn to play well and only afterwards will one experience real delight.- Tigran Petrosian\nBIRTHS \nCarlos Guimard (1913-11.09.1998)\, an Argentine Grandmaster who was Argentine Champion in 1937.\nFlorin Gheorghiu (1944)\, a Romanian Grandmaster who was the best Romanian players for few decades and beat R. Fischer in 1966.\nJesus Diez de Corral (1933-19.02.2010)\, a Spanish Grandmaster who was Spanish Champion in 1955 and 1965.\nIgor Lutsko (1962)\, a Belarus Grandmaster\nMiodrag Savic (1977)\, a Serbian Grandmaster who won the 2002 Serbian Championship.\nAnte Saric (1984)\, a Croatian Grandmaster.\nXue Zhao (1985)\, a Chinese Grandmaster who won the World Under-12 Girls Championship in 1997 and the World Under-14 Girls Championship in 1999.\nVladimir Romanenko (1985)\, a Belarus grandmaster who is living in New York.\nBorki Predojevic (1987)\, a Bosnian Grandmaster who was European Champion U-12 in 1999 and European U-14 in 2001.\nRobin Swinkels (1989) a Dutch Grandmaster. \nCHESS EVENTS \n2004 Alexandra Kosteniuk of Russia became in Dresden\, the European Women’s Champion 2004.\n2015 In Sochi Russia\, at the Women’s World Chess Championship  Mariya Muzychuk from Ukraine defeated Natalia Pogonina from Russia (the final score is 2.5-1.5) and became the 15th World Champion. \nWORLD EVENTS \n1199 King Richard I of England dies from an infection following the removal of an arrow from his shoulder.\n1385 John\, Master of the Order of Aviz\, is made king John I of Portugal.\n1841 U.S. President John Tyler is sworn in\, two days after having become President upon William Henry Harrison’s death.\n1869 Celluloid is patented.\n1889 George Eastman begins selling his Kodak flexible rolled film for the first time\n1896 In Athens\, the opening of the first modern Olympic Games is celebrated\,\n1917 World War I: The United States declares war on Germany\n1945 World War II: Sarajevo is liberated from German and Croatian forces by the Yugoslav Partisans.\n1974 The Swedish pop band ABBA wins the Eurovision Song Contest with the song “Waterloo”\,\n1992 The Bosnian War begins.\n1992 Microsoft announced Windows 3.1\, upgrading Windows 3.0\n1994 The Rwandan Genocide begins when the aircraft carrying Rwandan president Juvénal Habyarimana and Burundian president Cyprien Ntaryamira is shot down.\n2004 Rolandas Paksas becomes the first president of Lithuania to be peacefully removed from office by impeachment. \nGAME OF THE DAY \n\n\n \n\n\n	\n				[Event "Lasker - Marshall World Championship Match"]\n[Site "USA"]\n[Date "1907.04.06"]\n[EventDate "?"]\n[Round "15"]\n[Result "0-1"]\n[White "Frank James Marshall"]\n[Black "Emanuel Lasker"]\n[ECO "D53"]\n[WhiteElo "?"]\n[BlackElo "?"]\n[PlyCount "74"]\n\n1.d4 d5 2.c4 e6 3.Nc3 Nf6 4.Bg5 Be7 5.e3 Ne4 6.Bxe7 Qxe7\n7.cxd5 Nxc3 8.bxc3 exd5 9.Qb3 c6 10.c4 O-O 11.Nf3 Qc7 12.Rc1\nQa5+ 13.Rc3 Nd7 14.Nd2 c5 15.cxd5 cxd4 16.exd4 Re8+ 17.Re3\nRxe3+ 18.fxe3 Nf6 19.Be2 Ne4 20.Qd3 Bf5 21.O-O Ng3 22.Rxf5\nNxf5 23.e4 Ne7 24.a3 Rc8 25.d6 Ng6 26.Nc4 Qg5 27.Bf1 b5 28.Na5\nNf4 29.Qg3 Qf6 30.Qe3 Qxd6 31.Bxb5 Qb6 32.Bc4 Ne6 33.Bxe6 fxe6\n34.Nb3 e5 35.Kf1 Rb8 36.Nc5 exd4 37.Qxd4 Rc8 0-1\n				\n			You must activate JavaScript to enhance chess game visualization.		\n	\n	\n	\n		jQuery(document).ready(function($) {\n						$.chessgame.navigationButtonClass  = 'rpbchessboard-jQuery-enableSmoothness';\n			$.chessgame.navigationFrameClass   = 'wp-dialog';\n			$.chessgame.navigationFrameOptions = {"squareSize":32\,"showCoordinates":true\,"colorset":"original"\,"pieceset":"cburnett"\,"animationSpeed":200\,"showMoveArrow":true};\n			var selector = '#' + "rpbchessboard-69e818794098a-1" + ' .rpbchessboard-chessgameAnchor';\n			$(selector).removeClass('rpbchessboard-chessgameAnchor').chessgame({"pgn":"[Event \"Lasker - Marshall World Championship Match\"]\r\n[Site \"USA\"]\r\n[Date \"1907.04.06\"]\r\n[EventDate \"?\"]\r\n[Round \"15\"]\r\n[Result \"0-1\"]\r\n[White \"Frank James Marshall\"]\r\n[Black \"Emanuel Lasker\"]\r\n[ECO \"D53\"]\r\n[WhiteElo \"?\"]\r\n[BlackElo \"?\"]\r\n[PlyCount \"74\"]\r\n\r\n1.d4 d5 2.c4 e6 3.Nc3 Nf6 4.Bg5 Be7 5.e3 Ne4 6.Bxe7 Qxe7\r\n7.cxd5 Nxc3 8.bxc3 exd5 9.Qb3 c6 10.c4 O-O 11.Nf3 Qc7 12.Rc1\r\nQa5+ 13.Rc3 Nd7 14.Nd2 c5 15.cxd5 cxd4 16.exd4 Re8+ 17.Re3\r\nRxe3+ 18.fxe3 Nf6 19.Be2 Ne4 20.Qd3 Bf5 21.O-O Ng3 22.Rxf5\r\nNxf5 23.e4 Ne7 24.a3 Rc8 25.d6 Ng6 26.Nc4 Qg5 27.Bf1 b5 28.Na5\r\nNf4 29.Qg3 Qf6 30.Qe3 Qxd6 31.Bxb5 Qb6 32.Bc4 Ne6 33.Bxe6 fxe6\r\n34.Nb3 e5 35.Kf1 Rb8 36.Nc5 exd4 37.Qxd4 Rc8 0-1"\,"pieceSymbols":"native"\,"navigationBoard":"above"\,"showFlipButton":true\,"showDownloadButton":true\,"navigationBoardOptions":{"squareSize":32\,"showCoordinates":true\,"colorset":"original"\,"pieceset":"cburnett"\,"animationSpeed":200\,"showMoveArrow":true}\,"diagramOptions":{"squareSize":32\,"showCoordinates":true\,"colorset":"original"\,"pieceset":"cburnett"\,"animationSpeed":200\,"showMoveArrow":true}});\n		});\n	\n\n\n \n\n
URL:https://thechesspedia.net/day/april-6/
CATEGORIES:April
ATTACH;FMTTYPE=image/png:https://thechesspedia.net/wp-content/uploads/2016/07/apr-6.png
END:VEVENT
END:VCALENDAR