
BEGIN:VCALENDAR
VERSION:2.0
PRODID:-//The Chesspedia - ECPv5.1.2.1//NONSGML v1.0//EN
CALSCALE:GREGORIAN
METHOD:PUBLISH
X-WR-CALNAME:The Chesspedia
X-ORIGINAL-URL:https://thechesspedia.net
X-WR-CALDESC:Events for The Chesspedia
BEGIN:VTIMEZONE
TZID:UTC
BEGIN:STANDARD
TZOFFSETFROM:+0000
TZOFFSETTO:+0000
TZNAME:UTC
DTSTART:20160101T000000
END:STANDARD
END:VTIMEZONE
BEGIN:VEVENT
DTSTART;VALUE=DATE:20160403
DTEND;VALUE=DATE:20160404
DTSTAMP:20260422T020739
CREATED:20170401T074124Z
LAST-MODIFIED:20170402T085922Z
UID:19648-1459641600-1459727999@thechesspedia.net
SUMMARY:April 3
DESCRIPTION:QUOTE OF THE DAY\n\nWhen Korchnoi was living in the USSR I called him ‘hero of socialist labour’; when he moved to the West I renamed him ‘hero of capitalist labour’!- Boris Spassky\nBIRTHS \nVeniamen Shtyrenkov (1958)\, a Russian Grandmaster\nMargarita Voiska (1963) a Bulgarian Woman Grandmaster\nAlexei Barsov (1966)\, an Uzbek Grandmaster\nSanja Vuksanovic a Woman Grandmaster\nSukhrat Safin (1970)\, an Uzbek Grandmaster.\nMaxim Novik (1970)\, a Russian Grandmaster\nMichael Oratovsky (1974)\, an Israeli Grandmaster and coach born in Russia\nMaris Krakops (1978)\, a Latvian Grandmaster who won the Latvian Chess Championship in 1998. In 2000\nTomi Nyback (1985) a Finnish Grandmaster\, the youngest ever Finnish grandmaster in 2003. \nDEATHS \nErnst Grunfeld (21.11.1893-1962)\, an Austrian Grandmaster and chess writer\nBobotsov Milko (30.10.1931-2000)\, a Bulgarian Grandmaster who was national champion in 1961 and was the first Bulgarian to get the title of Grandmaster. \nCHESS EVENTS \n1975 At 11:00 GMT FIDE issued the following statement: “Following yesterday’s statement\, FIDE President Max Euwe this morning at 11 am not having received a cable from Fischer\, had to declare the World Champion not available per article 2.3 of the Regulations for the match for the Men’s World Championship. In accordance with article 2.3 of the Regulations\, FIDE President Euwe formally declared the Challenger\, grandmaster Anatoly Karpov\, the World Champion 1975”.\n1977 Candidates Match in Lucerne\, L. Polugaevsky (USSR) beat H. Mecking (BRA) 6½-3½.\n1983 Candidates Quarterfinal in Alicante\, Spain\, Z. Ribli HUN beat E. Torre PHI 6-4. At the Women’s Candidates Quarterfinal\, N. Alexandria (USSR) beat Lematchko (BUL) 5½-4½.\n2011 In Aix les Bains France\, Vladimir Potkin from Russia won the 2011 European Individual Championship ahead of Radoslaw Wojtaszek from Poland. \nWORLD EVENTS \n1043 Edward the Confessor is crowned King of England.\n1764 Austrian Archduke Jozef crowned himself Holy Roman Emperor Josef II\n1865 American Civil War: Union forces capture Richmond\, Virginia\, the capital of the Confederate States of America.\n1882 American Old West: Jesse James is killed by Robert Ford.\n1922 Joseph Stalin becomes the first General Secretary of the Communist Party of the Soviet Union.\n1948 United States President Harry S. Truman signs the Marshall Plan\, authorizing $5 billion in aid for 16 countries.\n1973 Martin Cooper of Motorola makes the first handheld mobile phone call to Joel S. Engel of Bell Labs.\n1981  The Osborne 1\, the first successful portable computer\, is unveiled at the West Coast Computer Faire in San Francisco.\n2010 Apple Inc. released the first generation iPad\, a tablet computer.\n2016 The Panama Papers\, a leak of legal documents\, reveals information on 214\,488 offshore companies.\n(Source: Wikipedia and Onthisday) \nGAME OF THE DAY \n\n\n \n\n\n	\n				[Event "RUS-chT"]\n[Site "Dagomys"]\n[Date "2008.04.03"]\n[Round "2"]\n[White "Inarkiev\, Ernesto"]\n[Black "Shomoev\, Anton"]\n[Result "1-0"]\n[ECO "D44"]\n[WhiteElo "2684"]\n[BlackElo "2559"]\n[PlyCount "61"]\n[EventDate "2008.04.02"]\n[EventType "team"]\n[EventRounds "11"]\n[EventCountry "RUS"]\n1. d4 d5 2. c4 c6 3. Nf3 Nf6 4. Nc3 e6 5. Bg5 dxc4 6. e4 b5 7. e5 h6 8. Bh4 g5\n9. Nxg5 hxg5 10. Bxg5 Nbd7 11. g3 Bb7 12. Bg2 Qb6 13. exf6 O-O-O 14. O-O c5 15.\nd5 b4 16. Rb1 Qa6 17. dxe6 Bxg2 18. e7 Bxf1 19. Qd5 Bxe7 20. fxe7 Rdg8 21. Ne4\nBd3 22. Nd6+ Kc7 23. Bf4 Kb6 24. Re1 Nf6 25. Qxf7 Ne4 26. Nxe4 Bxe4 27. Rxe4\nQc8 28. Qxc4 Rg6 29. Be3 a5 30. Qxc5+ Qxc5 31. e8=Q 1-0\n				\n			You must activate JavaScript to enhance chess game visualization.		\n	\n	\n	\n		jQuery(document).ready(function($) {\n						$.chessgame.navigationButtonClass  = 'rpbchessboard-jQuery-enableSmoothness';\n			$.chessgame.navigationFrameClass   = 'wp-dialog';\n			$.chessgame.navigationFrameOptions = {"squareSize":32\,"showCoordinates":true\,"colorset":"original"\,"pieceset":"cburnett"\,"animationSpeed":200\,"showMoveArrow":true};\n			var selector = '#' + "rpbchessboard-69e82d6b81ec8-1" + ' .rpbchessboard-chessgameAnchor';\n			$(selector).removeClass('rpbchessboard-chessgameAnchor').chessgame({"pgn":"[Event \"RUS-chT\"]\r\n[Site \"Dagomys\"]\r\n[Date \"2008.04.03\"]\r\n[Round \"2\"]\r\n[White \"Inarkiev\, Ernesto\"]\r\n[Black \"Shomoev\, Anton\"]\r\n[Result \"1-0\"]\r\n[ECO \"D44\"]\r\n[WhiteElo \"2684\"]\r\n[BlackElo \"2559\"]\r\n[PlyCount \"61\"]\r\n[EventDate \"2008.04.02\"]\r\n[EventType \"team\"]\r\n[EventRounds \"11\"]\r\n[EventCountry \"RUS\"]\r\n1. d4 d5 2. c4 c6 3. Nf3 Nf6 4. Nc3 e6 5. Bg5 dxc4 6. e4 b5 7. e5 h6 8. Bh4 g5\r\n9. Nxg5 hxg5 10. Bxg5 Nbd7 11. g3 Bb7 12. Bg2 Qb6 13. exf6 O-O-O 14. O-O c5 15.\r\nd5 b4 16. Rb1 Qa6 17. dxe6 Bxg2 18. e7 Bxf1 19. Qd5 Bxe7 20. fxe7 Rdg8 21. Ne4\r\nBd3 22. Nd6+ Kc7 23. Bf4 Kb6 24. Re1 Nf6 25. Qxf7 Ne4 26. Nxe4 Bxe4 27. Rxe4\r\nQc8 28. Qxc4 Rg6 29. Be3 a5 30. Qxc5+ Qxc5 31. e8=Q 1-0"\,"pieceSymbols":"native"\,"navigationBoard":"above"\,"showFlipButton":true\,"showDownloadButton":true\,"navigationBoardOptions":{"squareSize":32\,"showCoordinates":true\,"colorset":"original"\,"pieceset":"cburnett"\,"animationSpeed":200\,"showMoveArrow":true}\,"diagramOptions":{"squareSize":32\,"showCoordinates":true\,"colorset":"original"\,"pieceset":"cburnett"\,"animationSpeed":200\,"showMoveArrow":true}});\n		});\n	\n\n\n \n\n
URL:https://thechesspedia.net/day/april-3/
CATEGORIES:April
ATTACH;FMTTYPE=image/png:https://thechesspedia.net/wp-content/uploads/2016/07/apr-3.png
END:VEVENT
END:VCALENDAR