
BEGIN:VCALENDAR
VERSION:2.0
PRODID:-//The Chesspedia - ECPv5.1.2.1//NONSGML v1.0//EN
CALSCALE:GREGORIAN
METHOD:PUBLISH
X-WR-CALNAME:The Chesspedia
X-ORIGINAL-URL:https://thechesspedia.net
X-WR-CALDESC:Events for The Chesspedia
BEGIN:VTIMEZONE
TZID:UTC
BEGIN:STANDARD
TZOFFSETFROM:+0000
TZOFFSETTO:+0000
TZNAME:UTC
DTSTART:20160101T000000
END:STANDARD
END:VTIMEZONE
BEGIN:VEVENT
DTSTART;VALUE=DATE:20160429
DTEND;VALUE=DATE:20160430
DTSTAMP:20260422T021035
CREATED:20170427T081118Z
LAST-MODIFIED:20170428T094229Z
UID:19685-1461888000-1461974399@thechesspedia.net
SUMMARY:April 29
DESCRIPTION:QUOTE OF THE DAY\n\nI think I would beat Tal pretty easily. Fischer would be more difficult\, but I think I could beat him too.- Magnus Carlsen\nBIRTHS \nDaniel Harrwitz (1823 – 09.01.1884)\, a German Master who lost a match in England to Howard Staunton in 1846 at odds of a pawn and two moves and drew a match with Adolf Anderssen.\nMarkus Stangl (1969)\, a German Grandmaster.\nNikolaus Stanec (1968)\, an Australian Grandmaster who was 10 times Austrian Champion.\nYury Shulman (1975)\, a U.S. Grandmaster and coach born in Belarus who won the 2008 US Chess Championship \nCHESS EVENTS \n2011 In Indonesia\, the team of Shi Jiazhuang from China won the Asian Cities Team Championship 2011.\n2015 In Armenia\, China confirmed his success at the 2014 Olympiads by winning the 2015 World Team Championship ahead of Ukraine and Armenia.\n2015 In Chengdu\, China\, Georgia won the 2015 World Women’s Team Championship ahead of Russia and China. \nWORLD EVENTS \n1429 Joan of Arc led French troops to victory over the English at Orleans during the Hundred Years’ War.\n1899 Edward Kennedy “Duke” Ellington (d.1974)\, jazz composer and musician was born in Washington DC.\n1940 Norwegian King Haakon and government fled to England.\n1945 American soldiers liberated 31\,601 in the Dachau\, Germany\n1946 In Japan 28 former leaders were indicted in Tokyo as war criminals; seven ended up being sentenced to death.\n1970 Andre Agassi\, tennis star and winner of an Olympic gold medal in 1996\, was born\n1975 US forces pulled out of Vietnam. The US embassy was evacuated as North Vietnamese forces fought their way into Saigon.\n1979 Democracy was restored in Ecuador. Jaime Roldos Aguilera was elected as president in the 2nd round of voting.\n1980 Alfred Joseph Hitchcock (b.1899)\, British director (Psycho\, Birds)\, died in Los Angeles.\n1999 NATO jets struck Yugoslav army headquarters in Belgrade and the federal interior ministry. A telecommunications tower was hit and knocked Serbian TV off the air.\n2004 Google unveiled an IPO that could raise as much as $2.7 billion.\n2006 Russian Foreign Minister Sergei Lavrov told his Iranian counterpart Manouchehr Mottaki to suspend enriching uranium and ensure full-scale cooperation with the UN nuclear watchdog\, the IAEA.\n(Source:  Timeline) \nGAME OF THE DAY \n\n\n \n\n\n	\n				[Event "Dos Hermanas-A"]\n[Site "Dos Hermanas"]\n[Date "2001.04.??"]\n[Round "3"]\n[White "Sokolov\, Ivan"]\n[Black "Dreev\, Alexey"]\n[Result "0-1"]\n[ECO "D43"]\n[WhiteElo "2659"]\n[BlackElo "2685"]\n[PlyCount "62"]\n[EventDate "2001.04.19"]\n[EventType "tourn"]\n[EventRounds "9"]\n[EventCountry "ESP"]\n[EventCategory "16"]\n1. d4 d5 2. c4 c6 3. Nf3 Nf6 4. Nc3 e6 5. Bg5 h6 6. Bh4 dxc4 7. e4 g5 8. Bg3 b5\n9. Be2 Bb7 10. h4 b4 11. Na4 Nxe4 12. Be5 Rg8 13. Qc2 c5 14. Bxc4 g4 15. Bb5+\nNd7 16. dxc5 b3 17. Qd3 gxf3 18. c6 Bb4+ 19. Bc3 Bxc3+ 20. bxc3 fxg2 21. Rg1 b2\n22. Rd1 Qxh4 23. Qxd7+ Kf8 24. Qd4 b1=Q 25. Rxb1 Rd8 26. cxb7 Rxd4 27. b8=Q+\nRd8 28. Qxa7 Qh2 29. Ke2 Rd2+ 30. Ke3 Rg3+ 31. Kxe4 Rg4+ 0-1\n				\n			You must activate JavaScript to enhance chess game visualization.		\n	\n	\n	\n		jQuery(document).ready(function($) {\n						$.chessgame.navigationButtonClass  = 'rpbchessboard-jQuery-enableSmoothness';\n			$.chessgame.navigationFrameClass   = 'wp-dialog';\n			$.chessgame.navigationFrameOptions = {"squareSize":32\,"showCoordinates":true\,"colorset":"original"\,"pieceset":"cburnett"\,"animationSpeed":200\,"showMoveArrow":true};\n			var selector = '#' + "rpbchessboard-69e82e1be5212-1" + ' .rpbchessboard-chessgameAnchor';\n			$(selector).removeClass('rpbchessboard-chessgameAnchor').chessgame({"pgn":"[Event \"Dos Hermanas-A\"]\r\n[Site \"Dos Hermanas\"]\r\n[Date \"2001.04.??\"]\r\n[Round \"3\"]\r\n[White \"Sokolov\, Ivan\"]\r\n[Black \"Dreev\, Alexey\"]\r\n[Result \"0-1\"]\r\n[ECO \"D43\"]\r\n[WhiteElo \"2659\"]\r\n[BlackElo \"2685\"]\r\n[PlyCount \"62\"]\r\n[EventDate \"2001.04.19\"]\r\n[EventType \"tourn\"]\r\n[EventRounds \"9\"]\r\n[EventCountry \"ESP\"]\r\n[EventCategory \"16\"]\r\n1. d4 d5 2. c4 c6 3. Nf3 Nf6 4. Nc3 e6 5. Bg5 h6 6. Bh4 dxc4 7. e4 g5 8. Bg3 b5\r\n9. Be2 Bb7 10. h4 b4 11. Na4 Nxe4 12. Be5 Rg8 13. Qc2 c5 14. Bxc4 g4 15. Bb5+\r\nNd7 16. dxc5 b3 17. Qd3 gxf3 18. c6 Bb4+ 19. Bc3 Bxc3+ 20. bxc3 fxg2 21. Rg1 b2\r\n22. Rd1 Qxh4 23. Qxd7+ Kf8 24. Qd4 b1=Q 25. Rxb1 Rd8 26. cxb7 Rxd4 27. b8=Q+\r\nRd8 28. Qxa7 Qh2 29. Ke2 Rd2+ 30. Ke3 Rg3+ 31. Kxe4 Rg4+ 0-1"\,"pieceSymbols":"native"\,"navigationBoard":"above"\,"showFlipButton":true\,"showDownloadButton":true\,"navigationBoardOptions":{"squareSize":32\,"showCoordinates":true\,"colorset":"original"\,"pieceset":"cburnett"\,"animationSpeed":200\,"showMoveArrow":true}\,"diagramOptions":{"squareSize":32\,"showCoordinates":true\,"colorset":"original"\,"pieceset":"cburnett"\,"animationSpeed":200\,"showMoveArrow":true}});\n		});\n	\n\n\n \n\n  \n
URL:https://thechesspedia.net/day/april-29/
CATEGORIES:April
ATTACH;FMTTYPE=image/png:https://thechesspedia.net/wp-content/uploads/2016/07/apr-29.png
END:VEVENT
END:VCALENDAR