
BEGIN:VCALENDAR
VERSION:2.0
PRODID:-//The Chesspedia - ECPv5.1.2.1//NONSGML v1.0//EN
CALSCALE:GREGORIAN
METHOD:PUBLISH
X-WR-CALNAME:The Chesspedia
X-ORIGINAL-URL:https://thechesspedia.net
X-WR-CALDESC:Events for The Chesspedia
BEGIN:VTIMEZONE
TZID:UTC
BEGIN:STANDARD
TZOFFSETFROM:+0000
TZOFFSETTO:+0000
TZNAME:UTC
DTSTART:20160101T000000
END:STANDARD
END:VTIMEZONE
BEGIN:VEVENT
DTSTART;VALUE=DATE:20160426
DTEND;VALUE=DATE:20160427
DTSTAMP:20260423T093932
CREATED:20170425T080848Z
LAST-MODIFIED:20170425T074955Z
UID:19681-1461628800-1461715199@thechesspedia.net
SUMMARY:April 26
DESCRIPTION:QUOTE OF THE DAY\n\nChess needs Kasparov\, he’s very important for chess\, he’s a very important figure who can open a lot of doors for chess. And for Kirsan\, of course\, it was a joke.- Silvio Danailov\, 2013\nBIRTHS \nFomina\, Tatyana Fomina (1954)\, Estonian Woman Grandmaster who was twice European Senior Women’s Champion.\nVasily Malinin (1956)\, a Russian Grandmaster and Correspondence Grandmaster.\nAriel Sorin (1967)\, an Argentine Grandmaster who was Argentine Champion in 2000 and 2004.\nRauf Mamedov (1988)\, an Azeri Grandmaster who won the Azerbaijani championship three times.\nBoban Bogosavljevic (1988)\, a Serbian Grandmaster who was Serbian Champion in 2013.\nYixin Ding (1991)\, a Chinese Woman Grandmaster who won the Women’s Chinese Chess Championship in 2013.\nJan-Krzysztof Duda (1998)\, a Polish Grandmaster who finished equal first in the World Junior Chess Championship in 2015. \n\nCHESS EVENTS \n1883 First day of the London International Tournament\, the first tournament in which clocks were used.\n1859 Paul Morphy finished his European tourney\, giving a simultaneous display with 5 famous masters (Lowenthal\, Journoud\, de Riviere\, Bird\, Burns\, and Boden with a score +2-2=1\n1973 USSR. Tal had the longest run of invincibility record\, from 15 July 1972 till 26 April 1973. \nWORLD EVENTS \n1903 Atlético Madrid Association football club is founded.\n1928 Madame Tussaud’s waxwork exhibition opens in London\n1933 The Gestapo\, the official secret police force of Nazi Germany\, is established.\n1937 Spanish Civil War: Guernica\, Spain\, is bombed by German Luftwaffe.\n1944 Georgios Papandreou becomes head of the Greek government-in-exile based in Egypt.\n1964 Tanganyika and Zanzibar merge to form Tanzania.\n1974 Malta adopts constitution\n1994 China Airlines Flight 140 crashes at Nagoya Airport in Japan\, killing 264 of the 271 people on board.\n2005 Under international pressure\, Syria withdraws the last of its 14\,000 troop military garrison in Lebanon\, ending its 29-year military domination of that country.\n(Source: Wikipedia and Onthisday) \nGAME OF THE DAY \n\n\n\n \n\n\n	\n				[Event "Mario Covas 3rd"]\n[Site "Santos"]\n[Date "2003.04.26"]\n[Round "6"]\n[White "Zapata\, Alonso"]\n[Black "Rodriguez Vila\, Andres"]\n[Result "1-0"]\n[ECO "B00"]\n[WhiteElo "2543"]\n[BlackElo "2479"]\n[PlyCount "49"]\n[EventDate "2003.04.22"]\n[EventType "tourn"]\n[EventRounds "10"]\n[EventCountry "BRA"]\n[EventCategory "12"]\n\n1. e4 b6 2. d4 Bb7 3. Nc3 e6 4. Bd3 Nf6 5. Nge2 c5 6. O-O d5 7. e5 Nfd7 8. Nf4\ng6 9. Qg4 Be7 10. Nxe6 fxe6 11. Bxg6+ hxg6 12. Qxg6+ Kf8 13. Bh6+ Rxh6 14.\nQxh6+ Kf7 15. Qh7+ Ke8 16. Qg6+ Kf8 17. f4 Qe8 18. Qh6+ Kf7 19. Qh7+ Kf8 20. f5\nBf6 21. fxe6 Qxe6 22. exf6 Qf7 23. Qh6+ Ke8 24. Rae1+ Kd8 25. Re7 1-0\n				\n			You must activate JavaScript to enhance chess game visualization.		\n	\n	\n	\n		jQuery(document).ready(function($) {\n						$.chessgame.navigationButtonClass  = 'rpbchessboard-jQuery-enableSmoothness';\n			$.chessgame.navigationFrameClass   = 'wp-dialog';\n			$.chessgame.navigationFrameOptions = {"squareSize":32\,"showCoordinates":true\,"colorset":"original"\,"pieceset":"cburnett"\,"animationSpeed":200\,"showMoveArrow":true};\n			var selector = '#' + "rpbchessboard-69e9e8d4990f9-1" + ' .rpbchessboard-chessgameAnchor';\n			$(selector).removeClass('rpbchessboard-chessgameAnchor').chessgame({"pgn":"[Event \"Mario Covas 3rd\"]\r\n[Site \"Santos\"]\r\n[Date \"2003.04.26\"]\r\n[Round \"6\"]\r\n[White \"Zapata\, Alonso\"]\r\n[Black \"Rodriguez Vila\, Andres\"]\r\n[Result \"1-0\"]\r\n[ECO \"B00\"]\r\n[WhiteElo \"2543\"]\r\n[BlackElo \"2479\"]\r\n[PlyCount \"49\"]\r\n[EventDate \"2003.04.22\"]\r\n[EventType \"tourn\"]\r\n[EventRounds \"10\"]\r\n[EventCountry \"BRA\"]\r\n[EventCategory \"12\"]\r\n\r\n1. e4 b6 2. d4 Bb7 3. Nc3 e6 4. Bd3 Nf6 5. Nge2 c5 6. O-O d5 7. e5 Nfd7 8. Nf4\r\ng6 9. Qg4 Be7 10. Nxe6 fxe6 11. Bxg6+ hxg6 12. Qxg6+ Kf8 13. Bh6+ Rxh6 14.\r\nQxh6+ Kf7 15. Qh7+ Ke8 16. Qg6+ Kf8 17. f4 Qe8 18. Qh6+ Kf7 19. Qh7+ Kf8 20. f5\r\nBf6 21. fxe6 Qxe6 22. exf6 Qf7 23. Qh6+ Ke8 24. Rae1+ Kd8 25. Re7 1-0"\,"pieceSymbols":"native"\,"navigationBoard":"above"\,"showFlipButton":true\,"showDownloadButton":true\,"navigationBoardOptions":{"squareSize":32\,"showCoordinates":true\,"colorset":"original"\,"pieceset":"cburnett"\,"animationSpeed":200\,"showMoveArrow":true}\,"diagramOptions":{"squareSize":32\,"showCoordinates":true\,"colorset":"original"\,"pieceset":"cburnett"\,"animationSpeed":200\,"showMoveArrow":true}});\n		});\n	\n\n\n \n\n\n
URL:https://thechesspedia.net/day/april-26/
CATEGORIES:April
ATTACH;FMTTYPE=image/png:https://thechesspedia.net/wp-content/uploads/2016/07/apr-26.png
END:VEVENT
END:VCALENDAR