
BEGIN:VCALENDAR
VERSION:2.0
PRODID:-//The Chesspedia - ECPv5.1.2.1//NONSGML v1.0//EN
CALSCALE:GREGORIAN
METHOD:PUBLISH
X-WR-CALNAME:The Chesspedia
X-ORIGINAL-URL:https://thechesspedia.net
X-WR-CALDESC:Events for The Chesspedia
BEGIN:VTIMEZONE
TZID:UTC
BEGIN:STANDARD
TZOFFSETFROM:+0000
TZOFFSETTO:+0000
TZNAME:UTC
DTSTART:20160101T000000
END:STANDARD
END:VTIMEZONE
BEGIN:VEVENT
DTSTART;VALUE=DATE:20160423
DTEND;VALUE=DATE:20160424
DTSTAMP:20260422T004353
CREATED:20170422T080605Z
LAST-MODIFIED:20170422T204416Z
UID:19677-1461369600-1461455999@thechesspedia.net
SUMMARY:April 23
DESCRIPTION:QUOTE OF THE DAY\n\nDo you realize\, Fischer almost never has any bad pieces? He exchanges them\, and the bad pieces remain with his opponents.- Yury Balashov\nBIRTHS \nAnthony Miles (1955 -12.11.2001)\,  The first English Grandmaster who became World U20 Champion in 1974.\nYrio Rantanen (1950)\, Finnish Grandmaster who won the Finnish Championship in 1978 and 1986.\nPia Cramling (1963)\, a Swedish Grandmaster and Woman Grandmaster and European Women’s Champion\, the first female player to beat a top Russian Grandmaster: V. Korchnoi.\nLembit Oll (1966)\, a talented Estonian Grandmaster who committed suicide by jumping out of a fifth-floor window.\nPetra Krupkova (1976)\, a Czech Woman Grandmaster.\nLela Javakhishvili (1984)\, an International Master and Woman Grandmaster who won twice the Women’s Georgian Championship.\nAlexandra Kosteniuk (1984)\, a Russian Grandmaster and Woman Grandmaster who became Women’s World Champion in 2008.\nInga Charkhalashvili (1983)\, a Georgian Woman Grandmaster. \nCHESS EVENTS \n1824 England. First recording match (correspondence) between two clubs. Edinburgh beat London 3-2. It ended in July 1826.\n1977 The USSR won the 6th European Team Championship in Moscow.\n2009 In Beirut\, Teheran won the Asian Cities Dubai Cup. \nWORLD EVENTS \n711 Dagobert III is crowned King of the Franks.\n1635 The first public school in the United States\, Boston Latin School\, is founded in Boston.\n1661 King Charles II of England\, Scotland and Ireland is crowned in Westminster Abbey.\n1941 World War II: The Greek government and King George II evacuate Athens before the invading Wehrmacht.\n1946 Manuel Roxas is elected the last President of the Commonwealth of the Philippines.\n1961 Algiers putsch by French generals.\n1984 AIDS-virus identified as HTLV-III (acquired immune deficiency syndrome)\n1990 Namibia becomes the 160th member of the United Nations and the 50th member of the Commonwealth of Nations.\n2005 The first ever Youtube video called “Me at the zoo” was published.\n(Source: Wikipedia and Onthisday) \nGAME OF THE DAY \n\n\n \n\n\n	\n				[Event "Zug FIDE GP"]\n[Site "Zug"]\n[Date "2013.04.23"]\n[Round "5"]\n[White "Karjakin\, Sergey"]\n[Black "Mamedyarov\, Shakhriyar"]\n[Result "1-0"]\n[ECO "B19"]\n[WhiteElo "2786"]\n[BlackElo "2766"]\n[PlyCount "79"]\n[EventDate "2013.04.18"]\n[EventType "tourn"]\n[EventRounds "11"]\n[EventCountry "SUI"]\n[EventCategory "21"]\n1. e4 c6 2. d4 d5 3. Nc3 dxe4 4. Nxe4 Bf5 5. Ng3 Bg6 6. h4 h6 7. Nf3 Nd7 8. h5\nBh7 9. Bd3 Bxd3 10. Qxd3 e6 11. Bd2 Ngf6 12. O-O-O Be7 13. Kb1 Qb6 14. Rhe1 O-O\n15. Nf5 Bb4 16. Nxh6+ gxh6 17. c3 Ba3 18. Bc1 Rfe8 19. g4 Nh7 20. c4 Bf8 21. g5\nhxg5 22. Nxg5 Nxg5 23. Bxg5 Kh8 24. Rg1 Qc7 25. Qf3 f6 26. Bf4 Bd6 27. Qg3 Nc5\n28. Bxd6 Qh7+ 29. Ka1 Ne4 30. Qh4 Rg8 31. f3 Ng5 32. Qf4 Qf5 33. Qxf5 exf5 34.\nBe7 Nxf3 35. Rgf1 Rg3 36. d5 cxd5 37. cxd5 Kg7 38. Rd3 Kf7 39. Bd6 Nh2 40. Bxg3\n1-0\n				\n			You must activate JavaScript to enhance chess game visualization.		\n	\n	\n	\n		jQuery(document).ready(function($) {\n						$.chessgame.navigationButtonClass  = 'rpbchessboard-jQuery-enableSmoothness';\n			$.chessgame.navigationFrameClass   = 'wp-dialog';\n			$.chessgame.navigationFrameOptions = {"squareSize":32\,"showCoordinates":true\,"colorset":"original"\,"pieceset":"cburnett"\,"animationSpeed":200\,"showMoveArrow":true};\n			var selector = '#' + "rpbchessboard-69e819c9ea86c-1" + ' .rpbchessboard-chessgameAnchor';\n			$(selector).removeClass('rpbchessboard-chessgameAnchor').chessgame({"pgn":"[Event \"Zug FIDE GP\"]\r\n[Site \"Zug\"]\r\n[Date \"2013.04.23\"]\r\n[Round \"5\"]\r\n[White \"Karjakin\, Sergey\"]\r\n[Black \"Mamedyarov\, Shakhriyar\"]\r\n[Result \"1-0\"]\r\n[ECO \"B19\"]\r\n[WhiteElo \"2786\"]\r\n[BlackElo \"2766\"]\r\n[PlyCount \"79\"]\r\n[EventDate \"2013.04.18\"]\r\n[EventType \"tourn\"]\r\n[EventRounds \"11\"]\r\n[EventCountry \"SUI\"]\r\n[EventCategory \"21\"]\r\n1. e4 c6 2. d4 d5 3. Nc3 dxe4 4. Nxe4 Bf5 5. Ng3 Bg6 6. h4 h6 7. Nf3 Nd7 8. h5\r\nBh7 9. Bd3 Bxd3 10. Qxd3 e6 11. Bd2 Ngf6 12. O-O-O Be7 13. Kb1 Qb6 14. Rhe1 O-O\r\n15. Nf5 Bb4 16. Nxh6+ gxh6 17. c3 Ba3 18. Bc1 Rfe8 19. g4 Nh7 20. c4 Bf8 21. g5\r\nhxg5 22. Nxg5 Nxg5 23. Bxg5 Kh8 24. Rg1 Qc7 25. Qf3 f6 26. Bf4 Bd6 27. Qg3 Nc5\r\n28. Bxd6 Qh7+ 29. Ka1 Ne4 30. Qh4 Rg8 31. f3 Ng5 32. Qf4 Qf5 33. Qxf5 exf5 34.\r\nBe7 Nxf3 35. Rgf1 Rg3 36. d5 cxd5 37. cxd5 Kg7 38. Rd3 Kf7 39. Bd6 Nh2 40. Bxg3\r\n1-0"\,"pieceSymbols":"native"\,"navigationBoard":"above"\,"showFlipButton":true\,"showDownloadButton":true\,"navigationBoardOptions":{"squareSize":32\,"showCoordinates":true\,"colorset":"original"\,"pieceset":"cburnett"\,"animationSpeed":200\,"showMoveArrow":true}\,"diagramOptions":{"squareSize":32\,"showCoordinates":true\,"colorset":"original"\,"pieceset":"cburnett"\,"animationSpeed":200\,"showMoveArrow":true}});\n		});\n	\n\n\n \n\n
URL:https://thechesspedia.net/day/april-23/
CATEGORIES:April
ATTACH;FMTTYPE=image/png:https://thechesspedia.net/wp-content/uploads/2016/07/apr-23.png
END:VEVENT
END:VCALENDAR