
BEGIN:VCALENDAR
VERSION:2.0
PRODID:-//The Chesspedia - ECPv5.1.2.1//NONSGML v1.0//EN
CALSCALE:GREGORIAN
METHOD:PUBLISH
X-WR-CALNAME:The Chesspedia
X-ORIGINAL-URL:https://thechesspedia.net
X-WR-CALDESC:Events for The Chesspedia
BEGIN:VTIMEZONE
TZID:UTC
BEGIN:STANDARD
TZOFFSETFROM:+0000
TZOFFSETTO:+0000
TZNAME:UTC
DTSTART:20160101T000000
END:STANDARD
END:VTIMEZONE
BEGIN:VEVENT
DTSTART;VALUE=DATE:20160422
DTEND;VALUE=DATE:20160423
DTSTAMP:20260423T093139
CREATED:20170421T080512Z
LAST-MODIFIED:20170421T094858Z
UID:19675-1461283200-1461369599@thechesspedia.net
SUMMARY:April 22
DESCRIPTION:QUOTE OF THE DAY\n\nI detest the endgame. A well-played game should be practically decided in the middle-game!- David Janowski\nBIRTHS \nYuraj Nikolac (1932)\, a Croatian Grandmaster.\nGennady Sagalchik (1969)\, an American Grandmaster born in Belarus.\nElena Krjuchkova (1969)an Uzbek Woman Grandmaster.\nMarius Manolache.(1973)\, a Romanian Grandmaster\nJean-Noel Riff (1981)\, a French Grandmaster. \nDEATHS \nAlexander Fritz (15.01.1857-1932)\, a German Master known for the variation of  Two Knights Defense  (1.e4 e5 2.Nf3 Nc6 3.Bc4 Nf6 4.Ng5 d5 5.exd5 Nd4).\nSandor Takacs (10.02 1893-1932) a Hungarian Master who was a member of the Hungarian team at the 1930 Olympiad.\nLajos Steiner (14.06.1903-1975) was a strong Hungarian–born Australian International Master who emigrated to Australia before WWII and became few times Australian Champion. \nWORLD EVENTS \n1500 Portuguese navigator Pedro Álvares Cabral lands in Brazil.\n1864 The U.S. Congress passes the Coinage Act of 1864 that mandates that the inscription In God We Trust be placed on all coins minted as United States currency.\n1864 The U.S. Congress passes the Coinage Act of 1864 that mandates that the inscription In God We Trust be placed on all coins minted as United States currency.\n1876 Tsjaikovsky completes his “Swan Lake” ballet\n1915 The use of poison gas in World War I escalates when chlorine gas is released as a chemical weapon in the Second Battle of Ypres.\n1945 World War II: Führerbunker: After learning that Soviet forces have taken Eberswalde without a fight\, Adolf Hitler admits defeat in his underground bunker and states that suicide is his only recourse.\n1951 Ticker-tape parade for General MacArthur in NYC\n1977 Optical fiber is first used to carry live telephone traffic.\n2005 Japan’s Prime Minister Junichiro Koizumi apologizes for Japan’s war record.\n(Source: Wikipedia and Onthisday) \nGAME OF THE DAY \n\n\n \n\n\n	\n				[Event "Cambridge Springs"]\n[Site "Cambridge Springs\, PA USA"]\n[Date "1904.04."]\n[EventDate "1904.04.25"]\n[Round "3.3"]\n[Result "1-0"]\n[White "Emanuel Lasker"]\n[Black "William Ewart Napier"]\n[ECO "B34"]\n[WhiteElo "?"]\n[BlackElo "?"]\n[PlyCount "69"]\n\n1.e4 c5 2.Nc3 Nc6 3.Nf3 g6 4.d4 cxd4 5.Nxd4 Bg7 6.Be3 d6 7.h3\nNf6 8.g4 O-O 9.g5 Ne8 10.h4 Nc7 11.f4 e5 12.Nde2 d5 13.exd5\nNd4 14.Nxd4 Nxd5 15.Nf5 Nxc3 16.Qxd8 Rxd8 17.Ne7+ Kh8 18.h5\nRe8 19.Bc5 gxh5 20.Bc4 exf4 21.Bxf7 Ne4 22.Bxe8 Bxb2 23.Rb1\nBc3+ 24.Kf1 Bg4 25.Bxh5 Bxh5 26.Rxh5 Ng3+ 27.Kg2 Nxh5 28.Rxb7\na5 29.Rb3 Bg7 30.Rh3 Ng3 31.Kf3 Ra6 32.Kxf4 Ne2+ 33.Kf5 Nc3\n34.a3 Na4 35.Be3 1-0\n				\n			You must activate JavaScript to enhance chess game visualization.		\n	\n	\n	\n		jQuery(document).ready(function($) {\n						$.chessgame.navigationButtonClass  = 'rpbchessboard-jQuery-enableSmoothness';\n			$.chessgame.navigationFrameClass   = 'wp-dialog';\n			$.chessgame.navigationFrameOptions = {"squareSize":32\,"showCoordinates":true\,"colorset":"original"\,"pieceset":"cburnett"\,"animationSpeed":200\,"showMoveArrow":true};\n			var selector = '#' + "rpbchessboard-69e9e6fb9fb58-1" + ' .rpbchessboard-chessgameAnchor';\n			$(selector).removeClass('rpbchessboard-chessgameAnchor').chessgame({"pgn":"[Event \"Cambridge Springs\"]\r\n[Site \"Cambridge Springs\, PA USA\"]\r\n[Date \"1904.04.\"]\r\n[EventDate \"1904.04.25\"]\r\n[Round \"3.3\"]\r\n[Result \"1-0\"]\r\n[White \"Emanuel Lasker\"]\r\n[Black \"William Ewart Napier\"]\r\n[ECO \"B34\"]\r\n[WhiteElo \"?\"]\r\n[BlackElo \"?\"]\r\n[PlyCount \"69\"]\r\n\r\n1.e4 c5 2.Nc3 Nc6 3.Nf3 g6 4.d4 cxd4 5.Nxd4 Bg7 6.Be3 d6 7.h3\r\nNf6 8.g4 O-O 9.g5 Ne8 10.h4 Nc7 11.f4 e5 12.Nde2 d5 13.exd5\r\nNd4 14.Nxd4 Nxd5 15.Nf5 Nxc3 16.Qxd8 Rxd8 17.Ne7+ Kh8 18.h5\r\nRe8 19.Bc5 gxh5 20.Bc4 exf4 21.Bxf7 Ne4 22.Bxe8 Bxb2 23.Rb1\r\nBc3+ 24.Kf1 Bg4 25.Bxh5 Bxh5 26.Rxh5 Ng3+ 27.Kg2 Nxh5 28.Rxb7\r\na5 29.Rb3 Bg7 30.Rh3 Ng3 31.Kf3 Ra6 32.Kxf4 Ne2+ 33.Kf5 Nc3\r\n34.a3 Na4 35.Be3 1-0"\,"pieceSymbols":"native"\,"navigationBoard":"above"\,"showFlipButton":true\,"showDownloadButton":true\,"navigationBoardOptions":{"squareSize":32\,"showCoordinates":true\,"colorset":"original"\,"pieceset":"cburnett"\,"animationSpeed":200\,"showMoveArrow":true}\,"diagramOptions":{"squareSize":32\,"showCoordinates":true\,"colorset":"original"\,"pieceset":"cburnett"\,"animationSpeed":200\,"showMoveArrow":true}});\n		});\n	\n\n\n \n\n
URL:https://thechesspedia.net/day/april-22/
CATEGORIES:April
ATTACH;FMTTYPE=image/png:https://thechesspedia.net/wp-content/uploads/2016/07/apr-22.png
END:VEVENT
END:VCALENDAR