
BEGIN:VCALENDAR
VERSION:2.0
PRODID:-//The Chesspedia - ECPv5.1.2.1//NONSGML v1.0//EN
CALSCALE:GREGORIAN
METHOD:PUBLISH
X-WR-CALNAME:The Chesspedia
X-ORIGINAL-URL:https://thechesspedia.net
X-WR-CALDESC:Events for The Chesspedia
BEGIN:VTIMEZONE
TZID:UTC
BEGIN:STANDARD
TZOFFSETFROM:+0000
TZOFFSETTO:+0000
TZNAME:UTC
DTSTART:20160101T000000
END:STANDARD
END:VTIMEZONE
BEGIN:VEVENT
DTSTART;VALUE=DATE:20160419
DTEND;VALUE=DATE:20160420
DTSTAMP:20260422T004444
CREATED:20170417T080200Z
LAST-MODIFIED:20170418T124556Z
UID:19670-1461024000-1461110399@thechesspedia.net
SUMMARY:April 19
DESCRIPTION:QUOTE OF THE DAY\n\nNot this time\, Mr. Carlsen! (after winning the World Blitz Championship 2016)- Sergey Karjakin\, 2016\n\nBIRTHS \nConel Hugh O’Donel Alexander (1909-15.02.1974)\, a British International Master born in Ireland\, International Correspondence Master who is also known to worked on the German Enigma machine at Bletchley Park during the Second World War.\nMichael Valvo (1942-18.09.2004)\, An American international Master.\nEsteban Canal (19.04.1896-14.02.1981)\, a Peruvian Emeritus Grandmaster who\nToth Bela (1943)\, an Italian International Master born in Hungary who was Italian champion in 1975\, 1976\, 1981\, 1982 and 1984. He became a Correspondence GM in 2004.\nZsuzsa Polgar (1969)\, an American Grandmaster and Woman Grandmaster who became Women’s World Champion in 1996. She is the sister of Sofia and Judit Polgar.\nManuel Apicella (1970)\, a French Grandmaster who won the French Chess Championship in 1992 .\nInna Dubinka (1975)\, a Ukrainian Woman Grandmaster.\nAntoaneta Stefanova (1979)\, a Bulgarian Grandmaster who became Women’s World Champion in 2004.\nIrina Vasilevich (1985)\, a Russian Woman Grandmaster.\nNikita Maiorov (1985)\, a Belarus Grandmaster. \nCHESS EVENTS \n1954 Czechoslovakia won the first World Student Team Championship\, in Oslo\, Norway. \nWORLD EVENTS \n1764 The English Parliament banned the American colonies from printing paper money.\n1892 The prototype of the first commercially successful American automobile was completed in Springfield\, Mass.\, by Charles E. Duryea and his brother Frank.\n1906 Pierre Curie\, French physicist\, chemist (Nobel 1903)\, died. Curie was hit by a truck and killed as he crossed a street in Paris.\n1938 General Francisco Franco declared victory in the Spanish Civil War.\n1943 In Warsaw\, Poland\, young Jews under Mordechai Anielewicz directed the 1st urban uprising against the Nazis.\n1968 The Secretary of the National Assembly in Czechoslovakia promised rehabilitation of political prisoners and freedom of the press\, assembly\, and religion.\n1995 At 9:02 A.M. Oklahoma City\, USA\, a large car bomb exploded at the Alfred P. Murrah Federal Building killing 168 people\, and injuring 500 including many children in the building’s daycare center.\n1997 In Bulgaria the United Democratic Forces (UDF) under Ivan Kostov won elections with 52% of the vote.\n1998 In Austria Thomas Klestil was re-elected a president with 63% of the vote.\n1999 The German parliament inaugurated its new home in the restored Reichstag in Berlin\, its prewar capital.\n2005 Cardinal Joseph Ratzinger (78) of Germany became Pope Benedict XVI.\n(Source: Timeline) \nGAME OF THE DAY \n\n\n \n\n\n	\n				[Event "Sigeman & Co 15th"]\n[Site "Malmo"]\n[Date "2007.04.19"]\n[Round "2"]\n[White "Timman\, Jan H"]\n[Black "Hector\, Jonny"]\n[Result "0-1"]\n[ECO "D10"]\n[WhiteElo "2545"]\n[BlackElo "2537"]\n[PlyCount "56"]\n[EventDate "2007.04.18"]\n[EventType "tourn"]\n[EventRounds "9"]\n[EventCountry "SWE"]\n[EventCategory "13"]\n\n1. d4 d5 2. c4 c6 3. Nc3 e5 4. dxe5 d4 5. Ne4 Qa5+ 6. Nd2 Nd7 7. e6 Ne5 8.\nexf7+ Kxf7 9. g3 Nf6 10. Bh3 Bb4 11. Kf1 Re8 12. Nb3 Qa6 13. Nxd4 Bxh3+ 14.\nNxh3 Rad8 15. Qb3 Rxd4 16. Qxb4 Nxc4 17. Qb3 Kf8 18. Nf4 c5 19. Qc2 Qc6 20. Rg1\nNg4 21. Rg2 Qe4 22. Nd3 Qf5 23. Qc3 Nge3+ 24. Kg1 Nxg2 25. Kxg2 Rxe2 26. Nf4\nQe4+ 27. Qf3 Qxf3+ 28. Kxf3 Re1 0-1\n				\n			You must activate JavaScript to enhance chess game visualization.		\n	\n	\n	\n		jQuery(document).ready(function($) {\n						$.chessgame.navigationButtonClass  = 'rpbchessboard-jQuery-enableSmoothness';\n			$.chessgame.navigationFrameClass   = 'wp-dialog';\n			$.chessgame.navigationFrameOptions = {"squareSize":32\,"showCoordinates":true\,"colorset":"original"\,"pieceset":"cburnett"\,"animationSpeed":200\,"showMoveArrow":true};\n			var selector = '#' + "rpbchessboard-69e819fc7e719-1" + ' .rpbchessboard-chessgameAnchor';\n			$(selector).removeClass('rpbchessboard-chessgameAnchor').chessgame({"pgn":"[Event \"Sigeman & Co 15th\"]\r\n[Site \"Malmo\"]\r\n[Date \"2007.04.19\"]\r\n[Round \"2\"]\r\n[White \"Timman\, Jan H\"]\r\n[Black \"Hector\, Jonny\"]\r\n[Result \"0-1\"]\r\n[ECO \"D10\"]\r\n[WhiteElo \"2545\"]\r\n[BlackElo \"2537\"]\r\n[PlyCount \"56\"]\r\n[EventDate \"2007.04.18\"]\r\n[EventType \"tourn\"]\r\n[EventRounds \"9\"]\r\n[EventCountry \"SWE\"]\r\n[EventCategory \"13\"]\r\n\r\n1. d4 d5 2. c4 c6 3. Nc3 e5 4. dxe5 d4 5. Ne4 Qa5+ 6. Nd2 Nd7 7. e6 Ne5 8.\r\nexf7+ Kxf7 9. g3 Nf6 10. Bh3 Bb4 11. Kf1 Re8 12. Nb3 Qa6 13. Nxd4 Bxh3+ 14.\r\nNxh3 Rad8 15. Qb3 Rxd4 16. Qxb4 Nxc4 17. Qb3 Kf8 18. Nf4 c5 19. Qc2 Qc6 20. Rg1\r\nNg4 21. Rg2 Qe4 22. Nd3 Qf5 23. Qc3 Nge3+ 24. Kg1 Nxg2 25. Kxg2 Rxe2 26. Nf4\r\nQe4+ 27. Qf3 Qxf3+ 28. Kxf3 Re1 0-1"\,"pieceSymbols":"native"\,"navigationBoard":"above"\,"showFlipButton":true\,"showDownloadButton":true\,"navigationBoardOptions":{"squareSize":32\,"showCoordinates":true\,"colorset":"original"\,"pieceset":"cburnett"\,"animationSpeed":200\,"showMoveArrow":true}\,"diagramOptions":{"squareSize":32\,"showCoordinates":true\,"colorset":"original"\,"pieceset":"cburnett"\,"animationSpeed":200\,"showMoveArrow":true}});\n		});\n	\n\n\n \n\n
URL:https://thechesspedia.net/day/april-19/
CATEGORIES:April
ATTACH;FMTTYPE=image/png:https://thechesspedia.net/wp-content/uploads/2016/07/apr-19.png
END:VEVENT
END:VCALENDAR