
BEGIN:VCALENDAR
VERSION:2.0
PRODID:-//The Chesspedia - ECPv5.1.2.1//NONSGML v1.0//EN
CALSCALE:GREGORIAN
METHOD:PUBLISH
X-WR-CALNAME:The Chesspedia
X-ORIGINAL-URL:https://thechesspedia.net
X-WR-CALDESC:Events for The Chesspedia
BEGIN:VTIMEZONE
TZID:UTC
BEGIN:STANDARD
TZOFFSETFROM:+0000
TZOFFSETTO:+0000
TZNAME:UTC
DTSTART:20160101T000000
END:STANDARD
END:VTIMEZONE
BEGIN:VEVENT
DTSTART;VALUE=DATE:20160411
DTEND;VALUE=DATE:20160412
DTSTAMP:20260423T092747
CREATED:20200410T075301Z
LAST-MODIFIED:20200327T154824Z
UID:19659-1460332800-1460419199@thechesspedia.net
SUMMARY:April 11
DESCRIPTION:QUOTE OF THE DAY\n\nWhen you see a good move\, look for a better one- Emanuel Lasker\n\nBIRTHS \nJohann Berger (1845-1933)\, an Austrian Master and problemist\nNikolay Legky (1955)\, a Ukrainian Grandmaster who is living in France.\nAlexey Yermolinsky (1958); an American Grandmaster born in Russia. A two-time US champion who won the American Continental Championship in 2001.\nKhalifa Al-Hitmi\, (1961)\, a Qatari FIDE Officer\, President of QCf and organizer.\nVladimir Dimitrov (1968)\, a Bulgarian Grandmaster.\nStelios Halkias (1980)\, a Greek Grandmaster who was the bronze medalist at the European U12 championship in 1992.\nAram Gazarian (1983)\, a Russian Grandmaster.\nTatania Kosintseva (1986)\, a Russian Grandmaster and Woman Grandmaster. A two-time European women’s champion and three-time Russian women’s champion. \nDEATHS \nHenry Bird (14.07.1830-1908)\, an English player\, theorist\, and writer. \nCHESS EVENTS \n1950 According to the regulations approved at the 1949 GA in Paris\, the participants of the Candidates Tournament would be the five winners of the Interzonals together with the participants from the match-tournament of 1948 and R. Fine USA. However\, the American players canceled out because the State Department refused to grant them permission to travel to Hungary. Also\, Max Euwe had to decline.\nGiven the situation\, FIDE decided to include in the list of participants the four players who took 6th to 9th places at the Interzonals. The Candidates Tournament started with 10 players in Budapest. \nWORLD EVENTS \n1689 William III and Mary II are crowned as joint sovereigns of Great Britain.\n1868 Former Shogun Tokugawa Yoshinobu surrenders Edo Castle to Imperial forces\, marking the end of the Tokugawa shogunate.\n1909 The city of Tel Aviv is founded.\n1921 Emir Abdullah establishes the first centralicentralizedent in the newly created British protectorate of Transjordan.\n1957 The United Kingdom agrees to Singaporean self-rule.\n1961 The trial of the Nazi Adolf Eichmann begins in Jerusalem.\n1976 The Apple I is created.\n1979 Ugandan dictator Idi Amin is deposed.\n2019 WikiLeaks co-founder Julian Assange is arrested after seven years in Ecuador’s embassy in London.\n(Source: Wikipedia and Onthisday) \nGAME OF THE DAY \n\n\n \n\n\n	\n				[Event "New York"]\n[Site "New York"]\n[Date "1924.04.11"]\n[Round "18"]\n[White "Marshall\, Frank James"]\n[Black "Bogoljubow\, Efim"]\n[Result "1-0"]\n[ECO "D52"]\n[PlyCount "83"]\n[EventDate "1924.03.16"]\n[EventType "tourn"]\n[EventRounds "22"]\n[EventCountry "USA"]\n1. d4 Nf6 2. Nf3 e6 3. Bg5 d5 4. e3 Nbd7 5. c4 c6 6. cxd5 exd5 7. Nc3 Qa5 8.\nBd3 Ne4 9. Qc2 Nxg5 10. Nxg5 h6 11. Nf3 Be7 12. O-O O-O 13. a3 Qd8 14. Rae1 a5\n15. Qe2 Nf6 16. Ne5 Bd6 17. f4 c5 18. Bb1 Bd7 19. Qc2 Bc6 20. dxc5 Bxc5 21. Kh1\nRe8 22. e4 Bd4 23. Nxc6 bxc6 24. e5 Ng4 25. Qh7+ Kf8 26. g3 Qb6 27. Bf5 Nf2+\n28. Rxf2 Bxf2 29. Qh8+ Ke7 30. Qxg7 Kd8 31. Qf6+ Re7 32. e6 Bd4 33. exf7 Bxf6\n34. f8=Q+ Kc7 35. Rxe7+ Bxe7 36. Qxa8 Kd6 37. Qh8 Qd8 38. Qe5+ Kc5 39. Na4+ Kc4\n40. Qc3+ Kb5 41. Bd3+ Kxa4 42. Qc2# 1-0\n				\n			You must activate JavaScript to enhance chess game visualization.		\n	\n	\n	\n		jQuery(document).ready(function($) {\n						$.chessgame.navigationButtonClass  = 'rpbchessboard-jQuery-enableSmoothness';\n			$.chessgame.navigationFrameClass   = 'wp-dialog';\n			$.chessgame.navigationFrameOptions = {"squareSize":32\,"showCoordinates":true\,"colorset":"original"\,"pieceset":"cburnett"\,"animationSpeed":200\,"showMoveArrow":true};\n			var selector = '#' + "rpbchessboard-69e9e6130e7ec-1" + ' .rpbchessboard-chessgameAnchor';\n			$(selector).removeClass('rpbchessboard-chessgameAnchor').chessgame({"pgn":"[Event \"New York\"]\r\n[Site \"New York\"]\r\n[Date \"1924.04.11\"]\r\n[Round \"18\"]\r\n[White \"Marshall\, Frank James\"]\r\n[Black \"Bogoljubow\, Efim\"]\r\n[Result \"1-0\"]\r\n[ECO \"D52\"]\r\n[PlyCount \"83\"]\r\n[EventDate \"1924.03.16\"]\r\n[EventType \"tourn\"]\r\n[EventRounds \"22\"]\r\n[EventCountry \"USA\"]\r\n1. d4 Nf6 2. Nf3 e6 3. Bg5 d5 4. e3 Nbd7 5. c4 c6 6. cxd5 exd5 7. Nc3 Qa5 8.\r\nBd3 Ne4 9. Qc2 Nxg5 10. Nxg5 h6 11. Nf3 Be7 12. O-O O-O 13. a3 Qd8 14. Rae1 a5\r\n15. Qe2 Nf6 16. Ne5 Bd6 17. f4 c5 18. Bb1 Bd7 19. Qc2 Bc6 20. dxc5 Bxc5 21. Kh1\r\nRe8 22. e4 Bd4 23. Nxc6 bxc6 24. e5 Ng4 25. Qh7+ Kf8 26. g3 Qb6 27. Bf5 Nf2+\r\n28. Rxf2 Bxf2 29. Qh8+ Ke7 30. Qxg7 Kd8 31. Qf6+ Re7 32. e6 Bd4 33. exf7 Bxf6\r\n34. f8=Q+ Kc7 35. Rxe7+ Bxe7 36. Qxa8 Kd6 37. Qh8 Qd8 38. Qe5+ Kc5 39. Na4+ Kc4\r\n40. Qc3+ Kb5 41. Bd3+ Kxa4 42. Qc2# 1-0"\,"pieceSymbols":"native"\,"navigationBoard":"above"\,"showFlipButton":true\,"showDownloadButton":true\,"navigationBoardOptions":{"squareSize":32\,"showCoordinates":true\,"colorset":"original"\,"pieceset":"cburnett"\,"animationSpeed":200\,"showMoveArrow":true}\,"diagramOptions":{"squareSize":32\,"showCoordinates":true\,"colorset":"original"\,"pieceset":"cburnett"\,"animationSpeed":200\,"showMoveArrow":true}});\n		});\n	\n\n\n \n\n  \n  \n
URL:https://thechesspedia.net/day/april-11/
CATEGORIES:April
ATTACH;FMTTYPE=image/png:https://thechesspedia.net/wp-content/uploads/2016/07/apr-11.png
END:VEVENT
END:VCALENDAR