
BEGIN:VCALENDAR
VERSION:2.0
PRODID:-//The Chesspedia - ECPv5.1.2.1//NONSGML v1.0//EN
CALSCALE:GREGORIAN
METHOD:PUBLISH
X-WR-CALNAME:The Chesspedia
X-ORIGINAL-URL:https://thechesspedia.net
X-WR-CALDESC:Events for The Chesspedia
BEGIN:VTIMEZONE
TZID:UTC
BEGIN:STANDARD
TZOFFSETFROM:+0000
TZOFFSETTO:+0000
TZNAME:UTC
DTSTART:20160101T000000
END:STANDARD
END:VTIMEZONE
BEGIN:VEVENT
DTSTART;VALUE=DATE:20160410
DTEND;VALUE=DATE:20160411
DTSTAMP:20260423T095917
CREATED:20170409T075154Z
LAST-MODIFIED:20170410T131309Z
UID:19657-1460246400-1460332799@thechesspedia.net
SUMMARY:April 10
DESCRIPTION:QUOTE OF THE DAY\n\nFischer wanted to prove that all world championship games after his victory were prearranged. He did not convince me.- Vishy Anand\, 2008\nBIRTHS \nErik Andersen (1904 27.02 1938) a Danish Master who was twelve-times Danish Champion.\nRobert G. Wade (1921 a New Zealander International Master and author who was national Champion and twice the winner of the British Championships.\nViacheslav Dydyshko (1949)\, a Belarus Grandmaster.\nElizbar Ubilava (1950)\, a Georgian Grandmaster who worked with Ioseliani\, Karpov\, and Anand.\nMichel Caillaud Michel (1957)\, a French Problemist\nElmar Magerramov (10.04.1958)\, an Azeri grandmaster who shared first place in the last USSR Chess Championship.\nAlexander Huzmander (1962)\, an Israeli Grandmaster born in Russia. The coach of Boris Gelfand for the last 15 years.\nDmitry Kryakvin (1984)\, a Russian Grandmaster. \nDEATH \nSam Loyd (30.01.1841-1911)\, a famous American composer who created more than thousands of chess problems which many of them got prizes. \nCHESS EVENT \n1921 In Havana\, J.R. Capablanca is declared World Champion after beating Emanuel Lasker 9-5. \nWORLD EVENTS \n879 – Louis III and Carloman II become Kings of the Western Franks.\n1516 1st Jewish ghetto established: Venice compels Jews to live in a specific area\n1815 The Mount Tambora volcano begins a three-month-long eruption\, lasting until July 15. The eruption ultimately kills 71\,000 people\n1821 Patriarch Gregory V of Constantinople is hanged by the Ottoman government f\n1858 After the original Big Ben\, a 14.5 tonnes (32\,000 lb) bell for the Palace of Westminster\, had cracked during testing\, it is recast into the current 13.76 tonnes (30\,300 lb) bell by Whitechapel Bell Foundry.\n1864 Austrian Archduke Maximilian becomes Maximilian I\, Emperor of Mexico\n1912 RMS Titanic sets sail from Southampton\, England on her maiden and only voyage.\n1932 Paul von Hindenburg is re-elected President of Germany in a runoff election against Adolf Hitler\n1938 Austria becomes a state of Germany.\n1970 Paul McCartney announces that he is leaving The Beatles for personal and professional reasons.\n1974 Yitzhak Rabin replaces resigning Israeli PM Golda Meir.\n2010 Polish Air Force Tu-154M crashes near Smolensk\, Russia\, killing all 96 people on board including President Lech Kaczyński.\n(Source: Wikipedia and Onthisday) \nGAME OF THE DAY \n\n\n \n\n\n	\n				[Event "EU-ch 7th"]\n[Site "Kusadasi"]\n[Date "2006.04.10"]\n[Round "7"]\n[White "Kotanjian\, Tigran"]\n[Black "David\, Alberto"]\n[Result "1-0"]\n[ECO "E94"]\n[WhiteElo "2471"]\n[BlackElo "2591"]\n[PlyCount "41"]\n[EventDate "2006.04.04"]\n[EventType "swiss"]\n[EventRounds "13"]\n[EventCountry "TUR"]\n1. d4 Nf6 2. c4 g6 3. Nc3 Bg7 4. e4 d6 5. Nf3 O-O 6. Be2 e5 7. O-O Na6 8. Be3\nNg4 9. Bg5 Qe8 10. dxe5 dxe5 11. c5 Nxc5 12. Nd5 Ne6 13. Be7 c6 14. Bxf8 Qxf8\n15. Nc3 Qe7 16. h3 Nh6 17. Bc4 f6 18. Nd5 Qd7 19. Nf4 Qxd1 20. Rfxd1 exf4 21.\nNd4 1-0\n				\n			You must activate JavaScript to enhance chess game visualization.		\n	\n	\n	\n		jQuery(document).ready(function($) {\n						$.chessgame.navigationButtonClass  = 'rpbchessboard-jQuery-enableSmoothness';\n			$.chessgame.navigationFrameClass   = 'wp-dialog';\n			$.chessgame.navigationFrameOptions = {"squareSize":32\,"showCoordinates":true\,"colorset":"original"\,"pieceset":"cburnett"\,"animationSpeed":200\,"showMoveArrow":true};\n			var selector = '#' + "rpbchessboard-69e9ed75b0ba2-1" + ' .rpbchessboard-chessgameAnchor';\n			$(selector).removeClass('rpbchessboard-chessgameAnchor').chessgame({"pgn":"[Event \"EU-ch 7th\"]\r\n[Site \"Kusadasi\"]\r\n[Date \"2006.04.10\"]\r\n[Round \"7\"]\r\n[White \"Kotanjian\, Tigran\"]\r\n[Black \"David\, Alberto\"]\r\n[Result \"1-0\"]\r\n[ECO \"E94\"]\r\n[WhiteElo \"2471\"]\r\n[BlackElo \"2591\"]\r\n[PlyCount \"41\"]\r\n[EventDate \"2006.04.04\"]\r\n[EventType \"swiss\"]\r\n[EventRounds \"13\"]\r\n[EventCountry \"TUR\"]\r\n1. d4 Nf6 2. c4 g6 3. Nc3 Bg7 4. e4 d6 5. Nf3 O-O 6. Be2 e5 7. O-O Na6 8. Be3\r\nNg4 9. Bg5 Qe8 10. dxe5 dxe5 11. c5 Nxc5 12. Nd5 Ne6 13. Be7 c6 14. Bxf8 Qxf8\r\n15. Nc3 Qe7 16. h3 Nh6 17. Bc4 f6 18. Nd5 Qd7 19. Nf4 Qxd1 20. Rfxd1 exf4 21.\r\nNd4 1-0"\,"pieceSymbols":"native"\,"navigationBoard":"above"\,"showFlipButton":true\,"showDownloadButton":true\,"navigationBoardOptions":{"squareSize":32\,"showCoordinates":true\,"colorset":"original"\,"pieceset":"cburnett"\,"animationSpeed":200\,"showMoveArrow":true}\,"diagramOptions":{"squareSize":32\,"showCoordinates":true\,"colorset":"original"\,"pieceset":"cburnett"\,"animationSpeed":200\,"showMoveArrow":true}});\n		});\n	\n\n\n \n\n. \n
URL:https://thechesspedia.net/day/april-10/
CATEGORIES:April
ATTACH;FMTTYPE=image/png:https://thechesspedia.net/wp-content/uploads/2016/07/apr-10.png
END:VEVENT
END:VCALENDAR